BEGIN:VCALENDAR
VERSION:2.0
PRODID:-//https://techplay.jp//JP
CALSCALE:GREGORIAN
METHOD:PUBLISH
X-WR-CALDESC:新卒採用にSNSを活用しよう！企業が今取り組
 むべき施策とは
X-WR-CALNAME:新卒採用にSNSを活用しよう！企業が今取り組
 むべき施策とは
X-WR-TIMEZONE:Asia/Tokyo
BEGIN:VTIMEZONE
TZID:Asia/Tokyo
BEGIN:STANDARD
DTSTART:19700101T000000
TZOFFSETFROM:+0900
TZOFFSETTO:+0900
TZNAME:JST
END:STANDARD
END:VTIMEZONE
BEGIN:VEVENT
UID:966365@techplay.jp
SUMMARY:新卒採用にSNSを活用しよう！企業が今取り組むべ
 き施策とは
DTSTART;TZID=Asia/Tokyo:20241219T130000
DTEND;TZID=Asia/Tokyo:20241219T134000
DTSTAMP:20260421T014821Z
CREATED:20241204T063608Z
DESCRIPTION:イベント詳細はこちら\nhttps://techplay.jp/event/96636
 5?utm_medium=referral&utm_source=ics&utm_campaign=ics\n\n新卒採用にS
 NSを活用しよう！企業が今取り組むべき施策とは\nセミ
 ナーの目的\n・今、SNSに取り組むべき理由がわかりま
 す。・新卒採用にSNSを活用する方法がわかります。・
 今日から始められる採用施策のヒントが得られます。\
 n\n\n\n内容\n\n\n\n\n\n1.\n今、採用にSNSを活用すべき理由\n
 \n\n2.\nSNSを活用した採用成功事例\n\n\n3.\n今日から始め
 られる採用施策\n\n\n4.\nTOPPANクロレがご支援できること
 \n\n\n\n\n＼新卒採用の新常識！SNSで採用競争を勝ち抜こ
 う／\n採用について、下記のようなお悩みはありませ
 んか？\n・応募者が集まらない・選考や内定を辞退さ
 れる・人手不足で採用担当の業務負荷が重い\n従来の
 採用活動に限界を感じている企業様におすすめしたい
 のが、SNSの活用です！今回のウェビナーでは、成功事
 例も交えて採用にSNSを活用する方法や、取り組む手順
 をご紹介します。\n母集団形成や歩留り改善に有効な
 施策を知りたい方、就活生と採用サイトやナビサイト
 以外の接点を持ちたい方、採用にSNSを活用したい方は
 ぜひご参加ください！\n※12月17日配信の再放送です。\
 n登壇者\n渡部 路未\nTOPPANクロレ株式会社　セールスサ
 ポート部\n2022年入社。上級SNSエキスパート。\n2023年4月
 からTOPPANクロレのマーケティング部門に所属し、コー
 ポレートサイトとサービスサイト「クロレDIGITAL」を担
 当。Instagram、ウェビナー、メルマガ、SEOコラムなど、
 様々な施策に取り組む。\n\n参加費\n無料\n対象者\n・母
 集団形成や歩留り改善に有効な施策を知りたい採用担
 当者様・就活生と採用サイトやナビサイト以外の接点
 を持ちたい企業様・採用にSNSを活用したい企業様\n参
 加方法\n1.　お申込み直後、「TECH PLAY」から予約確認メ
 ールが届きます。特に操作は必要ございません。2.　
 配信日の当日午前中までには、ウェビナーツール「zoom
 」から予約完了メールが届きます。当日は「zoom」から
 のメールに添付されたURLからご入場ください。\n注意
 事項\n＜ご協力のお願い＞\n\n有線LAN接続、または安定
 したWi-Fi環境下で受講ください。\n何らかの理由で通信
 が中断してしまう可能性がございますが、ご了承くだ
 さい。\n参加方法については、後日お申込みいただい
 た方へ個別にご連絡させていただきます。\n
LOCATION:
URL:https://techplay.jp/event/966365?utm_medium=referral&utm_source=ics&utm
 _campaign=ics
END:VEVENT
END:VCALENDAR
