BEGIN:VCALENDAR
VERSION:2.0
PRODID:-//https://techplay.jp//JP
CALSCALE:GREGORIAN
METHOD:PUBLISH
X-WR-CALDESC:【東京／現地開催！】データ系人材×テック企
 業Meetup！~テックミンラウンジ#4～
X-WR-CALNAME:【東京／現地開催！】データ系人材×テック企
 業Meetup！~テックミンラウンジ#4～
X-WR-TIMEZONE:Asia/Tokyo
BEGIN:VTIMEZONE
TZID:Asia/Tokyo
BEGIN:STANDARD
DTSTART:19700101T000000
TZOFFSETFROM:+0900
TZOFFSETTO:+0900
TZNAME:JST
END:STANDARD
END:VTIMEZONE
BEGIN:VEVENT
UID:966372@techplay.jp
SUMMARY:【東京／現地開催！】データ系人材×テック企業Me
 etup！~テックミンラウンジ#4～
DTSTART;TZID=Asia/Tokyo:20241219T190000
DTEND;TZID=Asia/Tokyo:20241219T210000
DTSTAMP:20260420T125358Z
CREATED:20241204T121523Z
DESCRIPTION:イベント詳細はこちら\nhttps://techplay.jp/event/96637
 2?utm_medium=referral&utm_source=ics&utm_campaign=ics\n\n【東京／現
 地開催！】データ系人材×テック企業Meetup！~テックミ
 ンラウンジ#4～\nイベントについて\n本イベントは、ク
 ライアントと手を取り合い、AIを世の中に加速度的に
 普及させることを目的としたスタートアップ企業、ア
 ポロ株式会社が主催するミートアップイベントです。
 オフラインで開催いたします。\nイベントでは、スタ
 ートアップやコンサルティングファームなどの企業が
 登壇し、各企業での技術的な取り組み内容などについ
 てお話いただきます。懇親会は各参加企業の登壇者、
 現場の方とフランクにお話できる場となっております
 。\n分析業務に携わっており、「様々な企業の話を聞
 いてみたい、他企業で活躍するデータサイエンティス
 トと話してみたい」という方は、ぜひご参加ください
 。皆様と情報交換をしながら楽しく交流できたらいい
 なと思っています！懇親会は各参加企業の登壇者、現
 場の方とフランクにお話できる場となっております。\
 nこんな方におすすめ!\n\nエンジニア・データサイエン
 ティストが活躍している企業の話を聞きたい\nエンジ
 ニア・データサイエンティストとして相談できる仲間
 を増やしたい\n\nイベント参加者の声\n前回のイベント
 後に行ったアンケートでは、イベントに対する満足度
 として5段階中4.5という高評価をいただいております。
 \n\n参加企業の人とだけではなく参加者の人ともお話し
 、皆さんどういう仕事でどういうデータ分析をしてい
 るのかといった話を聞けたのが面白かったです。\n〇
 〇社の人と話をしたいと要望を伝えたところ、すぐに
 繋いでいただけたのがありがたかったです。\n\n過去の
 イベントの様子\n詳しくはこちらのイベントレポート
 をご覧ください。https://note.com/apollo132/n/ne022e314eb70https:/
 /note.com/apollo132/n/ndae637aea0fa\n概要\n■開催日時2024年12月1
 9日（木）19:00~21:00※終了時刻は前後する場合がござい
 ます\n■開催場所〒150-0011 東京都渋谷区東1丁目26番20号
  東京建物東渋谷ビル4階 株式会社YOUTRUST様オフィス渋
 谷駅新南口より徒歩5分\nタイムスケジュール\n\n\n\n時
 間\n内容\n\n\n\n\n18:45〜\n受付開始\n\n\n19:00〜19:05\nオープ
 ニング\n\n\n19:05〜20:00\n各参加企業からの発表\n\n\n20:00
 〜21:00\n懇親会\n\n\n\n※ 当日予告なく時間配分・内容が
 変更になる可能性がございます。\n参加対象\n\nLLMエン
 ジニア\nデータサイエンティスト\nデータアナリスト\n
 データエンジニア\n機械学習エンジニア\nLLMエンジニア
 等のデータ系職種の方※参加対象職種・業務に従事し
 ていない方は、ご参加をお断りさせて頂くことがあり
 ます。予めご了承ください。\n\n\n参加費\n無料\n参加企
 業\n株式会社YOUTRUST様\n株式会社YOUTRUSTは、日本のキャ
 リアSNSおよびネットワークリクルーティングサービス
 のYOUTRUST（ユートラスト）を開発・運営しています。YO
 UTRUSTは、日本で働くすべての人のためのキャリアSNSで
 す。仕事仲間とのつながり形成、プロフィールの掲載
 、タイムラインへの投稿、副業や転職意欲の共有など
 を通じて、新たな出会いを創出する場として活用いた
 だけます。友人・知人とのつながりはもちろん、コミ
 ュニティへの参加をきっかけにネットワークを広げる
 ことでキャリアの可能性を切り拓いていける、ネット
 ワーク型のプラットフォームです。\nエムシーデジタ
 ル株式会社様\nエムシーデジタルは、三菱商事株式会
 社の100％出資により設立されたテクノロジーカンパニ
 ーです。デジタル化によって社会はますます高度に複
 雑化しています。当社は、このような変化に悩む企業
 に対し、テクノロジーをもって課題を解決するプロフ
 ェッショナル集団です。三菱商事が手がける全産業を
 フィールドに、進歩を加速させるデジタルプラットフ
 ォームを構築していきます。\nアポロ株式会社\n私たち
 は、コンサルタント・サイエンティスト・エンジニア
 が属する専門家集団として、大手企業に対して業務支
 援サービスを提供しています。ただしそれだけではな
 く、クライアントとともにAIソリューションを開発・
 販売するビジネスも行っています。ただ構想・戦略を
 描くだけでもなく、ただ分析を行うだけでもなく、た
 だモノ作りをするだけでもなく、クライアントと手を
 取り合い、AIを世の中に加速度的に普及させることを
 目的としたスタートアップ企業です。\n注意事項\n\n本
 イベントへお申込みいただいた方は、弊社の人材紹介
 サービス（テックミン旧APOLLO STAFFING SERVICE）へご登録
 いただいたものとします。 （登録や利用にあたり費用
 は一切かかりません。） 利用規約、プライバシーポリ
 シーをご確認の上、お申込みをお願いいたします。\n
 ご参加いただくにあたりご提供いただいた情報を、参
 加企業様へ事前にお伝えする可能性がございます。ま
 た、その情報をもとにイベント終了後に参加企業様か
 ら参加者様へ直接ご連絡が届く場合がございます。\n
 参加対象職種・業務に従事していない方は、ご参加を
 お断りさせて頂くことがあります。その際は弊社担当
 よりメールにてご連絡いたします。\n本イベントの録
 画・録音は禁止いたします。\nオフライン会場にてイ
 ベントの様子をカメラで撮影しており、ご参加者様が
 写る可能性がございます。\nリクルーティング、勧誘
 など、採用目的でのイベント参加はお断りしておりま
 す。\n欠席される場合は、お手数ですが速やかにキャ
 ンセルのご連絡をお願いいたします。\n個人情報取扱
 いについてプライバシーポリシーに定める利用目的に
 必要な範囲で利用し、当社が責任をもって厳格に管理
 いたします。※上記事項に同意の上、お申し込みをお
 願いいたします。\n\n主催・問い合わせ\nアポロ株式会
 社有料職業紹介事業許可番号：13-ユ-314708労働者派遣事
 業許可番号：派13-316358dx-staffing@apol.co.jp
LOCATION:株式会社YOUTRUST 〒150-0011 東京都渋谷区東1丁目26番
 20号 東京建物東渋谷ビル4階
URL:https://techplay.jp/event/966372?utm_medium=referral&utm_source=ics&utm
 _campaign=ics
END:VEVENT
END:VCALENDAR
