BEGIN:VCALENDAR
VERSION:2.0
PRODID:-//https://techplay.jp//JP
CALSCALE:GREGORIAN
METHOD:PUBLISH
X-WR-CALDESC:現場を知るプロから学ぶ！WEBキャンペーンの
 参加数を伸ばす仕掛け作り
X-WR-CALNAME:現場を知るプロから学ぶ！WEBキャンペーンの
 参加数を伸ばす仕掛け作り
X-WR-TIMEZONE:Asia/Tokyo
BEGIN:VTIMEZONE
TZID:Asia/Tokyo
BEGIN:STANDARD
DTSTART:19700101T000000
TZOFFSETFROM:+0900
TZOFFSETTO:+0900
TZNAME:JST
END:STANDARD
END:VTIMEZONE
BEGIN:VEVENT
UID:966451@techplay.jp
SUMMARY:現場を知るプロから学ぶ！WEBキャンペーンの参加
 数を伸ばす仕掛け作り
DTSTART;TZID=Asia/Tokyo:20241212T120000
DTEND;TZID=Asia/Tokyo:20241212T130000
DTSTAMP:20260423T150730Z
CREATED:20241205T072835Z
DESCRIPTION:イベント詳細はこちら\nhttps://techplay.jp/event/96645
 1?utm_medium=referral&utm_source=ics&utm_campaign=ics\n\nYoutube LIVEで
 の配信となりますので、アーカイブ視聴が可能です。
 リアルタイムのご参加が難しい場合にもお申し込みく
 ださいませ！\n--お昼時間のお供に、最新のデジタルプ
 ロモーション知識を身につけませんか🙋‍♀️？キャ
 ンペーン提案や企画に欠かせない、トレンド事例をま
 るっと解説！今年の10-11月に行われたプロモーション
 を、キャンペーンづくりのプロが解説いたします！(202
 4年11月28日開催分と同内容となります。)\n✅イベント
 概要NONAME Produceは、SNS/WEBプロモーションに強い制作会
 社です。これまで200以上の企画・制作を行なって参り
 ました経験を活かし、世の中のプロモーション事例を
 日々研究することで常に最新の知識を発信し続けてい
 ます。\n今回のYouTubeLIVEでは、今年行われた選りすぐり
 のキャンペーン事例をピックアップし、どこよりも詳
 しく解説いたします！配信中に、コメント欄からのご
 質問にお答えすることも予定しております。休憩時間
 のお供に、お気軽にご参加ください！\n✏️解説予定
 の事例\n👤こんな方におすすめ・Web&SNSキャンペーンの
 トレンドを知りたい方・Web&SNSキャンペーン提案/企画
 をされている方・広告代理店勤務の方・自社のWeb&SNSキ
 ャンペーンに課題を感じている方\n📆日時2024年12月12
 日(木)12:00-\n🌍 会場当日はYouTube Liveでの配信を予定し
 ております。お申し込みいただきますと、配信がご覧
 いただけるようになります。\n🎤 登壇者株式会社NONAME
  Produce代表　村上烈\n早稲田大学在学中デザインやWEB・
 イベントに関して独学で学び、在学中に株式会社NONAME 
 Produceを設立。デジタルプロモーション領域におけるク
 リエイティブおよび広告制作を行ってきました。その
 中でもコミュニケーション戦略や、キャンペーンシス
 テムの設計を得意とし、 クリエイティブディレクター
 としてキャンペーンの企画・制作進行をおこなってい
 ます。「どうしたら伝わるのか」「説得力ある伝わり
 方」などを整理整頓と想像力を使いながら形にしてお
 ります。お酒とマンガとプロレスが好き\nお気軽にご
 参加くださいませ！
LOCATION:
URL:https://techplay.jp/event/966451?utm_medium=referral&utm_source=ics&utm
 _campaign=ics
END:VEVENT
END:VCALENDAR
