BEGIN:VCALENDAR
VERSION:2.0
PRODID:-//https://techplay.jp//JP
CALSCALE:GREGORIAN
METHOD:PUBLISH
X-WR-CALDESC:＜高松市開催＞AIセミナー
X-WR-CALNAME:＜高松市開催＞AIセミナー
X-WR-TIMEZONE:Asia/Tokyo
BEGIN:VTIMEZONE
TZID:Asia/Tokyo
BEGIN:STANDARD
DTSTART:19700101T000000
TZOFFSETFROM:+0900
TZOFFSETTO:+0900
TZNAME:JST
END:STANDARD
END:VTIMEZONE
BEGIN:VEVENT
UID:966453@techplay.jp
SUMMARY:＜高松市開催＞AIセミナー
DTSTART;TZID=Asia/Tokyo:20250120T110000
DTEND;TZID=Asia/Tokyo:20250120T120000
DTSTAMP:20260421T165417Z
CREATED:20241205T073509Z
DESCRIPTION:イベント詳細はこちら\nhttps://techplay.jp/event/96645
 3?utm_medium=referral&utm_source=ics&utm_campaign=ics\n\n概要\n＜高
 松市開催＞メタバースAIセミナーＡＩはよくニュース
 では取り上げられられているものの、結局のところ難
 しくてよくわからない。自分や職場においてどんな活
 用ができるのかわからない、という企業の皆さんのた
 めに、実際の活用事例のご紹介など、ＡＩを身近に感
 じていただくためのセミナーとなっております。初心
 者の皆様に分かりやすくご説明いたします！終了後に
 ご希望の方は個別相談のお時間も設けますのでお気軽
 にお声掛けください。\n※同業者さまにはご参加をご
 遠慮頂いております。申し訳ございませんが、ご理解
 のほど宜しくお願い致します。※本セミナーには事前
 のお申し込みが必要です。\n＜開催日＞開催日：2025年1
 月20日（月）11:00〜12:00＠サンメッセ香川 小会議室1参
 加特典：個別相談　(希望者のみ)\n登壇者\n\nジョブプ
 ロジェクト株式会社　副社長 ジョブプロDXステーショ
 ン長\n越智 克枝\n慶應義塾大学大学院 政策・メディア
 研究科修士課程卒業\nMarsJAPAN、株式会社湖池屋でマー
 ケティングを経て、2007年からリクルートにて新規事業
 開発だけを11年間。その間、オイシックスや電通の合
 弁会社にて事業をマネジメント。\nマーケティング歴
 １８年、新規事業開発歴１６年、通販・EC事業歴１４
 年。\n2019年よりジョブプロジェクト株式会社　取締役
 就任\nマーケティングや新規事業などセミナー登壇多
 数\n東京本社にリモートワークしながら愛媛に住み県
 内のクライアントとお仕事中。\n静岡県出身　夫・娘
 二人と愛媛県四国中央市在住\n\n参加対象\n\n商店や店
 舗などを運営される個人事業主、企業にお勤めの方、
 自治体にお勤めの方 広告・PRなどによって今より多く
 のお客様を集客されたい方 会社をより大きく成長させ
 たい経営者の方 人事や総務などで採用のご担当者様 
 企画やマーケティングのご担当者様 ※同業者さまには
 ご参加をご遠慮頂いております。\n\n参加費\n無料\n注
 意事項\n\nリクルーティング、勧誘など、採用目的での
 イベント参加はお断りしております。\nキャンセル待
 ち・補欠・落選の方はご参加いただくことが出来ませ
 んのでご了承ください。\n欠席される場合は、お手数
 ですが速やかにキャンセル処理をお願い致します。\n
 無断キャンセルや欠席が続く場合、次回以降の参加を
 お断りさせていただく場合がございます。\n同業者様
 にはご参加をご遠慮いただいております。\n法人限定
 になっております。\n
LOCATION:サンメッセ香川 小会議室1 高松市林町2217-1
URL:https://techplay.jp/event/966453?utm_medium=referral&utm_source=ics&utm
 _campaign=ics
END:VEVENT
END:VCALENDAR
