BEGIN:VCALENDAR
VERSION:2.0
PRODID:-//https://techplay.jp//JP
CALSCALE:GREGORIAN
METHOD:PUBLISH
X-WR-CALDESC:12/25(水)開催【GA4セミナー】コンバージョン数
 を最大化するためのGA4サイト分析の仕方［無料オンラ
 インウェビナー］
X-WR-CALNAME:12/25(水)開催【GA4セミナー】コンバージョン数
 を最大化するためのGA4サイト分析の仕方［無料オンラ
 インウェビナー］
X-WR-TIMEZONE:Asia/Tokyo
BEGIN:VTIMEZONE
TZID:Asia/Tokyo
BEGIN:STANDARD
DTSTART:19700101T000000
TZOFFSETFROM:+0900
TZOFFSETTO:+0900
TZNAME:JST
END:STANDARD
END:VTIMEZONE
BEGIN:VEVENT
UID:966560@techplay.jp
SUMMARY:12/25(水)開催【GA4セミナー】コンバージョン数を最
 大化するためのGA4サイト分析の仕方［無料オンライン
 ウェビナー］
DTSTART;TZID=Asia/Tokyo:20241225T130000
DTEND;TZID=Asia/Tokyo:20241225T140000
DTSTAMP:20260421T113202Z
CREATED:20241206T075454Z
DESCRIPTION:イベント詳細はこちら\nhttps://techplay.jp/event/96656
 0?utm_medium=referral&utm_source=ics&utm_campaign=ics\n\n【GA4セミナ
 ー】コンバージョン数を最大化するためのGA4サイト分
 析の仕方［無料オンラインウェビナー］\nWebマーケテ
 ィングのバリューエージェントでは、GA4を使ったサイ
 ト改善のための利用方法セミナーを開催することにな
 りました。\n今回の「コンバージョン数を最大化する
 ためのGA4サイト分析の仕方」の対象者はこんな方です
 。\n✔︎ GA4のレポートはいつも見てる✔︎ データ探索
 も使ったことがある✔︎サイト改善のためにGA4をどう
 使えばいいか分からない✔︎サイト分析に役立てる探
 索をどう作ればいいかわからない\n中小企業のウェブ
 担当者、広告代理店やホームページ制作会社に勤務し
 ている方、中小企業の社長、士業やフリーランスの方
 でGA4をサイト改善につなげる方法がイマイチわからな
 い方なら、どんな方でも来ていただいて結構です。\n
 セミナーの内容\n\nサイト分析の必要性\nGA4で分かるこ
 と、分からないこと\nサイト分析の前に必要な作業\n分
 析のポイント\n具体的なレポートや探索の見方\n\nセミ
 ナーに来るとこんなことが手にはいります\n\nサイト分
 析とは何か？がわかります\nサイト改善の方向性がわ
 かります\nGA4でできる範囲がわかります\n分析に必要な
 レポートと見方がわかります\nサイト全体の改善に必
 要な探索の具体例がわかります\n\nこのセミナーを通じ
 て、GA4の活用方法を身に付け、ウェブサイトの改善に
 役立てていただければ幸いです。ぜひ、この機会を逃
 さずご参加ください。皆様とお会いできるのを楽しみ
 にしております。ご質問やご不明点がございましたら
 、お気軽にお問い合わせください。\nGA4オンラインセ
 ミナーに参加した人の声\n個人事業主　H.K.様ついつい
 アクセスを稼ぐことばかり考えていましたが、その前
 のマインドセットも重要だということが分かりました
 。話も分かりやすく、聞きやすかったです。\nメディ
 ア制作会社　S.M.様全くGooleアナリティクスのことを知
 らずに来たのですが、とても分かりやすくて、周りの
 方と一緒に学べた感じがして楽しく受講できました。
 ありがとうございました。\n人材業界　M様分析の着眼
 点やGoogleアナリティクスで調査できる概要を理解でき
 ました。 ありがとうございました。\n登壇者\n上野山 
 光雄 (株式会社バリューエージェント)\n\n株式会社バリ
 ューエージェント　代表取締役\nWEBマーケッター/WEBコ
 ンサルタント\n上野山 光雄\n\n専門学校を卒業後、店頭
 公開のITシステム会社にSEとして就職。\nその後建築会
 社の営業で活躍し売上げ100億円超の企業で取締役を3年
 間経験。\n\n2005年に株式会社バリューエージェント設
 立。\nマーケティングシステム、店舗集客、WEBマーケ
 ティング事業で中小企業を中心に500社を超える集客サ
 ービスの導入実績。\n\nセミナー概要・お申込み\nセミ
 ナー名【GA4セミナー】コンバージョン数を最大化する
 ためのGA4サイト分析の仕方［無料オンラインウェビナ
 ー］\n対象\n\nGAで数値を追っているけれど、活用法が
 分からない\nサイト改善にGA4をどう使えばいいか分か
 らない\nサイト分析に役立てる探索をどう作ればいい
 かわからない\n\n日時2024年12月25日(水)　13:00～14:00（12:5
 0受付開始）\n場所オンライン開催\n※メールにて参加
 用のZOOMのURLをお送りします。※出席の確認もございま
 すので、10分前にはご入室頂きますようお願いいたし
 ます。\n参加料無料\n定員30名
LOCATION:
URL:https://techplay.jp/event/966560?utm_medium=referral&utm_source=ics&utm
 _campaign=ics
END:VEVENT
END:VCALENDAR
