BEGIN:VCALENDAR
VERSION:2.0
PRODID:-//https://techplay.jp//JP
CALSCALE:GREGORIAN
METHOD:PUBLISH
X-WR-CALDESC:【1月2日(木)19:00～21:00】【会員限定・初回ビジ
 ターOK】仕事だけじゃなくプライベートでも繋がり友
 達を作るウェブIT・マーケ・クリエイティブ・エンタ
 メ・起業家・経営者の集い【KOBUSHI BEER Salon定例会⑳】
 主催:ビズリンクキャリア 山崎雅文
X-WR-CALNAME:【1月2日(木)19:00～21:00】【会員限定・初回ビジ
 ターOK】仕事だけじゃなくプライベートでも繋がり友
 達を作るウェブIT・マーケ・クリエイティブ・エンタ
 メ・起業家・経営者の集い【KOBUSHI BEER Salon定例会⑳】
 主催:ビズリンクキャリア 山崎雅文
X-WR-TIMEZONE:Asia/Tokyo
BEGIN:VTIMEZONE
TZID:Asia/Tokyo
BEGIN:STANDARD
DTSTART:19700101T000000
TZOFFSETFROM:+0900
TZOFFSETTO:+0900
TZNAME:JST
END:STANDARD
END:VTIMEZONE
BEGIN:VEVENT
UID:966630@techplay.jp
SUMMARY:【1月2日(木)19:00～21:00】【会員限定・初回ビジタ
 ーOK】仕事だけじゃなくプライベートでも繋がり友達
 を作るウェブIT・マーケ・クリエイティブ・エンタメ
 ・起業家・経営者の集い【KOBUSHI BEER Salon定例会⑳】主
 催:ビズリンクキャリア 山崎雅文
DTSTART;TZID=Asia/Tokyo:20250102T190000
DTEND;TZID=Asia/Tokyo:20250102T210000
DTSTAMP:20260419T153446Z
CREATED:20241206T144335Z
DESCRIPTION:イベント詳細はこちら\nhttps://techplay.jp/event/96663
 0?utm_medium=referral&utm_source=ics&utm_campaign=ics\n\n【1月2日(木)
 19:00～21:00】【会員限定・初回ビジターOK】仕事だけじ
 ゃなくプライベートでも繋がり友達を作るウェブIT・
 マーケ・クリエイティブ・エンタメ・起業家・経営者
 の集い【KOBUSHI BEER Salon定例会⑳】主催:ビズリンクキャ
 リア 山崎雅文\n※ビジタートライアル参加受付中です
 ！\n■KOBUSHI BEERサロンの詳細はこちらhttps://kobushi.marketi
 ng/salon\n共通の仕事を頑張る人が集まって繋がる紹介制
 ･会員制のサロン\n❖過去の開催風景https://youtu.be/lHIsFc
 uJ9hc\n◆━━━━━━━━━━━━━━━━━━◆　　
 　　　 こんなイベントです◆━━━━━━━━━━━
 ━━━━━━━◆★フォロワー数：3500人★共通の仕事
 から友達になる★年間参加者：1500人★公式LINE登録者
 【 1700名 】\nビジネスだけではなく趣味やプライベー
 ト、キャリアのことを語れる仲間が欲しくないですか
 ？だけど社会人になると異業種の人とはじめましてで
 話すのはハードルが高い、なので「マーケティング」
 というキーワードで友達を作りませんか？\n◆━━━
 ━━━━━━━━━━━━━━━◆　　　顔が見える
 審査制のイベント◆━━━━━━━━━━━━━━━
 ━━━◆交流会や飲み会は×どんな人かが来るかわか
 らないから不安×人数が多すぎで仲良くなれない×仕事
 だけじゃなくてプライベートの友達も欲しいというマ
 イナスイメージがあります。\nKOBUSHI BEERサロンは〇新
 しい出会いだけでなく深い友人を作りたい〇よりセグ
 メントされた繋がりを作りたい〇不特定ではなく少人
 数で質の担保された集まりを作りたい。というニーズ
 に応えていきます。\n■コミュニティマネージャーが
 サロンメンバーと飲み会を共同企画■会いたい人、繋
 がりたい人をピンポイントで集めた飲み会作り■コミ
 ュニティにはたくさん新規の人がくるので、もちろん
 新しい出会いもたくさん■参加にあたっては審査制、
 紹介制\nといったコンセプトで運営していきます。\n共
 通の仕事を通じて仲間を作りたい人が集まる飲みサー
 クル\n★メリット★①コミュニティマネージャーがサ
 ロンメンバーと飲み会を共同企画②会いたい人、繋が
 りたい人をピンポイントで集めた飲み会作り③コミュ
 ニティにはたくさん新規の人がくるので、もちろん新
 しい出会いもたくさん④参加にあたっては審査制、紹
 介制\n◆━━━━━━━━━━━━━━━━━━◆　
 　　　　　　参加者の職業◆━━━━━━━━━━━
 ━━━━━━━◆👨👩男性&女性の参加者ウェブIT/マ
 ーケティング/クリエティブ/エンタメ/経営者/起業家/
 フリーランス\nなど仕事での共通言語が大人が集まり
 ます\n気軽に食事をとって友達増やす緩い飲み会\n◆━
 ━━━━━━━━━━━━━━━━━◆　　　　　　
 イベントの詳細◆━━━━━━━━━━━━━━━━
 ━━◆●支払い方法Peatix決済の事前払い参加費をお支
 払いください。当日現地払いよりお得に参加いただけ
 ます。\n●定員基本は少人数で着席で開催します。貸
 切ではなくお店の一角を使います。\n●受付方法到着
 したら店の奥のバーカウンターまでお越しください。
 受付スタッフにイベント参加の旨をお申し付けいただ
 ければご案内します。\n会場は渋谷の隠れ家的コワー
 キングスペース\n渋谷限定のクラフトビールKOBUSHI BEER
 をはじめ、100種類以上のカクテルを取り扱っているこ
 とで有名な隠れ家的コワーキングスペースです。レン
 タルスペースやタワマンパーティーのようなプラカッ
 プや缶での提供ではなく、バー営業で使われているオ
 リジナルロゴ入りのビアグラスと氷屋の手作りアイス
 でハイクラスなドリンクを提供します。飲み放題だか
 らといって質の低いパーティーにはしませんのでご安
 心ください。※飲み放題メニューは一部となります。\
 nKOBUSHI BEER LOUNGE & BAR東京都渋谷区道玄坂2-17-2 トップ美
 奄 2F03-6679-3642内観：おしゃれでムーディーなクラフト
 ビールバーです。【目印】：1階のお店はワインバーで
 す。BEERの看板が出ています。そのビルの【2階】です\n
 ●遅刻途中からでも参加できます。ラストオーダーが
 終了の30分前になりますので、それまでにはお越しく
 ださい。\n◆━━━━━━━━━━━━━━━━━━
 ◆　　　　　　イベントの流れ◆━━━━━━━━━
 ━━━━━━━━━◆❶受付開始10分前から受付スタ
 ート。荷物を棚に置いて受付にお越しください。↓❷
 飲み放題スタート飲み放題メニューから選んでドリン
 クカウンターでご注文下さい。グラス交換制になりま
 すのでグラスを無くさない、こぼさない、破損しない
 でお願いします。クラフトビールは通常の55％オフで
 お楽しみいただけます。餃子と焼きそばが順に提供さ
 れます。食べ放題ですがお残しは許されないので食べ
 れる分だけ注文してください。↓❸交流・歓談ゆっく
 り話せる会食スタイルスタッフが席を案内しますので
 基本は着席での案内です。ほとんどありませんが、過
 去に席が無くなってしまった場合は女性優先で座って
 いただきました。↓❹席替え人数次第ですが２～３回
 を予定。話しかけるのが苦手でなかなか会話のきっか
 けがつかめない方はスタッフにお気軽にお伝えくださ
 い。しっかりとサポートをさせていただきます。↓❺
 ラストオーダー終了30分前にラストオーダーになりま
 す。バーテンダーやスタッフからのお声掛けはありま
 せんのでご自身で時間をチェックいただけますようお
 願いいたします。↓❻イベント終了気に入った仲間と2
 次会へ終了後は2次会をそのまま開催します。本編でお
 話しできなかった、もっと話したい人は引き続きキャ
 ッシュオンで楽しんでください。別のお店に行くのもO
 K。追加で飲まない場合は次の予約があるので時間まで
 にご退出をお願いいたします。↓❼アフターフォロー
 イベント後も交流ができる無料コミュニティを用意し
 ています。残念ながら良い出会いがなかった方はお気
 軽にご相談ください。\n◆━━━━━━━━━━━━
 ━━━━━━◆　　　　　　　参加費◆━━━━━━
 ━━━━━━━━━━━━◆・男性 5\,000円(飲み放題
 ＋食事付)※現地現金決済は5\,500円・女性 3\,000円(飲み
 放題＋食事付)※現地現金決済は3\,500円※ビジタートラ
 イアル参加の方も同じ料金で参加いただけます。\n◆
 ━━━━━━━━━━━━━━━━━━◆　　　残念
 ながら日程が合わない方へ◆━━━━━━━━━━━
 ━━━━━━━◆毎日沢山のイベントを企画している
 ので下記URLよりお好みのイベントを探してご参加くだ
 さい。\n他のイベントはコチラ\n◆━━━━━━━━━
 ━━━━━━━━━◆　　　　　　主催者について◆
 ━━━━━━━━━━━━━━━━━━◆渋谷を中心
 にウェブIT系のビジネスコミュニティを運営していま
 す。元音楽業界人で過去には数万人規模のイベントを
 制作した実績もあります。音楽とお酒を通して出会い
 を作りたい。ビジネスもプライベートも充実した時間
 を皆さんに過ごして欲しいという想いの元パーティー
 を運営しています。マナーを守った良識のある、エン
 タメを楽しむ社会人のためのイベントです。レディー
 ファースト精神で素敵なパーティーの運営を目指して
 います。\n質問お問い合わせはコチラから\n●山崎 雅
 文\nビズリンクキャリア\n大学卒業後、主婦(夫)の雇用
 創出を目的とした、株式会社ビー・スタイル(現 株式
 会社ビースタイル ホールディングス(12月27日グロース
 市場に新規上場予定)に入社、営業・営業企画・事業推
 進・採用業務に携わり、ベンチャー企業出身者が大手
 企業でどこまで通用するのかチャレンジすべく、エン
 ・ジャパン株式会社へ転職。営業部門のリーダーとし
 て、人材会社の収益源となるスタッフの集客及び正社
 員の採用支援を担当し、グループ会社含め全社年間売
 上NO.1の実績を残し業績に貢献。その後、IPOに興味を持
 ち、上場をその当時目指していたクックビズ株式会社(
 東証グロース上場)にて、フード産業を人気業種に近づ
 けるべく、食に関わる人材の正社員・アルバイト採用
 支援及び活躍・定着に向けた後方支援を管理職として
 邁進。現在は、N2以上のベンチャー企業を中心に、成
 長中の企業と、エグゼクティブ層に特化したヘッドハ
 ンティング・人材紹介サービスを展開する株式会社ビ
 ズリンクキャリアの事業責任者として転職・採用支援
 を行っております。\n●注意事項\n※しつこいお誘いや
 異性の嫌がる言動や行動は控えてください。悪質な場
 合は途中退場していただきます。※グラスや食器、店
 の設備を破損した場合は破損損害金が必要になります
 ので泥酔してものを壊さないようお願いします。※MLM
 及び宗教関連の方の参加はお断りしております。※売
 買春などの違法行為が発覚した場合は即時に退場いた
 だき以後のイベントへの参加をお断りいたします。※
 本イベントはスタッフがホストとして1名以上の参加者
 で開催します。※友達づくりイベントのため男女比調
 整もいたしません。※お客様都合のキャンセルに対す
 る返金はございません。
LOCATION:KOBUSHI BEER LOUNGE & BAR 東京都渋谷区道玄坂2-17-2トッ
 プ美奄2F
URL:https://techplay.jp/event/966630?utm_medium=referral&utm_source=ics&utm
 _campaign=ics
END:VEVENT
END:VCALENDAR
