BEGIN:VCALENDAR
VERSION:2.0
PRODID:-//https://techplay.jp//JP
CALSCALE:GREGORIAN
METHOD:PUBLISH
X-WR-CALDESC:【未経験者OK！】ゼロから始めるPythonプログラ
 ミング無料体験講座
X-WR-CALNAME:【未経験者OK！】ゼロから始めるPythonプログラ
 ミング無料体験講座
X-WR-TIMEZONE:Asia/Tokyo
BEGIN:VTIMEZONE
TZID:Asia/Tokyo
BEGIN:STANDARD
DTSTART:19700101T000000
TZOFFSETFROM:+0900
TZOFFSETTO:+0900
TZNAME:JST
END:STANDARD
END:VTIMEZONE
BEGIN:VEVENT
UID:966805@techplay.jp
SUMMARY:【未経験者OK！】ゼロから始めるPythonプログラミ
 ング無料体験講座
DTSTART;TZID=Asia/Tokyo:20241219T193000
DTEND;TZID=Asia/Tokyo:20241219T203000
DTSTAMP:20260422T180825Z
CREATED:20241209T102728Z
DESCRIPTION:イベント詳細はこちら\nhttps://techplay.jp/event/96680
 5?utm_medium=referral&utm_source=ics&utm_campaign=ics\n\n「未経験だ
 けど、今からでもプログラミングを学べるだろうか？
 」「オンラインでも、本当にスキルが身につくのか不
 安...」そんなあなたのために、自宅から参加できる安
 心のオンライン体験講座 をご用意しました。体験を通
 じて、Pythonプログラミングの楽しさを実感しませんか
 ？\nまずはお気軽にご参加を！「プログラミングを始
 めてみたい」「新しいことに挑戦したい」という方に
 最適な講座です。体験から一歩を踏み出し、学ぶ楽し
 さを実感してください！\n講座内容\n体験講座では、体
 験講座用のテキストに沿って簡単な「じゃんけんプロ
 グラム」を完成させます。トレーナーがサポートしま
 すので、自分のペースで取り組めます。初めての方も
 ご安心ください。15分ぐらい当教室の説明をさせてい
 ただいたのち、体験をいただく形になります。体験は1
 時間ほどですが、状況によって延長します。\n応募特
 典\n特典1：プログラミング学習動画プレゼントUdemyで
 好評のPython学習動画を期間限定で無料進呈！特典2：2
 回目無料体験講座をご招待！体験講座参加後、ご希望
 の方には教室の他の生徒さんと一緒に課題に取り組む2
 回目体験講座を用意しています。・学校説明はなし、
 じっくり課題に集中できます。・分からないところだ
 け講師に質問できるので、自分のペースで進められま
 す。2回目無料体験講座の詳細開催日時毎週水曜・金曜
  18:15～20:45（※第4金曜および祝日を除く）※途中入室
 ・途中退室可能です。（前日昼までのお申し込み受付
 ）\n参加資格\n参加資格：高校生以上～小中学生の受講
 希望の方は保護者同伴での教室受講のみお受けしてお
 ります。→詳細\n※ 参加を辞退する場合は、詳細ペー
 ジより申込のキャンセルをお願い致します。※ 配信映
 像や音声は各自の通信環境に依存します。なるべく通
 信環境の良い状態で視聴ください。※Zoomを使用します
 ので、事前に下記のリンクよりhttps://zoom.us/testマイク/
 スピーカーをテストください。※当日はカメラを写し
 ての受講をお願いいたします。\n受講のポイント\n環境
 構築の手間なし！パソコン1台あればOK！特別なインス
 トールは不要です。\n初心者にやさしいPythonシンプル
 で読みやすいコード構造。初めてでも取り組みやすい
 と評判の言語です。AIやデータ分析分野でも活用が広
 がり、学ぶメリットも大きいです。\n経験豊富な講師
 陣がサポート元プログラマーであり現役コンサルタン
 トが、実践的なアドバイスで学びを支えます。\n\nテッ
 クジム姫路校について\n当校は下記スケジュールで教
 室を開催しています・水曜日と木曜日の18時15分から20
 時45分（姫路労働会館）・金曜日の18時15分から20時45分
 （オンラインのみ）・土曜9時30分～11時30分（姫路ロバ
 スト）同じ時間にZOOMでオンライン受講も可能です。\n
 月謝は22\,000円/月(税込)。25歳以下の学生11\,000円/月(税
 込)の月謝となります。 同伴者1名が無料となります。\
 n→テックジム姫路校講師　岩松洋\n岡山大学工学部修
 士課程情報工学専攻卒。大手IT企業でプログラマー、
 システムエンジニアとして経験を積み情報処理技術者
 プロジェクトマネージャーを取得。\n開発チームのプ
 ロジェクトマネージャーとして官公庁のセキュリティ
 システム開発を担当後、起業。\n要件定義で身につけ
 た業務フローづくりを活かし、生産性向上、業務効率
 改善専門のコンサルタントとして中小企業を中心に支
 援。\n2019年からはプログラミング教育にかかわり初心
 者が躓きがちな文法暗記型教育に疑問を抱き日常の事
 柄を「紙とえんぴつ」を使用し言語化するトレーニン
 グ手法でプログラミング言語を学んでも書くことが出
 来ないという課題を解決する指導に力を入れている。\
 n[ 著書 ]・紙とえんぴつで学ぶアルゴリズムとフロー
 チャート（日経BP）・書くスキルも設計スキルも飛躍
 的に上がる！ プログラムを読む技術（日経BP）[ 動画 ]
 ・紙とえんぴつでプログラミング～初心者向けプログ
 ラムを作るための詳細設計コース～（Udemy）・「他人
 のコードを読むのが苦手な人のための」コードの読み
 方（初級編）（Udemy）
LOCATION:
URL:https://techplay.jp/event/966805?utm_medium=referral&utm_source=ics&utm
 _campaign=ics
END:VEVENT
END:VCALENDAR
