BEGIN:VCALENDAR
VERSION:2.0
PRODID:-//https://techplay.jp//JP
CALSCALE:GREGORIAN
METHOD:PUBLISH
X-WR-CALDESC:1/15(水)AWS導入支援セミナー開催のお知らせ
X-WR-CALNAME:1/15(水)AWS導入支援セミナー開催のお知らせ
X-WR-TIMEZONE:Asia/Tokyo
BEGIN:VTIMEZONE
TZID:Asia/Tokyo
BEGIN:STANDARD
DTSTART:19700101T000000
TZOFFSETFROM:+0900
TZOFFSETTO:+0900
TZNAME:JST
END:STANDARD
END:VTIMEZONE
BEGIN:VEVENT
UID:967063@techplay.jp
SUMMARY:1/15(水)AWS導入支援セミナー開催のお知らせ
DTSTART;TZID=Asia/Tokyo:20250115T150000
DTEND;TZID=Asia/Tokyo:20250115T160500
DTSTAMP:20260423T201117Z
CREATED:20241212T055204Z
DESCRIPTION:イベント詳細はこちら\nhttps://techplay.jp/event/96706
 3?utm_medium=referral&utm_source=ics&utm_campaign=ics\n\n1/15(水)AWS導
 入支援セミナー開催のお知らせ\n概要\n株式会社TOKAIコ
 ミュニケーションズは、2025年1月15日（水）にAWS導入支
 援セミナーを開催します。今や、システムやサービス
 はクラウド上で動くのが当たり前の時代になりました
 が、それでもなお、オンプレミス上で稼働しているシ
 ステムは数多く存在します。それらのシステムもクラ
 ウドへ移行することで、コスト削減や運用効率の向上
 、事業拡大への迅速な対応が可能になります。本ウェ
 ビナーでは、AWS導入の具体的なメリットや活用事例を
 ご紹介し、移行時におさえておきたいポイントを解説
 します。「AWSを導入してみたいけれど何から始めれば
 いいのかわからない」という方や、「導入に伴う課題
 が心配」という方にも役立つ内容です。クラウド移行
 を検討中の方、コスト削減や業務効率化を考えている
 方にぜひご参加いただきたいセミナーです。\nこんな
 方におすすめです\n・オンプレミスからクラウドへの
 システム移行を考えている方・初めてクラウドを導入
 する企業のIT担当者や経営層の方・AWSを活用して業務
 効率化やコスト削減を検討している方・既存システム
 のクラウド移行で課題を感じている方\nセミナー名称\n
 今からはじめるクラウド移行AWS導入の知っておきたい
 ポイントがわかる60分\nタイムスケジュール\n\n\n\n時間\
 n内容\n\n\n\n\n14:45〜15:00\n受付開始\n\n\n15:00〜15:05\n講演
 開始のご案内\n\n\n15:05〜15:35\n講演タイトル：AWS導入前
 までにおさえておきたいポイント講演社名：アマゾン 
 ウェブ サービス ジャパン 合同会社\n\n\n15:35〜16:00\nAWS
 の掲げるベストプラクティスとは？～より良い環境を
 目指す上での検討すべき勘所～講演社名：株式会社TOKA
 Iコミュニケーションズ\n\n\n16:00〜16:05\n講演終了のご案
 内\n\n\n\n※ 当日予告なく時間配分・内容が変更になる
 可能性がございます。\n参加費\n無料\n注意事項\n\nリク
 ルーティング、勧誘など、採用目的でのイベント参加
 はお断りしております。\nキャンセル待ち・補欠・落
 選の方はご参加いただくことが出来ませんのでご了承
 ください。\n欠席される場合は、お手数ですが速やか
 にキャンセル処理をお願い致します。\n無断キャンセ
 ルや欠席が続く場合、次回以降の参加をお断りさせて
 いただく場合がございます。\n
LOCATION:
URL:https://techplay.jp/event/967063?utm_medium=referral&utm_source=ics&utm
 _campaign=ics
END:VEVENT
END:VCALENDAR
