BEGIN:VCALENDAR
VERSION:2.0
PRODID:-//https://techplay.jp//JP
CALSCALE:GREGORIAN
METHOD:PUBLISH
X-WR-CALDESC:受託交流会【銀座開催】案件・パートナー探
 しのため無料交流イベント(受託案件に興味があるSES事
 業者も歓迎!)
X-WR-CALNAME:受託交流会【銀座開催】案件・パートナー探
 しのため無料交流イベント(受託案件に興味があるSES事
 業者も歓迎!)
X-WR-TIMEZONE:Asia/Tokyo
BEGIN:VTIMEZONE
TZID:Asia/Tokyo
BEGIN:STANDARD
DTSTART:19700101T000000
TZOFFSETFROM:+0900
TZOFFSETTO:+0900
TZNAME:JST
END:STANDARD
END:VTIMEZONE
BEGIN:VEVENT
UID:968250@techplay.jp
SUMMARY:受託交流会【銀座開催】案件・パートナー探しの
 ため無料交流イベント(受託案件に興味があるSES事業者
 も歓迎!)
DTSTART;TZID=Asia/Tokyo:20250123T180000
DTEND;TZID=Asia/Tokyo:20250123T193000
DTSTAMP:20260419T150037Z
CREATED:20241225T084810Z
DESCRIPTION:イベント詳細はこちら\nhttps://techplay.jp/event/96825
 0?utm_medium=referral&utm_source=ics&utm_campaign=ics\n\n第9回 受託
 交流会【銀座開催】案件・パートナー探しのため無料
 交流イベント(受託案件に興味があるSES事業者も歓迎!)\
 n概要\n受託開発企業様同士で、新規の案件獲得や、要
 員・案件の情報交換、信頼できるパートナーの獲得、
 新たな人脈構築を行う場としてご活用ください。\n・
 ‥…━━━━━━━━━━━━━━━━━━━━━━
 ━━━━━━━…‥・●日時 　：2025年1月23日（木）
 　18：00～　19:30●場所 　：東京都中央区銀座３丁目８
 −１３ 銀座三丁目ビルディング 5階●費用 　：完全無
 料●定員 　：120名（他の告知サイトでも募集をしてお
 ります）●持ち物 ：名刺（枚数に余裕をもってご準備
 ください）●服装 　：自由●主催 　：発注ナビ株式
 会社（アイティメディアグループ）・‥…━━━━━
 ━━━━━━━━━━━━━━━━━━━━━━━━
 …‥・\nタイムスケジュール\n\n\n\n時間\n内容\n\n\n\n\n17:
 40～\n受付開始\n\n\n18:00～\n運営からの挨拶・交流会ス
 タート\n\n\n19:30\n交流会閉会\n\n\n\n※途中参加・退席も
 可能です。※当日予告なく時間配分・内容が変更にな
 る可能性がございます。※受付にて、「案件獲得」、
 「要員獲得」、「案件・洋雲両方」に色分けされたネ
 ームプレートをお渡しいたします。※参加者の社名と
 お名前を明記した参加者名簿を配布いたします。\n参
 加対象\n\n受託開発会社に従事されてる方で情報交換、
 新規開拓を希望される方。\nこれから受託開発案件の
 獲得を考えているSES事業者様。※フリーランス、IT業
 界に関係ない方のご参加はご遠慮いただいております
 。※運営よりお断りのご連絡が入る場合がございます
 。\n\n\nこのような課題をお持ちの方と情報交換ができ
 ます\n\n案件は豊富にあるがエンジニア不足に困ってい
 る\nエンジニアに空きが出た時の案件を探している\n他
 社と協業の体制を作っておきたい等\n\n開催場所\n東京
 都中央区銀座３丁目８−１３ 銀座三丁目ビルディング
  5階・都営地下鉄　浅草線 東銀座駅 A8出口より徒歩 2
 分・東京メトロ　日比谷線 東銀座駅 A2出口より徒歩 3
 分・東京メトロ　銀座線 銀座駅 A13出口より徒歩 3分・
 東京メトロ　丸の内線 銀座駅 A13出口より徒歩 3分・東
 京メトロ　有楽町線 銀座一丁目駅 11出口より徒歩 4分
 本イベントの様子（新宿開催）どの会もとても多くの
 方に来場をいただいております！\n参加費\n無料\n注意
 事項\n\n●多くの企業様と繋がっていただくため原則1
 社1名様までのご参加とさせて頂きます。●キャンセル
 の際は、必ず事務局までご連絡をお願いします。●他
 の参加者様のご迷惑となるため、交流会会場での強引
 な勧誘行為、営業行為は禁止とさせていただきます。
 ●運営に支障をきたす行為を行った場合は退出いただ
 きます。●荷物置きをご用意しておりますが、貴重品
 の管理はご自身でお願いします。紛失・盗難が発生い
 たしましても、責任は負いかねます。●申し込み時に
 ご提供いただいた情報は、イベント受付管理や各種ご
 案内（サービス・イベント等・参加者名簿への記載）
 に利用させていただきます。●イベントの様子を写真
 撮影させていただきます。 撮影した写真は、今後の
 当イベント開催時、ホームページ、SNS、イベントの告
 知等に使用させていただきます。 撮影写真に関する
 使用権は弊社に帰属いただきます。 参加者同士のトラ
 ブルに関して主催者は責任を負いかねます**。**\n\n主
 催者情報\n\n発注ナビ株式会社\n所在地：〒102-0094東京
 都千代田区紀尾井町3-12 紀尾井町ビル13階\n公式HP：https
 ://hnavi.co.jp/\n\n\n当日の緊急連絡先\n\n発注ナビ運営事務
 局\nメールアドレス：mtg-hnavi@ml.itmedia.co.jp\n電話番号：0
 50-1743-9498\n
LOCATION:銀座三丁目ビルディング 5階 東京都中央区銀座３
 丁目８−１３　銀座三丁目ビルディング 5階
URL:https://techplay.jp/event/968250?utm_medium=referral&utm_source=ics&utm
 _campaign=ics
END:VEVENT
END:VCALENDAR
