BEGIN:VCALENDAR
VERSION:2.0
PRODID:-//https://techplay.jp//JP
CALSCALE:GREGORIAN
METHOD:PUBLISH
X-WR-CALDESC:【参加無料】リサーチ＆レポート~現場業務の
 新しい可視化手法~
X-WR-CALNAME:【参加無料】リサーチ＆レポート~現場業務の
 新しい可視化手法~
X-WR-TIMEZONE:Asia/Tokyo
BEGIN:VTIMEZONE
TZID:Asia/Tokyo
BEGIN:STANDARD
DTSTART:19700101T000000
TZOFFSETFROM:+0900
TZOFFSETTO:+0900
TZNAME:JST
END:STANDARD
END:VTIMEZONE
BEGIN:VEVENT
UID:968308@techplay.jp
SUMMARY:【参加無料】リサーチ＆レポート~現場業務の新し
 い可視化手法~
DTSTART;TZID=Asia/Tokyo:20250116T130000
DTEND;TZID=Asia/Tokyo:20250116T134500
DTSTAMP:20260420T004555Z
CREATED:20241226T032331Z
DESCRIPTION:イベント詳細はこちら\nhttps://techplay.jp/event/96830
 8?utm_medium=referral&utm_source=ics&utm_campaign=ics\n\nリサーチ＆
 レポート~現場業務の新しい可視化手法~\n概要\nあらゆ
 る業界が抱える「目に見えない課題」。顧客の動き、
 業務効率の低下、セキュリティリスクなど、現状を正
 確に把握できないことが大きな障壁となっています。
 そんな課題を解決するのが、ビーコンを活用した新し
 い業務分析ソリューションです！\n本セミナーでは、
 位置情報を使った「課題の見える化」と、そのデータ
 を活用した改善事例を詳しくご紹介します。この手法
 を活用すれば、以下のような効果を期待できます：\n\n
 \n人やモノの動きをリアルタイムで把握\n\n\n業務フロ
 ーやスタッフ配置の無駄を可視化\n\n\nデータに基づく
 改善案の立案と実行\n\n\n\n▼このような方におすすめ\n
 \n・現場の状況を正確に把握したい方\n・業務課題の原
 因をデータで明らかにしたい方\n・新たな顧客体験を
 創出したいマーケティング担当者\n・データ活用に課
 題を感じている企業\n\n▼タイムスケジュール\n\n\n\n\n
 時間\n内容\n\n\n\n\n12:50〜\n受付開始\n\n\n13:00〜13:02\nオー
 プニング\n\n\n13:02〜13:05\nBeacapp Hereについて\n\n\n13:05〜13
 :15\n現場課題の背景\n\n\n13:15〜13:25\nリサーチ＆レポー
 トについて\n\n\n13:25〜13:35\n事例紹介\n\n\n13:35〜13:45\nQ&A
 セッション\n\n\n\n\n\n\n\n※ 当日予告なく時間配分・内
 容が変更になる可能性がございます。\n参加対象\n\n\n
 総務・人事の方\n\n\nデータ活用に課題を感じている企
 業様\n\n\n参加費\n無料\n注意事項\n\nリクルーティング
 、勧誘など、採用目的でのイベント参加はお断りして
 おります。\nキャンセル待ち・補欠・落選の方はご参
 加いただくことが出来ませんのでご了承ください。\n
 欠席される場合は、お手数ですが速やかにキャンセル
 処理をお願い致します。\n無断キャンセルや欠席が続
 く場合、次回以降の参加をお断りさせていただく場合
 がございます。\n
LOCATION:
URL:https://techplay.jp/event/968308?utm_medium=referral&utm_source=ics&utm
 _campaign=ics
END:VEVENT
END:VCALENDAR
