BEGIN:VCALENDAR
VERSION:2.0
PRODID:-//https://techplay.jp//JP
CALSCALE:GREGORIAN
METHOD:PUBLISH
X-WR-CALDESC:2025年の経営トレンド？社会課題に向き合う熱
 い経営者求む！経営者×NPOの共創から生まれる新たな
 社会的インパクトの最前線を探求する対談セミナー
X-WR-CALNAME:2025年の経営トレンド？社会課題に向き合う熱
 い経営者求む！経営者×NPOの共創から生まれる新たな
 社会的インパクトの最前線を探求する対談セミナー
X-WR-TIMEZONE:Asia/Tokyo
BEGIN:VTIMEZONE
TZID:Asia/Tokyo
BEGIN:STANDARD
DTSTART:19700101T000000
TZOFFSETFROM:+0900
TZOFFSETTO:+0900
TZNAME:JST
END:STANDARD
END:VTIMEZONE
BEGIN:VEVENT
UID:968357@techplay.jp
SUMMARY:2025年の経営トレンド？社会課題に向き合う熱い経
 営者求む！経営者×NPOの共創から生まれる新たな社会
 的インパクトの最前線を探求する対談セミナー
DTSTART;TZID=Asia/Tokyo:20250114T150000
DTEND;TZID=Asia/Tokyo:20250114T160000
DTSTAMP:20260423T033227Z
CREATED:20241226T091413Z
DESCRIPTION:イベント詳細はこちら\nhttps://techplay.jp/event/96835
 7?utm_medium=referral&utm_source=ics&utm_campaign=ics\n\n事業を通じ
 て社会課題に対しアプローチをしている経営者のみな
 さま、事業だけではアプローチが難しい、取り組みに
 くい社会課題もあるのが現実ではないでしょうか？？\
 nそうした社会課題に対し経営者として向き合いたいと
 考える熱い想いを燃やしている経営者のみなさま！朗
 報です。\n近年では「非営利団体との連携」を行い、
 経済性と社会性の両立を目指したり、新規事業として
 経営者同士で非営利団体を立ち上げるなど、「ソーシ
 ャルセクター」へ力をそそぎ、社会課題解決に取り組
 む中小企業経営者が増えてきています。\n本対談セミ
 ナーでは、おすそわけで世界を変えるプラットフォー
 ム「OSUSO」創業者とアジアの女性リーダー活躍を推進
 するアジア女性リーダーズフォーラムの代表理事の対
 談を通じて、2025年トレンドとなる経営者のソーシャル
 セクターへの参画について、実際の取り組み事例や成
 功のポイントを解説いたします。\n2025年に新たな取り
 組みを始めたい中小企業経営者様のご参加をお待ちし
 ております。\n・こんな中小企業経営者さま向け社会
 課題の解決や非営利団体との連携・共創に関心がある
 新規事業の立ち上げを行いたい自社の差別化で悩んで
 いる今までの延長線上にない経営施策に取り組みたい\
 n・登壇者\nAWLF（ 一般社団法人アジア女性リーダーズ
 フォーラム）代表理事　佐々木亜依同志社女子大学英
 語英文学科を卒業。東京大学のエグゼクティブマネジ
 メントプログラム修了。 シンガポール国立大学リー・
 クアンユー公共政策学院のアジア地政学プログラム修
 了。 2020年5月、アジア女性リーダーズフォーラムの代
 表理事に就任。国連環境会議若手リーダーの一人。ラ
 ウル株式会社エグゼクティブアドバイザー、ESGファン
 ドであるEIF Impact Fundのアドバイザー、ヒマラヤダージ
 リンインターナショナルスクールのアドバイザー、イ
 ンナーハピネス財団のジャパンプレジデントも務める
 。AWLF HP：https://awlf.or.jp/ja/\n株式会社USTUS代表取締役 CEO
 　新田拓真3.11にて被災した経験から、生き残った人間
 としての使命感と社会貢献における圧倒的な熱い思い
 、そして明確なビジョンを基にゴールを描くプロダク
 トアウト力で人の心を動かすファウンダー、社会起業
 家。社会貢献プラットフォーム「OSUSO」を通じて、企
 業、経営者、個人と非営利活動法人をつなぎ、民間の
 おすそわけの力で社会課題の解決を目指す。OSUSO HP：ht
 tps://www.osuso.me/新田拓真 ：https://www.facebook.com/takuma.nitta.
 5/
LOCATION:
URL:https://techplay.jp/event/968357?utm_medium=referral&utm_source=ics&utm
 _campaign=ics
END:VEVENT
END:VCALENDAR
