BEGIN:VCALENDAR
VERSION:2.0
PRODID:-//https://techplay.jp//JP
CALSCALE:GREGORIAN
METHOD:PUBLISH
X-WR-CALDESC:【オンライン・視聴無料】公開情報でどこま
 で出来る？ AIを活用した市場調査フロー
X-WR-CALNAME:【オンライン・視聴無料】公開情報でどこま
 で出来る？ AIを活用した市場調査フロー
X-WR-TIMEZONE:Asia/Tokyo
BEGIN:VTIMEZONE
TZID:Asia/Tokyo
BEGIN:STANDARD
DTSTART:19700101T000000
TZOFFSETFROM:+0900
TZOFFSETTO:+0900
TZNAME:JST
END:STANDARD
END:VTIMEZONE
BEGIN:VEVENT
UID:969325@techplay.jp
SUMMARY:【オンライン・視聴無料】公開情報でどこまで出
 来る？ AIを活用した市場調査フロー
DTSTART;TZID=Asia/Tokyo:20250130T160000
DTEND;TZID=Asia/Tokyo:20250130T164500
DTSTAMP:20260421T082744Z
CREATED:20250109T075239Z
DESCRIPTION:イベント詳細はこちら\nhttps://techplay.jp/event/96932
 5?utm_medium=referral&utm_source=ics&utm_campaign=ics\n\n公開情報で
 どこまで出来る？ AIを活用した市場調査フロー\n新製
 品の企画・開発に関わる方にとって欠かせない業務で
 ある「市場調査」\n顧客を含む市場ニーズの多様化や
 、グローバル情報を含めた業界の技術進化など、自社
 を取り巻く環境の変化が早く複雑な昨今では、これま
 で以上に「どのように情報を取得するか」が重要視さ
 れています。\nしかし、普段の製品開発業務の傍らで
 慣れない市場調査を行うと「ウェブで色々検索してみ
 るものの、良い情報が見つからない」「気づけば検索
 だけで1時間が過ぎている⋯」「調査が広範囲に及んで
 しまい、結論をまとめるのが難しい⋯」 といった状
 況に陥ってしまうことがあるかと思います。\nそこで
 、今回のウェビナーでは新規事業や新製品の企画を行
 う方に向けて、市場ニーズ調査の前提となる考え方か
 ら、情報を読み解く際の観点、また実際の調査フロー
 をAIによる効率的な機能を活用しながらご紹介いたし
 ます。また同時に、国内外約35\,000サイトの公開情報を
 AIで分析し、情報収集と活用の生産性を高める弊社サ
 ービス「Anews」を活用した市場調査の実践についても
 お伝えします。ぜひお気軽にご参加ください。\n参加
 対象\n\n新製品の企画・開発に関わっている方\n市場ニ
 ーズ調査の方法を学びたいとお考えの方\n\n開催概要\n
 日　　　時：2025年1月30日(木) 16:00-16:45場　　　所：オ
 ンライン（Zoom）参　加　費：無料\n登壇者\n\n森 豊\nス
 トックマーク株式会社Consultant\n大学卒業後、半導体製
 造装置向け治工具メーカーに入社。生産技術職として
 、顧客ニーズに向けた新合金めっき開発及び製品開発
 、製造ラインの管理及び改善、多くのステークホルダ
 との折衝など幅広く従事。その後製造業領域の知見を
 活かし、株式会社LIGHTzにて汎知化コンサルタントとし
 て熟達者の暗黙知の汎知化を推進。現在はストックマ
 ークにBizdev/コンサルタントとして参画し、顧客の収集
 情報の活用や組織活用に向けた支援を実施。\nストッ
 クマークとは\nストックマークは「価値創造の仕組み
 を再発明し、人類を前進させる」をミッションに掲げ
 、最先端の自然言語処理技術を活用し、多くの企業様
 の事業創造活動を支援しております。\n自然言語処理
 技術を活用し、国内外約3万5千サイトの膨大なビジネ
 スニュースを分類。業務に直結する情報をAIが届ける
 ことで、組織の情報感度を高め、事業アイディアの着
 想と組織内での発展を促す「Anews」、AIが組織や業務に
 合わせて必要な情報を構造化し、示唆が得られる市場
 調査サービス「Astrategy」によって企業様の新たな価値
 創造をサポートしています。\n■Anewshttps://stockmark.co.jp/
 product/anews■Astrategyhttps://stockmark.co.jp/product/astrategy\n注
 意事項\n\n競合企業などのご参加をお断りする場合がご
 ざいます。予めご了承くださいませ。\n
LOCATION:
URL:https://techplay.jp/event/969325?utm_medium=referral&utm_source=ics&utm
 _campaign=ics
END:VEVENT
END:VCALENDAR
