BEGIN:VCALENDAR
VERSION:2.0
PRODID:-//https://techplay.jp//JP
CALSCALE:GREGORIAN
METHOD:PUBLISH
X-WR-CALDESC:1/23採用トレンド2025！IT企業の即戦力確保と採
 用効率化の実践戦略
X-WR-CALNAME:1/23採用トレンド2025！IT企業の即戦力確保と採
 用効率化の実践戦略
X-WR-TIMEZONE:Asia/Tokyo
BEGIN:VTIMEZONE
TZID:Asia/Tokyo
BEGIN:STANDARD
DTSTART:19700101T000000
TZOFFSETFROM:+0900
TZOFFSETTO:+0900
TZNAME:JST
END:STANDARD
END:VTIMEZONE
BEGIN:VEVENT
UID:969418@techplay.jp
SUMMARY:1/23採用トレンド2025！IT企業の即戦力確保と採用効
 率化の実践戦略
DTSTART;TZID=Asia/Tokyo:20250123T120000
DTEND;TZID=Asia/Tokyo:20250123T130000
DTSTAMP:20260420T073948Z
CREATED:20250110T050122Z
DESCRIPTION:イベント詳細はこちら\nhttps://techplay.jp/event/96941
 8?utm_medium=referral&utm_source=ics&utm_campaign=ics\n\n\n2025年の採
 用市場で競争に勝つための実践戦略を大公開！\n1月23
 日(木)開催の採用活動にお悩みのIT企業の皆様に向けた
 、特別ウェビナーのお知らせです。\n2025年の採用市場
 で競争に勝つためには、従来の手法だけでは不十分で
 す！応募者の質や数の確保、採用コストの削減、候補
 者との円滑なコミュニケーション、これらの課題を解
 決するための実践的な戦略を3つの切り口からお届けし
 ます。\nIT企業の採用成功に直結する内容を、ぜひこの
 機会に学びましょう！\n\n◎このような方におすすめ\n
 ・採用活動が停滞している、もしくは課題を感じてい
 るIT企業の人事担当者・優秀な即戦力人材を確保し、
 採用戦略を見直したい経営者や管理職・採用業務の効
 率化やブランディング強化を目指す企業の方・ITスタ
 ートアップ企業で、人材確保に苦戦している方\n＼ 各
 社のtipsが詰まった資料をプレゼント！／\n開催概要\n
 採用トレンド2025！IT企業の即戦力確保と採用効率化の
 実践戦略\n・日　時：2025年01月23日(木) 12:00〜13:00・場
 　所：オンライン開催（視聴URLは申込後すぐにシステ
 ムより送付）・定　員：100名・参加費：無料、途中参
 加OK・特　典：登壇資料配布\n＼ 各社のtipsが詰まった
 資料をプレゼント！／\n\n注意事項\n・申し込み時にご
 登録いただきました情報は本イベントのご連絡に必要
 な範囲、及び関連するイベントの告知で使用させてい
 ただきます。・イベントの内容／時間は、予告なく変
 更する場合がございます。・前日のお申込みについて
 は、参加URLのご案内ができない可能性がございます。
 ・通信状況の関係でイベントが一時停止になったり、
 やむをえず中止となる可能性がございます。・イベン
 ト中において発生した一切の事故や怪我・病気などの
 責任を負いかねます。・最低実施人数に達しない場合
 は開催を中止、または延期させていただく場合がござ
 います。
LOCATION:
URL:https://techplay.jp/event/969418?utm_medium=referral&utm_source=ics&utm
 _campaign=ics
END:VEVENT
END:VCALENDAR
