BEGIN:VCALENDAR
VERSION:2.0
PRODID:-//https://techplay.jp//JP
CALSCALE:GREGORIAN
METHOD:PUBLISH
X-WR-CALDESC:現役ソリューションアーキテクトが語る〜失
 敗しない新規事業開発のはじめ方〜
X-WR-CALNAME:現役ソリューションアーキテクトが語る〜失
 敗しない新規事業開発のはじめ方〜
X-WR-TIMEZONE:Asia/Tokyo
BEGIN:VTIMEZONE
TZID:Asia/Tokyo
BEGIN:STANDARD
DTSTART:19700101T000000
TZOFFSETFROM:+0900
TZOFFSETTO:+0900
TZNAME:JST
END:STANDARD
END:VTIMEZONE
BEGIN:VEVENT
UID:969778@techplay.jp
SUMMARY:現役ソリューションアーキテクトが語る〜失敗し
 ない新規事業開発のはじめ方〜
DTSTART;TZID=Asia/Tokyo:20250204T110000
DTEND;TZID=Asia/Tokyo:20250204T120000
DTSTAMP:20260420T105906Z
CREATED:20250114T125200Z
DESCRIPTION:イベント詳細はこちら\nhttps://techplay.jp/event/96977
 8?utm_medium=referral&utm_source=ics&utm_campaign=ics\n\n現役ソリュ
 ーションアーキテクトが語る~失敗しない新規事業開発
 のはじめ方~\n本企画の背景\n※過去に好評だったセミ
 ナーのアーカイブ配信となります。\n急速に変化して
 いく社会に合わせて、デジタルテクノロジーを活用し
 たビジネスの変革が求められる現在。どのような業界
 も成長のため、あるいは競合他社に負けないために新
 しい取り組みを進めようとしております。\nまた、昨
 今ChatGPTや画像生成を中心としたAI技術の普及により、
 私達の生活はどんどん豊かになっていく一方で「もっ
 と使いやすく」「もっと便利に」といった利用者から
 の要望も高まっています。\nこの「IT技術の普及」と「
 利用者の要望」が相乗効果で高まっていく時代背景の
 なか、サービスを提供するクライアントと、それを開
 発するベンダーは、数ある選択肢の中から最適解を見
 出すことが難しいというお悩みを聞くようになりまし
 た。\nこの悩み・課題を解決し、クライアントとベン
 ダーをつなぐキーマンとして「ソリューションアーキ
 テクト」という存在が近年、注目を集めています。\n
 そこで本セミナーでは、現役のソリューションアーキ
 テクトが最適解の見出し方や、プロジェクトの確実性
 や安定性を担保し成功に導くためのメソッドを事例を
 交えて解説します。\n■こんな人におすすめ.\n\n新規サ
 ービスの成功確率を上げるヒントを知りたい\n自身の
 担当するサービスの確実性、安定性を担保したい\n\n登
 壇者\n松下 智弘\n株式会社モンスターラボソリューシ
 ョンアーキテクト＆エンジニアリングマネージャー
LOCATION:
URL:https://techplay.jp/event/969778?utm_medium=referral&utm_source=ics&utm
 _campaign=ics
END:VEVENT
END:VCALENDAR
