BEGIN:VCALENDAR
VERSION:2.0
PRODID:-//https://techplay.jp//JP
CALSCALE:GREGORIAN
METHOD:PUBLISH
X-WR-CALDESC:Googleアルゴリズム内部文書漏洩から学ぶSEO最
 新対策セミナー
X-WR-CALNAME:Googleアルゴリズム内部文書漏洩から学ぶSEO最
 新対策セミナー
X-WR-TIMEZONE:Asia/Tokyo
BEGIN:VTIMEZONE
TZID:Asia/Tokyo
BEGIN:STANDARD
DTSTART:19700101T000000
TZOFFSETFROM:+0900
TZOFFSETTO:+0900
TZNAME:JST
END:STANDARD
END:VTIMEZONE
BEGIN:VEVENT
UID:969859@techplay.jp
SUMMARY:Googleアルゴリズム内部文書漏洩から学ぶSEO最新対
 策セミナー
DTSTART;TZID=Asia/Tokyo:20250128T140000
DTEND;TZID=Asia/Tokyo:20250128T144500
DTSTAMP:20260420T095010Z
CREATED:20250114T233511Z
DESCRIPTION:イベント詳細はこちら\nhttps://techplay.jp/event/96985
 9?utm_medium=referral&utm_source=ics&utm_campaign=ics\n\n▌セミナー
 概要\n2024年5月に明らかになったGoogle検索アルゴリズム
 の内部文書漏洩。この漏洩により、Googleのアルゴリズ
 ムの仕組みや評価基準について、これまで明かされて
 いなかった重要な情報が明らかになりました。\n本セ
 ミナーでは、この漏洩したアルゴリズム文書の内容を
 わかりやすく解説するとともに、現在のSEO施策にどう
 活かすべきか、また今後の検索エンジン対策で注意す
 べきポイントについて徹底的に解説します。\n他では
 聞けない具体的な情報と実践的なアプローチを知りた
 い方に必見の内容です！\n【お申込みはこちら】https://
 allweb-consulting.co.jp/seminar/20250128_seminar/\n＼こんな方にお
 すすめです／\n・最新のGoogleアルゴリズム動向を把握
 したい方・自社サイトのSEO施策を強化したい方・アル
 ゴリズムの変化に対応できる知識を身に付けたい方・
 安全かつ効果的なSEO手法を学びたい方\n▌セミナーで
 学べること・漏洩したアルゴリズム文書に記載されて
 いた重要なポイント・Googleが重視する最新の評価基準
 ・漏洩内容を踏まえた短期的・長期的なSEO対策・アル
 ゴリズム変化への柔軟な対応方法・検索順位の維持・
 向上に役立つ実践的施策\n▌講師紹介\n●江守 義樹（
 株式会社ALL WEB CONSULTING 代表取締役社長）ネットショッ
 プ店長、ECコンサルを経てALL WEB CONSULTINGを創業。小規
 模サイトから大規模サイトまで過去1\,000サイト以上の
 サイト分析・SEO対策・売上向上支援を実施。その豊富
 な知見をフル活用し、ECのスペシャリストとして活動
 中。\n【お申込みはこちら】https://allweb-consulting.co.jp/sem
 inar/20250128_seminar/\n▌株式会社ALL WEB CONSULTINGについて\n
 ネットショップ・ECサイトの支援に特化したマーケテ
 ィング会社です。戦略立案、サイト解析などのECコン
 サルティングからWEB広告運用、SEO対策、SNSマーケティ
 ングなどの集客施策、サイト構築、LP制作などのWEB制
 作、ショップブランディングまでEC運営に関わること
 はすべてワンストップで行っております。また、楽天
 、Yahoo！、AmazonなどのECショッピングモールから自社EC
 サイトまで幅広く対応。過去1\,000サイト以上のECサイ
 トで売上向上支援、サイト分析を行っておりノウハウ
 も豊富です。\n＜会社概要＞会社名：株式会社ALL WEB CON
 SULTING所在地：東京都渋谷区恵比寿西２丁目１９−９代
 表者：代表取締役　江守 義樹URL ：https://allweb-consulting.
 co.jp\n事業内容：-ネットショップ（ECサイト）の運営支
 援及びコンサルティング-ネットショップ（ECサイト）
 運営支援ツールの開発・ご提供-ネットショップ（ECサ
 イト）の運営代行-ECサイト制作-商品撮影・商品登録代
 行-SEO対策-広告運用代行-インフルエンサーマーケティ
 ング\n▌ 本件に関するお問合せ\n株式会社ALL WEB CONSULTIN
 Gセミナー運営事務局\nTEL：03-6276-8654（代表）MAIL：info@a
 llweb-consulting.co.jpURL：https://allweb-consulting.co.jp
LOCATION:
URL:https://techplay.jp/event/969859?utm_medium=referral&utm_source=ics&utm
 _campaign=ics
END:VEVENT
END:VCALENDAR
