BEGIN:VCALENDAR
VERSION:2.0
PRODID:-//https://techplay.jp//JP
CALSCALE:GREGORIAN
METHOD:PUBLISH
X-WR-CALDESC:【2/6開催】基礎から理解する製造業の最適化
 セミナー～最新の最適化技術で経営・開発・製造にお
 ける意思決定をスマート～に
X-WR-CALNAME:【2/6開催】基礎から理解する製造業の最適化
 セミナー～最新の最適化技術で経営・開発・製造にお
 ける意思決定をスマート～に
X-WR-TIMEZONE:Asia/Tokyo
BEGIN:VTIMEZONE
TZID:Asia/Tokyo
BEGIN:STANDARD
DTSTART:19700101T000000
TZOFFSETFROM:+0900
TZOFFSETTO:+0900
TZNAME:JST
END:STANDARD
END:VTIMEZONE
BEGIN:VEVENT
UID:970038@techplay.jp
SUMMARY:【2/6開催】基礎から理解する製造業の最適化セミ
 ナー～最新の最適化技術で経営・開発・製造における
 意思決定をスマート～に
DTSTART;TZID=Asia/Tokyo:20250206T120000
DTEND;TZID=Asia/Tokyo:20250206T125000
DTSTAMP:20260423T055618Z
CREATED:20250116T065356Z
DESCRIPTION:イベント詳細はこちら\nhttps://techplay.jp/event/97003
 8?utm_medium=referral&utm_source=ics&utm_campaign=ics\n\n概要\n株式
 会社Fixstars Amplifyでは、最適化クラウド「Fixstars Amplify
 」を活用した社会課題の解決と実業務への適用を進め
 ています。\n本セミナーでは、製造業における経営、
 研究・開発、生産、物流等のあらゆる現場に存在する
 最適化問題や、弊社の提供する最適化エンジン「Fixstar
 s Amplify」を活用した具体的な解決策や実践事例を詳し
 くご紹介します。\n最適化とは、膨大な選択肢の中か
 ら最も効率的で効果的な解決策を見つけ出す技術です
 。例えば製造業では、生産ラインの効率化やコスト削
 減、エネルギーの最適利用など、多岐にわたる課題に
 対応できます。最適化技術は、企業が限られたリソー
 スをどう配分するか、どの投資が最も効果的であるか
 といった、意思決定を合理的に実行するツールとなり
 ます。\n自社の計画業務のDX推進を検討している方や、
 IT、AI、データサイエンス等に携わっている方、最適化
 に興味がある方におすすめです。特別な準備は不要で
 す。50分のショートセミナーとなっておりますので、
 ぜひご参加ください。\nタイムスケジュール\n\n\n\n時間
 \n内容\n\n\n\n\n12:00-12:50\n・基礎から理解する最適化技術
 ・DXを実現する最新の最適化技術「Fixstars Amplify」・製
 造業における用途・実例のご紹介（自動車製造、精密
 加工、食品製造など）・Q&A\n\n\n\n※ 予告なく内容等が
 変更になる場合があります※ Zoomの表示名は、申し込
 み時のお名前でお願いします\n登壇者\n小林 隆之株式
 会社Fixstars Amplify シニアディレクター\n木下 敦寛株式
 会社Fixstars Amplifyシニアディレクター\n参加対象\n\n経営
 者、DX推進担当者、IT担当者、計画業務に課題を抱えて
 いる方\n\n参加費\n\n無料\n\n注意事項\n\n配信映像や音声
 は各自の通信環境に依存します。なるべく通信環境の
 良い状態で視聴ください。\n参加を辞退する場合は、
 詳細ページよりお申し込みのキャンセルをお願いしま
 す。\nリクルーティング、勧誘などのご参加はお断り
 しております。\n\n
LOCATION:
URL:https://techplay.jp/event/970038?utm_medium=referral&utm_source=ics&utm
 _campaign=ics
END:VEVENT
END:VCALENDAR
