BEGIN:VCALENDAR
VERSION:2.0
PRODID:-//https://techplay.jp//JP
CALSCALE:GREGORIAN
METHOD:PUBLISH
X-WR-CALDESC:大企業の営業現場における、AI実装最前線
X-WR-CALNAME:大企業の営業現場における、AI実装最前線
X-WR-TIMEZONE:Asia/Tokyo
BEGIN:VTIMEZONE
TZID:Asia/Tokyo
BEGIN:STANDARD
DTSTART:19700101T000000
TZOFFSETFROM:+0900
TZOFFSETTO:+0900
TZNAME:JST
END:STANDARD
END:VTIMEZONE
BEGIN:VEVENT
UID:970463@techplay.jp
SUMMARY:大企業の営業現場における、AI実装最前線
DTSTART;TZID=Asia/Tokyo:20250123T120000
DTEND;TZID=Asia/Tokyo:20250123T130000
DTSTAMP:20260419T145815Z
CREATED:20250120T063815Z
DESCRIPTION:イベント詳細はこちら\nhttps://techplay.jp/event/97046
 3?utm_medium=referral&utm_source=ics&utm_campaign=ics\n\n大企業の営
 業現場における、AI実装最前線\nAI 技術の急速な進化と
 普及によって、主要な営業業務の大部分がAI による代
 替されていくと言われる中、AI 活用の成否が業績の明
 暗を分ける可能性が高まっています。その中で、「ど
 こから AI を組み込めば成果が得られやすいのか」「AI 
 にどのようなデータを読み込ませるべきなのか」「他
 社は AI を活用しているのか気になる」といった疑問を
 抱える企業も少なくありません。\n本ウェビナーでは
 、AI 営業システム開発・大企業の営業現場ご支援の最
 前線から、商談自動記録やAIワークフローの実装事例
 を中心として、営業現場におけるAI実装の現状と未来
 像、活用戦略や、成果創出のポイントをご紹介します
 。\n当日は、大手企業の営業変革をあらゆる角度から
 支援してきた、株式会社Magic Moment 代表取締役 CEO 村尾 
 祐弥 と、株式会社Magic Moment エンタープライズセール
 ス担当執行役員 齊藤 三朗 が登壇します。AI を営業組
 織に導入して満足するのではなく、収益・成果に繋げ
 るためのヒントをご共有できればと考えています。\n
 このような方におすすめ\n\nテクノロジー/AI を活用し
 た営業改革の未来に関心がある方\nツールを導入して
 も、明確な成果や収益向上が見えないことにお悩みの
 方\n営業現場における AI 実装の実例に関心がある方\n
 営業組織の生産性向上や改革を検討している経営層・
 事業責任者の方\n\n概要\n\n\n\n\n\n\n\n\n\n対象\n収益拡大
 ・生産性向上に資するお取り組みを推進される経営者 
 / 役員 / 経営企画 / 事業責任者 / 営業責任者 / 営業推
 進　の皆様\n\n\n日時\n2025年1月23日（木）12:00~13:00\n\n\n
 内容\n・収益インパクトにつながるAI戦略・大手企業の
 AI実装最前線\n\n\n会場\nオンライン（Zoom）\n\n\n費用\n無
 料\n\n\n参加方法\nお申し込みフォームからご登録後、
 ウェビナー開催前日・当日に視聴用URLをご案内させて
 いただきます。\n\n\nご不明点・ご質問\n弊社営業担当
 に直接お問い合わせいただくか、marketing@magicmoment.jp ま
 でお知らせください\n\n\n注意事項\n＊同業他社様のご
 参加はご遠慮いただいております。＊弊社からのメー
 ルを配信を解除されている方は、お手数ですが、申込
 時に表示される再配信設定にて再登録をよろしくお願
 いいたします。当日の Zoom URL を送付させていただきま
 す。【プライバシーポリシーについて】今回ご提供い
 ただく個人情報は、プライバシーポリシーに基づき厳
 重に管理いたします。株式会社Magic Moment 個人情報保護
 方針\n\n\n
LOCATION:
URL:https://techplay.jp/event/970463?utm_medium=referral&utm_source=ics&utm
 _campaign=ics
END:VEVENT
END:VCALENDAR
