BEGIN:VCALENDAR
VERSION:2.0
PRODID:-//https://techplay.jp//JP
CALSCALE:GREGORIAN
METHOD:PUBLISH
X-WR-CALDESC:【IBM Consulting】金融コンサルタント向け Career M
 eetup
X-WR-CALNAME:【IBM Consulting】金融コンサルタント向け Career M
 eetup
X-WR-TIMEZONE:Asia/Tokyo
BEGIN:VTIMEZONE
TZID:Asia/Tokyo
BEGIN:STANDARD
DTSTART:19700101T000000
TZOFFSETFROM:+0900
TZOFFSETTO:+0900
TZNAME:JST
END:STANDARD
END:VTIMEZONE
BEGIN:VEVENT
UID:970824@techplay.jp
SUMMARY:【IBM Consulting】金融コンサルタント向け Career Meetup
DTSTART;TZID=Asia/Tokyo:20250227T190000
DTEND;TZID=Asia/Tokyo:20250227T203000
DTSTAMP:20260420T005946Z
CREATED:20250123T044115Z
DESCRIPTION:イベント詳細はこちら\nhttps://techplay.jp/event/97082
 4?utm_medium=referral&utm_source=ics&utm_campaign=ics\n\n【IBM Consultin
 g主催】金融コンサルタント向け Career Meetup\n〜現場リ
 ーダーとカジュアルに会話してみませんか？〜\n現在IB
 Mでは、金融系クライアントのDX推進に共に挑戦してく
 れるコンサルタントを募集しています！\nIBMの金融コ
 ンサルタントと気軽に対面で交流できるCareer Meetupを開
 催します！\n本イベントは、現場で活躍中のコンサル
 タント（パートナー、マネージャー、コンサルタント
 ）と直接お話いただける場です。\nIBM Consultingにおける
 金融業界コンサルタントが手掛けるビジネスやプロジ
 ェクト、最新AIのビジネス適用への取り組み、今後の
 キャリアなど皆さまの多様なご質問・ご相談に可能な
 限りお答えします。\n「IBMでのコンサルタントのキャ
 リアってどうなの？」「IBMでコンサルタントとしてど
 のようなことに携わることが出来るのか知りたい」「I
 BMと他のコンサルティングファームの特徴の違いは？
 」\n少人数でカジュアルな交流の場（事前予約制/出入
 り自由）となりますので少しでもご興味をお持ち頂け
 ます場合には、ぜひお気軽にご参加ください。\nみな
 さまのご予約、ご参加をお待ちしております！\n■詳
 しい求人情報：https://krb-sjobs.brassring.com/TGnewUI/Search/home/
 HomeWithPreLoad?PageType=JobDetails&partnerid=26059&siteid=5025&Areq=7258
 74BR\n■本イベントに関するお問い合わせ：人事部 キャ
 リア採用   枝木\n登壇者\n鍋島 四郎IBMコンサルティン
 グ事業本部　金融サービス事業部コンサルティング事
 業部統括　パートナー/理事\n＜プロフィール＞\n2003年I
 BMビジネスコンサルティング(IBCS)入社。ビジネスコン
 サルタントとして、リスク管理(バーゼル対応)、コン
 プライアンス、経営管理、ESG/サステナビリティ等のコ
 ンサルティングサービスに従事。2020年パートナー、銀
 行証券セクターにおける外部ベンダー協業・アライア
 ンス統括。2021年よりコンサルティング事業統括。\n\n\n
 井上やよいIBMコンサルティング事業本部　金融サービ
 ス事業部コンサルティング事業部 パートナー\n＜プロ
 フィール＞\n1999年PriceWaterhouseCoopersコンサルタント株式
 会社人社。2002年からIBMビジネスコンサルティングサー
 ビス株式会社、2010年より日本アイ・ビー・エム株式会
 社。・「証券・市場系」✕「グローバル」✕「SDGs」を
 核としたコンサルティングを実施。構想策定、要件定
 義、開発サポート業務、プロジェクト推進に長け、特
 に市場取引や市場リスク計測、新技術導入におけるシ
 ステム導入に強い。\n\n\n笠野 智代実IBMコンサルティン
 グ事業本部　金融サービス事業部コンサルティング事
 業部 パートナー\n＜プロフィール＞\nNTT、外資系コン
 サルティングファーム複数社を経て2019年にIBM入社。前
 職・IBMを通じ「金融×デジタル」をテーマとした、ビ
 ジネス企画およびマネジメントコンサルティングに従
 事。\n\n\n今井　俊樹IBMコンサルティング事業本部　金
 融サービス事業部コンサルティング事業部 Senior Managing
  Consultant\n＜プロフィール＞\nSEからコンサルタントに
 転職し、金融機関向け業務パッケージ導入に関するパ
 ッケージ比較、Fit&Gap分析のコンサルティングから、導
 入に向けたシステム化計画、ならびに構築までEnd To End
 で実施。\n\n*参加者、人数は変更となる場合がござい
 ます。\nタイムスケジュール\n\n\n\n\n時間\n内容\n登壇者
 \n\n\n\n\n19:00〜19:30\n受付開始・フリー面談タイム１\n\n\n
 \n19:30〜19:50\nオープニング〜IBM Consulting 金融コンサル
 ティングチームのビジネス戦略紹介〜\n鍋島\n\n\n19:50〜
 20:00\nIBM 金融コンサルタントの自己紹介\n参加社員\n\n\n
 20:00〜20:30\nフリー面談タイム２\n\n\n\n\n＊ 当日予告な
 く時間配分・内容が変更になる可能性がございます。
 ＊ 事前予約制ですが、出入りは自由となります。\n\n
 会場\n日本IBM 丸の内永楽オフィス丸の内永楽ビルディ
 ング 18階〒100-0005 東京都千代田区丸の内1-4-1\nJR「東京
 駅」より徒歩5分東京メトロ/東西線「大手町」地下直
 結東京メトロ/丸の内線「東京駅」より徒歩5分東京メ
 トロ/丸の内線「大手町駅」より徒歩3分\nGoogle Map＊会
 場詳細はご予約頂いた方へ別途ご連絡させて頂きます
 。\n参加対象\n・日本IBMでのキャリアにご興味・ご関心
 をお持ちの方・コンサルタントとして、新しいキャリ
 アを模索されている方・IBMの金融コンサルタントの仕
 事内容や雰囲気を知りたい方\nSIer、コンサルティング
 ファーム、ITベンダーにおいて、金融システムや金融DX
 戦略、業務企画などの職務経験のある方にフィットし
 た内容のイベントとなります。\n現在はコンサルタン
 トとしての経験は少ないが、ITスキルを活かしコンサ
 ルタントを目指したい方、ぜひご応募ください。\n＜
 対象職種＞・ITコンサルタント・ビジネス（業務系・
 データ系）コンサルタント・戦略コンサルタント・IT
 プロジェクトマネジャーなど\n参加費\n無料\n注意事項\
 n\n当日予告なく時間配分・内容が変更になる可能性が
 ございます。\n参加希望者多数の場合、抽選とさせて
 いただく場合がございますことご容赦ください。\n参
 加を辞退する場合は、詳細ページより申込のキャンセ
 ルをお願い致します。\n無断キャンセル・欠席が続く
 場合、次回以降の参加をお断りさせていただく場合が
 ございますのでご了承ください。\n
LOCATION:【日本IBM 丸の内永楽オフィス】丸の内永楽ビル
 ディング 18階（東西線「大手町」地下直結） 〒100-0005 
 東京都千代田区丸の内1-4-1
URL:https://techplay.jp/event/970824?utm_medium=referral&utm_source=ics&utm
 _campaign=ics
END:VEVENT
END:VCALENDAR
