BEGIN:VCALENDAR
VERSION:2.0
PRODID:-//https://techplay.jp//JP
CALSCALE:GREGORIAN
METHOD:PUBLISH
X-WR-CALDESC:企業の競争力を加速する！データリテラシー
 の向上と非構造化データの活用によるデータドリブン
 組織の作り方
X-WR-CALNAME:企業の競争力を加速する！データリテラシー
 の向上と非構造化データの活用によるデータドリブン
 組織の作り方
X-WR-TIMEZONE:Asia/Tokyo
BEGIN:VTIMEZONE
TZID:Asia/Tokyo
BEGIN:STANDARD
DTSTART:19700101T000000
TZOFFSETFROM:+0900
TZOFFSETTO:+0900
TZNAME:JST
END:STANDARD
END:VTIMEZONE
BEGIN:VEVENT
UID:970913@techplay.jp
SUMMARY:企業の競争力を加速する！データリテラシーの向
 上と非構造化データの活用によるデータドリブン組織
 の作り方
DTSTART;TZID=Asia/Tokyo:20250213T150000
DTEND;TZID=Asia/Tokyo:20250213T160000
DTSTAMP:20260424T204555Z
CREATED:20250124T004411Z
DESCRIPTION:イベント詳細はこちら\nhttps://techplay.jp/event/97091
 3?utm_medium=referral&utm_source=ics&utm_campaign=ics\n\n----------------
 ---------------------------------詳細・お申込はこちらhttps://hu
 bs.ly/Q033gz1p0-------------------------------------------------\nイベ
 ント概要\n現代においてDXが求められる中、データドリ
 ブンな意思決定の重要性はますます高まっています。
 しかし、実際にデータを正しく利活用できている企業
 はまだ少ないのが現状です。さらに、テキスト、画像
 、動画、音声データなどの非構造化データが新たなビ
 ジネス価値の源泉として注目されていますが、その活
 用には多くの課題が伴い、十分にそのポテンシャルを
 引き出せている企業は限られています。\n本セミナー
 では、データドリブンな意思決定を支える「データリ
 テラシー」の重要性と、その向上方法をわかりやすく
 解説します。また、非構造化データを効果的に活用す
 るための具体的なアプローチを紹介し、実際の事例を
 交えながらその可能性を具体的にお伝えします。DXを
 推進する中で、データ活用の課題を抱える経営層や部
 門責任者、DX推進担当者の方は、ぜひお役立てくださ
 い。\nセミナー内容\n\n企業の経営者や幹部の方\nDX推進
 ・経営企画\n情報システム部門の方\n\nこんな方におす
 すめ\n\nデータが蓄積してきたものの活用しきれていな
 い\n非構造化データの活用アプローチが知りたい\nデー
 タを活用して確度の高いビジネス判断をしたい\nデー
 タを活用して業務効率化やコスト削減、属人化脱却な
 どを実現したい\n\n登壇者\n高橋 昌樹／株式会社デリバ
 リーコンサルティング 取締役COO東京工業大学大学院理
 工学研究科修士課程卒業後、アンダーセンコンサルテ
 ィング（現アクセンチュア）に入社。技術、戦略コン
 サルティングに従事。SAS Institute Japan、EYアドバイザリ
 ーにてデータ分析コンサルティングや事業開発を統括
 し17年当社入社、2020年取締役就任。2022年8月より現職
 。\n石田 和也／株式会社DATAFLUCT 執行役員・AirLake事業
 責任者2010年独立系のSIerに入社。主に金融機関や決済
 事業のシステム開発、保守に従事。新規事業開発にも
 携わり、BtoB向けのSoE基盤・API基盤などのプラットフォ
 ーム構築を数多く手がける。\n--------------------------------
 -----------------詳細・お申込はこちらhttps://hubs.ly/Q033gz1p0-
 ------------------------------------------------
LOCATION:
URL:https://techplay.jp/event/970913?utm_medium=referral&utm_source=ics&utm
 _campaign=ics
END:VEVENT
END:VCALENDAR
