BEGIN:VCALENDAR
VERSION:2.0
PRODID:-//https://techplay.jp//JP
CALSCALE:GREGORIAN
METHOD:PUBLISH
X-WR-CALDESC:デモンストレーションを見ながら学ぶ HTML/CSS
 の基礎（5） 〜横スクロールアニメーションの構造を
 理解する〜
X-WR-CALNAME:デモンストレーションを見ながら学ぶ HTML/CSS
 の基礎（5） 〜横スクロールアニメーションの構造を
 理解する〜
X-WR-TIMEZONE:Asia/Tokyo
BEGIN:VTIMEZONE
TZID:Asia/Tokyo
BEGIN:STANDARD
DTSTART:19700101T000000
TZOFFSETFROM:+0900
TZOFFSETTO:+0900
TZNAME:JST
END:STANDARD
END:VTIMEZONE
BEGIN:VEVENT
UID:971311@techplay.jp
SUMMARY:デモンストレーションを見ながら学ぶ HTML/CSSの基
 礎（5） 〜横スクロールアニメーションの構造を理解
 する〜
DTSTART;TZID=Asia/Tokyo:20250226T190000
DTEND;TZID=Asia/Tokyo:20250226T200000
DTSTAMP:20260421T212636Z
CREATED:20250128T014939Z
DESCRIPTION:イベント詳細はこちら\nhttps://techplay.jp/event/97131
 1?utm_medium=referral&utm_source=ics&utm_campaign=ics\n\nデモンスト
 レーションを見ながら学ぶ HTML/CSSの基礎（5） 〜横ス
 クロールアニメーションの構造を理解する〜\nクリー
 ク･アンド･リバー社（C&R社）では2025年２月26日（水
 ）に、「デモンストレーションを見ながら学ぶ HTML/CSS
 の基礎（5） 〜横スクロールアニメーションの構造を
 理解する〜」を実施します。\nこのウェビナーでは、
 専門学校、職業訓練、社会人スクールなどでWebサイト
 制作を学ばれた方や、Webサイト制作について学びなお
 しをしたいクリエイター、Webサイト制作をがっつりや
 っていないWebディレクター、制作進行管理の方を対象
 に、よくあるWebサイトデザインの一部を制作工程のデ
 モンストレーションを見ながら、HTMLとCSSの使い方を分
 解してみることで理解を深めていく内容となっていま
 す。\n５回目の今回は、横スクロールし続けるアニメ
 ーションについて、制作工程を見ながら構造を理解し
 ていきます。\n▼対象レベル\n\n\n基本的なhtmlやCSSを理
 解している方\njQueryの使い方を理解している方\n\n▼こ
 んなことを学びます！\n\n\n横スクロールし続けるアニ
 メーションについて構造を見ながら理解しよう（デモ
 ンストレーション）\n作成時の注意点など\n\n\n▼こん
 な方にオススメ！\n\n\nHTML/CSSのコーディングについて
 学びたい方\nスクールや職業訓練校でHTML/CSSを学んだが
 活用しきれていないと感じている方\nこれからWeb業界
 で働く予定だがコーディングの知識の活かし方に不安
 がある方\nDTPやグラフィックデザインからWebサイト制
 作に業務の幅を広げたいとお考えの方\n\nタイムスケジ
 ュール\n\n\n\n時間\n内容\nspeaker\n\n\n\n\n19：00～19：05\nオ
 ープニング\nC&R社\n\n\n19：05～19：50\n講演\n塚田 大祐氏\
 n\n\n19：50～20：00\n質疑応答\n\n\n\n20：00～\nクロージン
 グ\n\n\n\n\n※ 当日予告なく時間配分・内容が変更にな
 る可能性がございます。\n登壇者\n塚田 大祐（つかだ
 ・だいすけ）氏\n「祐」-たすく-　代表取締役Web・Office
 インストラクター／Webディレクター\n東放学園　放送
 広告科卒業\n海外向け広告代理店でDTPによる印刷物（
 カタログ・チラシ等）の制作に従事。\nその後、専門
 学校の担任教員を経て、独立。雑誌レイアウトやチラ
 シ・カタログ・Webサイトの制作及び大学・専門学校等
 の非常勤講師・企業のデザイン研修・Office研修をメイ
 ンに活動。\nMac検定委員会の検定準備委員会役員及び
 検定問題の基礎構築と問題作成。「マックでマンガ」
 （共著）での執筆。\n\n▼受講生の声\n・サイト構築の
 勉強中なので、基本が学べた。・HTMLとCSSだけでなく、
 JavaScriptでハンバーガメニューの大まかな実装方法や注
 意点を学ぶことができとても有意義だったと感じた。
 ・調べながらHTMLを作成しているため、何となくこれを
 使えばいいというように考えずに使ってしまっていた
 ことが多々あったのですが、セミナーを聴講し、各プ
 ロパティについて学ぶことができた。今回を機会に、1
 個ずつ学びながら使っていこうという意識を持てるよ
 うになりそう。・Webサイトの画面がどのようにできて
 いるのかが理解できた。・CSSアニメーションでよく見
 る表現について、どのような仕組みでこの挙動ができ
 ているのか理解することができた。・どういう風に進
 めればよいか、大まかな流れが分かりました。・Web等
 で調べながら作業をしているため、何となくこれを使
 えないいというような認識で、なぜ使っているのか、
 具体的にどのように効果があるのかといった理解が浅
 かった。セミナーを聴講して実際に使っているプロパ
 ティをより深く学ぶことができた。このセミナーをき
 っかけに、1個ずつ意味を理解して学んでいこうと改め
 て意識しようと思う。・実例を見ながらソースの開設
 をしていただいたので、とても分かりやすかった。・
 新しい知識を得られたので実践していきたい。・知ら
 ないことを知ることができ、大変勉強になった。これ
 からの実務で役立てていきたいと思う。・まさに知り
 たいと思ってい事例が盛りだくさんで、とても分かり
 やすく解説くださったので、書籍では良く分からなか
 ったことも理解できた。・よく使用する形をデモスト
 レーションでコードと見比べながらの説明していただ
 き、大変わかりやすかった。\n参加対象\nWebデザイナー
 、コーダーの方専門学校やスクールでWebの勉強をされ
 ている方\n参加費\n無料\n当ウェビナーについて\n\n\nこ
 ちらのサイトからもお申込みいただくことができます
 。\n\n\n▼C&R社で実施しているオンライン講座・ウェビ
 ナー　一覧ページhttps://www.c-place.ne.jp/
LOCATION:
URL:https://techplay.jp/event/971311?utm_medium=referral&utm_source=ics&utm
 _campaign=ics
END:VEVENT
END:VCALENDAR
