BEGIN:VCALENDAR
VERSION:2.0
PRODID:-//https://techplay.jp//JP
CALSCALE:GREGORIAN
METHOD:PUBLISH
X-WR-CALDESC:【GA4ステップアップセミナー上級編】マーケ
 ター直伝！実践的なサイト分析&改善講座
X-WR-CALNAME:【GA4ステップアップセミナー上級編】マーケ
 ター直伝！実践的なサイト分析&改善講座
X-WR-TIMEZONE:Asia/Tokyo
BEGIN:VTIMEZONE
TZID:Asia/Tokyo
BEGIN:STANDARD
DTSTART:19700101T000000
TZOFFSETFROM:+0900
TZOFFSETTO:+0900
TZNAME:JST
END:STANDARD
END:VTIMEZONE
BEGIN:VEVENT
UID:971313@techplay.jp
SUMMARY:【GA4ステップアップセミナー上級編】マーケター
 直伝！実践的なサイト分析&改善講座
DTSTART;TZID=Asia/Tokyo:20250219T120000
DTEND;TZID=Asia/Tokyo:20250219T130000
DTSTAMP:20260423T081307Z
CREATED:20250128T032702Z
DESCRIPTION:イベント詳細はこちら\nhttps://techplay.jp/event/97131
 3?utm_medium=referral&utm_source=ics&utm_campaign=ics\n\n【GA4ステッ
 プアップセミナー上級編】マーケター直伝！実践的な
 サイト分析&改善講座\n概要\n2025年2月19日(水)12:00～\nこ
 の度、GA4を初級から上級まで段階的に学んでいける、
 「GA4ステップアップセミナー」を開催いたします。第3
 弾の上級編は、「GA4のレポートや探索機能をさらに活
 用したい」「具体的なデータ分析を通じてサイトの改
 善につなげたい」「分析結果を現場で役立てる方法を
 知りたい」そんな課題を解決する内容となっています
 ！\n本セミナーでは、講師が実際のGA4データを使用し
 ながら\n探索機能を活用した高度なデータ分析手法デ
 ータからWebサイトの課題を効率よく発見する方法分析
 結果を活かした具体的なサイト改善の進め方を丁寧に
 解説します。\nこれまでに学んだ知識をさらに発展さ
 せ、実際の業務やプロジェクトで役立つ内容をお届け
 します。GA4でのデータ分析を通じて、課題解決や意思
 決定に役立つ知識を習得しましょう！！\n3連続セミナ
 ー概要\n初級編　　日時：2月7日（金）12時～13時　　
 内容：導入手順、設定方法と基本の見方中級編　　日
 時：2月14日（金）　　内容：レポートから基本データ
 を確認する方法とポイント解説上級編　　日時：2月19
 日（水）　　内容：レポートと検索を活用した実践的
 な分析方法\nこのようなお悩みをお持ちの方に！\n\n\n
 企業のWeb担当者\nGA4を一から学びたい方\nGA4を使いこな
 したい方\n分析データの活用方法を知りたい方\n\nこの
 セミナーで学べること\n\n\nGA4の探索機能を活用した高
 度なデータ分析方法\nデータたからWebサイトの課題を
 発見する方法\n分析結果を生かしたサイト改善の進め
 方\n\n登壇者\n\n太田 健吾\n株式会社エッコ　Webマーケ
 ティング事業部リーダー\n名古屋大学大学院を卒業後
 、大阪大学にて企業との共同製品開発プロジェクトを
 担当。\n開発から販売戦略立案までを経験した後、独
 立してWebコンサルタントとして活動することになる。\
 n個人事業から年商数百億規模の企業まで、多種多様な
 業種のWebサイトの業績UPを支援し現在は株式会社エッ
 コのマーケティング責任者を務めている。\nWeb集客手
 法だけに留まらず、事業戦略や広報活動など多岐に渡
 る提案を得意とする。\n\n参加費\n無料\n注意事項\n\nリ
 クルーティング、勧誘など、採用目的でのイベント参
 加はお断りしております。\nキャンセル待ち・補欠・
 落選の方はご参加いただくことが出来ませんのでご了
 承ください。\n欠席される場合は、お手数ですが速や
 かにキャンセル処理をお願い致します。\n無断キャン
 セルや欠席が続く場合、次回以降の参加をお断りさせ
 ていただく場合がございます。\n
LOCATION:
URL:https://techplay.jp/event/971313?utm_medium=referral&utm_source=ics&utm
 _campaign=ics
END:VEVENT
END:VCALENDAR
