BEGIN:VCALENDAR
VERSION:2.0
PRODID:-//https://techplay.jp//JP
CALSCALE:GREGORIAN
METHOD:PUBLISH
X-WR-CALDESC:前後編でじっくり学ぶ、Excel関数シリーズ～デ
 ータベースや表作成に使える関数編～【後編】
X-WR-CALNAME:前後編でじっくり学ぶ、Excel関数シリーズ～デ
 ータベースや表作成に使える関数編～【後編】
X-WR-TIMEZONE:Asia/Tokyo
BEGIN:VTIMEZONE
TZID:Asia/Tokyo
BEGIN:STANDARD
DTSTART:19700101T000000
TZOFFSETFROM:+0900
TZOFFSETTO:+0900
TZNAME:JST
END:STANDARD
END:VTIMEZONE
BEGIN:VEVENT
UID:971948@techplay.jp
SUMMARY:前後編でじっくり学ぶ、Excel関数シリーズ～デー
 タベースや表作成に使える関数編～【後編】
DTSTART;TZID=Asia/Tokyo:20250317T190000
DTEND;TZID=Asia/Tokyo:20250317T200000
DTSTAMP:20260420T105856Z
CREATED:20250203T003832Z
DESCRIPTION:イベント詳細はこちら\nhttps://techplay.jp/event/97194
 8?utm_medium=referral&utm_source=ics&utm_campaign=ics\n\n前後編でじ
 っくり学ぶ、Excel関数シリーズ～データベースや表作
 成に使える関数編～【後編】\nクリーク･アンド･リ
 バー社（C&R社）は、2025年３月17日（月）に「前後編で
 じっくり学ぶ、Excel関数シリーズ～データベースや表
 作成に使える関数編～【後編】」を実施します。\n「
 前後編でじっくり学ぶ、Excel関数シリーズ」では、前
 編で当該関数の基本を、後編で活用方法や関連関数・
 関連機能での実現方法を学ぶ内容になっています。\n
 今回実施するデータベースや表作成に使える関数編で
 は、後編で後編で**SWITCH関数、INDIRECT関数、他の関数と
 の組み合わせなど、**演習をしながら学びます。前編
 （３月10日実施）ではDSUM関数、DMAX関数、SUBTOTAL関数な
 どについて学びます。\nウェビナーはハンズオン形式
 で実施します。作業データを使いながら講師と一緒に
 作業をしながら学べる内容となっていますので、ウェ
 ビナー後もデータを使って復習することができます。\
 n是非前編も継続してご参加ください。※いずれかのみ
 のご参加も可能です。\n▼こんなことを学びます。\n\n
 後編でSWITCH関数、INDIRECT関数、他の関数との組み合わ
 せなど\n\n▼こんな方にオススメ！\n\n普段Excelを使って
 いる中級者\nExcelでデータ集計をされている方\nExcelの
 機能についてさらにじっくり学びたいとお考えの方\n
 表の作成に使える関数について学びたい方\n\nタイムス
 ケジュール\n\n\n\n時間\n内容\nspeaker\n\n\n\n\n19：00～19：05
 \nオープニング\nC&R社\n\n\n19：05～19：50\n講演\n古澤登志
 美 氏\n\n\n19：50～20：00\n質疑応答\n\n\n\n20：00～\nクロ
 ージング\n\n\n\n\n※ 当日予告なく時間配分・内容が変
 更になる可能性がございます。\n登壇者\n古澤　登志美
 （ふるさわ・としみ）氏\n株式会社ワンズ・ワン代表
 取締役\n2001年、パソコン出張サポート業を起ち上げ、
 同時にＩＴ系セミナー講師としても活動を開始。Excel
 を始めとしたOfficeアプリの他、ホームページ作成や画
 像処理など、初心者にもわかりやすく伝えることを得
 意とする。現在はＩＴ活用支援を中心に、中小企業向
 の生産性向上に向けたコンサルティングを行っている
 。2017年、中小企業診断士登録。2021年ＩＴコーディネ
 ータ認定。\n「Excelパワークエリではじめるデータ集計
 の自動化」（インプレス刊）著者。\n「Excelパワーピボ
 ットで極める一歩先の集計・分析」（インプレス刊）
 著者。\n「できるDAX関数 Power BI＆Excelパワーピボット対
 応」（インプレス刊）著者。\n\n「Excelパワークエリで
 はじめるデータ集計の自動化」（インプレス刊）「Exce
 lパワーピボットで極める一歩先の集計・分析」（イン
 プレス刊）「できるDAX関数 Power BI＆Excelパワーピボッ
 ト対応」（インプレス刊）\n参加費\n無料\n当ウェビナ
 ーについて\n\n\nこちらのサイトからもお申込みいただ
 くことができます。\n\n\n▼C&R社で実施しているオンラ
 イン講座・ウェビナー　一覧ページhttps://www.c-place.ne.jp
 /
LOCATION:
URL:https://techplay.jp/event/971948?utm_medium=referral&utm_source=ics&utm
 _campaign=ics
END:VEVENT
END:VCALENDAR
