BEGIN:VCALENDAR
VERSION:2.0
PRODID:-//https://techplay.jp//JP
CALSCALE:GREGORIAN
METHOD:PUBLISH
X-WR-CALDESC:Accenture Technology 2/19(水)セキュリティグループ 
 オンライン中途採用説明会&座談会
X-WR-CALNAME:Accenture Technology 2/19(水)セキュリティグループ 
 オンライン中途採用説明会&座談会
X-WR-TIMEZONE:Asia/Tokyo
BEGIN:VTIMEZONE
TZID:Asia/Tokyo
BEGIN:STANDARD
DTSTART:19700101T000000
TZOFFSETFROM:+0900
TZOFFSETTO:+0900
TZNAME:JST
END:STANDARD
END:VTIMEZONE
BEGIN:VEVENT
UID:972217@techplay.jp
SUMMARY:Accenture Technology 2/19(水)セキュリティグループ オン
 ライン中途採用説明会&座談会
DTSTART;TZID=Asia/Tokyo:20250219T190000
DTEND;TZID=Asia/Tokyo:20250219T203000
DTSTAMP:20260421T001923Z
CREATED:20250205T091022Z
DESCRIPTION:イベント詳細はこちら\nhttps://techplay.jp/event/97221
 7?utm_medium=referral&utm_source=ics&utm_campaign=ics\n\n概要\nセキ
 ュリティコンサルタント - テクノロジー コンサルティ
 ング本部テクノロジーコンサルティング本部セキュリ
 ティグループにてオンライン中途採用説明会&座談会を
 開催いたします。「セキュリティコンサルタント・エ
 ンジニアに興味があるけれど、どのようなプロジェク
 トがあって、どのように仕事を進めているのか」「ど
 んな人が向いているの？今までの経験が活かせるのか
 分からないので現役社員と話がしてみたい」このよう
 な方を対象に、実際の仕事やプロジェクトについて現
 場社員がお話させていただきます。\n参加は応募意思
 不問ですので、是非お気軽にご参加下さい！※セキュ
 リティ部門責任者も登壇いたします。\n＜申込期限 2/18
 (火) 正午まで>\n定員・タイムスケジュール\n◆日時：20
 25年2月19日(水)19:00-20:30\n◆開催方法：オンライン※詳
 細はお申込みいただいた方に追ってご連絡いたします
 。\n◆スケジュール：19:00～19:20　会社概要19:20～20:00　
 Securityグループのご紹介20:00～20:30　座談会※予告なく
 変更になる可能性がございます。予めご了承ください
 。\n参加対象\n◆対象となる方：・社会人の方でセキュ
 リティコンサルタント、エンジニアポジションにご興
 味のある方・アクセンチュアでの勤務に興味があり、
 具体的な業務内容や働き方について知りたい方※勤務
 地：関東、関西、その他（状況に応じて地方採用・ロ
 ケーション フレキシビリティ 採用情報 | アクセンチ
 ュア (accenture.com)適用可） セキュリティグループでは
 若手ポテンシャル層の採用も積極的に行っております
 ！経験は浅いけど、、と悩まれている方もぜひご参加
 下さい。\n◆応募意思有無：不問（イベント参加のの
 ち、応募をご検討でも問題ございません）\n場所\nオン
 ライン※Teamsへ参加ができないなどお問い合わせが多
 数発生しております。予めアプリをダウンロードいた
 だくかブラウザや端末（スマートフォン⇔PC）を切り
 替えてお試しいただけますようお願い申し上げます。\
 n参加費\n無料\n応募方法\n下記URLよりお申し込みくださ
 い。下記よりお申込みいただけない場合は、案内送付
 いたしかねますのでご了承くださいませ。2/19（水）セ
 キュリティグループ採用セミナー / 座談会（テクノロ
 ジー コンサルティング本部）\n◆お申し込み期限：2025
 年2月18日(火)正午まで　※履歴書/職務経歴書の添付不
 要
LOCATION:
URL:https://techplay.jp/event/972217?utm_medium=referral&utm_source=ics&utm
 _campaign=ics
END:VEVENT
END:VCALENDAR
