BEGIN:VCALENDAR
VERSION:2.0
PRODID:-//https://techplay.jp//JP
CALSCALE:GREGORIAN
METHOD:PUBLISH
X-WR-CALDESC:“超”採算的なマネジメントを学ぶ～忙しす
 ぎる経営者のための経営仕組み化トレーニング～
X-WR-CALNAME:“超”採算的なマネジメントを学ぶ～忙しす
 ぎる経営者のための経営仕組み化トレーニング～
X-WR-TIMEZONE:Asia/Tokyo
BEGIN:VTIMEZONE
TZID:Asia/Tokyo
BEGIN:STANDARD
DTSTART:19700101T000000
TZOFFSETFROM:+0900
TZOFFSETTO:+0900
TZNAME:JST
END:STANDARD
END:VTIMEZONE
BEGIN:VEVENT
UID:972395@techplay.jp
SUMMARY:“超”採算的なマネジメントを学ぶ～忙しすぎる
 経営者のための経営仕組み化トレーニング～
DTSTART;TZID=Asia/Tokyo:20250311T130000
DTEND;TZID=Asia/Tokyo:20250311T150000
DTSTAMP:20260423T213912Z
CREATED:20250207T044623Z
DESCRIPTION:イベント詳細はこちら\nhttps://techplay.jp/event/97239
 5?utm_medium=referral&utm_source=ics&utm_campaign=ics\n\n【忙しすぎ
 る経営者のための経営仕組み化トレーニング】\n\n\n\n\n
 \n\n\n\n\nプログラム名\n忙しすぎる経営者のための経営
 仕組み化トレーニング\n\n\n日時\n〇　3/8(土) 13:00〜15:00 
 　(2/7現在)　定員15席＠zoom〇　3/10(月) 13:00〜15:00　(2/7
 現在)　定員15席＠zoom〇　3/10(月) 19:00〜21:00　(2/7現在)
 　定員15席＠zoom　〇　3/11(火) 13:00〜15:00　(2/7現在)　定
 員15席＠zoom\n\n\n料金\n無料\n\n\n場所\nZOOM\n\n\n参加対象\n
 ※経営者・個人事業様向け・通販ビジネス経営者、WEB
 サイトオーナー・ECサイト店長・集客サイトを所有す
 る経営者\n\n\nプログラム内容\n・今回のセミナーの目
 標・優秀な企業が取り入れているマーケティングファ
 ネルとは・一番売上が上がりやすい改善改善法・毎月
 約300人応募がきているオレコンが採用に使っている方
 法・優秀なスタッフを採用できる採用基準・オフィス
 なしでもスタッフの生産性を数字で把握する方法・売
 上が上がっていく超採算性という考え方・多くの人が
 使っている時間管理術の罠とは・経営者がやるべき正
 しい学習方法・今すぐできる、採算性をあげる〇〇断
 捨離・あなたは身近な〇〇に時間を奪われている・ず
 っと利益を生み続ける仕組みづくりの方法\n\n\n参加特
 典\n①無駄を省いて利益を最大化する　仕組み化経営
 チェックシート②社員が勝手に育つ評価制度　20のチ
 ェックポイント③放っておいても成果が出る　社員を
 動かす評価項目テンプレート④今すぐ使えて最短で成
 果を出す　週次報告テンプレート⑤オレコンの合格率
 を丸ごと公開　人事採用データ数値⑥従業員からの質
 問に即答する　模範解答チートシート100⑦未経験から
 責任者へ育成　社員の成長を利益に変える評価\n\n\n\n
 あなたの悩みを解決する経営仕組化とは？●超採算性
 と仕組み化　脳科学に基づいた「断捨離」を取り入れ
 、1回に使える時間を1.5倍にする環境作り\n●顧客・ス
 タッフの無意識の行動を「仕組化&自動化」　欲しい収
 益に自動で到達し、働く時間を1/2 かつ売上は3倍へシ
 フト\n●チームビルディング　トップクラスの人材を
 チームに入れ、高いモチベーションで成果を出し続け
 る仕組\n参加すれば特に成果が出やすい方\n\n売上が伸
 び悩んでおり、新しい事業を始めたいが、忙しくて手
 を付けられていない方\n人手不足で仕事が滞り、スタ
 ッフの採用が難しい方\n社長のチェックが必要な組織
 から自走するチームを目指す方\n365日働き続けてプラ
 イベートの時間が取れない方\n\n講師プロフィール\n81
 業種、3\,278社以上の企業に174.8億円超えの売上UPをもた
 らした男\nデジタルマーケティングビジネス効率の専
 門家『　山本琢磨(やまもとたくま)　』\n\n\nこれまで
 にWebデザイン、マイクロコピー、トラストフォーマッ
 トなど、\nウェブページのA/Bテストやデータ分析に裏
 付けた改善方法で、\n3\,278社以上の企業にトレーニン
 グ、企業研修を実施。\n2017年からは、国内初となるマ
 イクロコピーライティングの\nワークショップを開催
 。全国の経営者、通販ビジネス事業者を中心に、\nク
 ライアント企業2\,364社以上でテストを実施し、\n自社
 においては国内外の1\,663を超える事例検証を行ってい
 る。\nこれまで81業種を超えるクライアントにもたらし
 た売上の伸びは、\n報告のあったものだけでも174.8億円
 以上。\n過去14年間で実施したWEBテストの回数は2\,000回
 を超えた。\n※出典：株式会社オレコン調査（2022年現
 在）\n\n・日経 BPベストショップ2位連続受賞。・楽天
 ショップ・オブ・ザ・イヤー2年連続/総合2位受賞。・
 『Webコピーライティングの新常識 ザ・マイクロコピー
 』Amazon3冠ベストセラー著者。・Yahoo!インターネットコ
 ミュ二ケーションアドバイザー全国1位。\n\n著書に専
 門書では異例のAmazon3冠ベストセラーを記録した・「ザ
 ・マイクロコピー」（秀和システム）・米国マーケタ
 ー・ダンケネディとの共著『常識を変えた15人の「売
 れる仕組み」』（ミラクルマインド出版）DVDに・「社
 長のための悪魔の時間管理術」（K.Eメディア）がある
 。\n注意事項\n\nリクルーティング、勧誘など、採用目
 的でのイベント参加はお断りしております。\nキャン
 セル待ち・補欠・落選の方はご参加いただくことが出
 来ませんのでご了承ください。\n欠席される場合は、
 お手数ですが速やかにキャンセル処理をお願い致しま
 す。\n無断キャンセルや欠席が続く場合、次回以降の
 参加をお断りさせていただく場合がございます。\n\n.
 　#経営仕組化　#経営ノウハウ　#着席特典　#採用効率
 　#チームビルディング　#プロジェクトマネジメント
 　#マネジメント　#在宅ワーク　#リモートワーク　#経
 営者向け　#セミナー #無料ウェビナー　#経営　#経営
 を学ぶ　#人事　#人事評価　#経営効率化　#業務改善　
 #生産性向上　#利益最大化　#経営戦略　#組織改革　#
 リーダーシップ開発　#デジタル化推進　#働き方改革
 　#経営革新　#中小企業経営　#生産性向上　#経営課題
 解決　#業務効率化　#ウェブワークシフト　#経営者時
 間管理　#中小企業DX　#リモートワーク経営　#経営　#
 経営仕組化で労働時間激減　#経営仕組化で利益3倍　#
 オンラインセミナー#マーケティング　#業務効率化　#
 人材育成　#コーチング　#働き方　#中小企業　#イノベ
 ーション
LOCATION:
URL:https://techplay.jp/event/972395?utm_medium=referral&utm_source=ics&utm
 _campaign=ics
END:VEVENT
END:VCALENDAR
