BEGIN:VCALENDAR
VERSION:2.0
PRODID:-//https://techplay.jp//JP
CALSCALE:GREGORIAN
METHOD:PUBLISH
X-WR-CALDESC:IBM地域DXセンター キャリアセッション Replay公
 開
X-WR-CALNAME:IBM地域DXセンター キャリアセッション Replay公
 開
X-WR-TIMEZONE:Asia/Tokyo
BEGIN:VTIMEZONE
TZID:Asia/Tokyo
BEGIN:STANDARD
DTSTART:19700101T000000
TZOFFSETFROM:+0900
TZOFFSETTO:+0900
TZNAME:JST
END:STANDARD
END:VTIMEZONE
BEGIN:VEVENT
UID:972453@techplay.jp
SUMMARY:IBM地域DXセンター キャリアセッション Replay公開
DTSTART;TZID=Asia/Tokyo:20250210T161000
DTEND;TZID=Asia/Tokyo:20250228T235900
DTSTAMP:20260420T024125Z
CREATED:20250207T080259Z
DESCRIPTION:イベント詳細はこちら\nhttps://techplay.jp/event/97245
 3?utm_medium=referral&utm_source=ics&utm_campaign=ics\n\nIBM地域DXセ
 ンター キャリアセッション Replay公開\n日本アイ・ビー
 ・エムデジタルサービス株式会社\n概要\n世界170カ国以
 上でビジネスを展開するIBMのグループ会社である、日
 本アイ・ビー・エムデジタルサービス株式会社（IJDS）
 は、2025年2月現在、全国８カ所*に「IBM地域DXセンター
 」を展開しています。*札幌・仙台・幕張・長野・広島
 ・高松・北九州・那覇\n同センターは、先進テクノロ
 ジーを活用した高度なシステム開発と運用の拠点であ
 り、地域のDX案件のみならず、首都圏や海外の大型案
 件にも携わることが可能です。\n今回は 2025年2月10日～
 2月28日の期間限定で、2024年にTECH PLAYで開催したセッシ
 ョンのReplayを公開します。夕方の時間帯にリアルタイ
 ムでセッションを開催していましたが、夕方の時間帯
 ではご都合がつかない方など、幅広い層の方々にご視
 聴いただき、みなさまのキャリアのご参考にしていた
 だければ幸いです。\n＊期間内であればいつでも何度
 でもReplay動画をご視聴いただけます＊ご視聴後はぜひ
 、アンケートの回答にご協力ください＊ご質問や応募
 の意思表示もアンケートにて受け付けております\n\nRep
 lay公開内容\n\n\n\n開催日\nタイトル\n\n\n\n\n2024/5/8\n技術
 者 × Diversity × 地域での豊かな暮らし・（事前配信
 コンテンツ）特別鼎談「技術者 × Diversity × 地域での
 豊かな暮らし」　　株式会社ポーラ代表取締役社長 及
 川 美紀様　　特定非営利活動法人Waffle 理事長 田中 沙
 弥果様・IBM地域DXセンター所属社員（仙台・北九州）
 によるトーク\n\n\n2024/6/26\n地域で豊かに働く × 今、旬
 の技術を身につける・株式会社MAIA 月田 有香 様 × IJDS 
 井上 裕美 対談・IJDS社員によるトーク\n\n\n2024/7/24\n香
 川発！住みたい地域で豊かなキャリアを歩むコツ・株
 式会社ＳＴＮｅｔ　田口 泰士 様 × IJDS 井上 裕美 対談
 ・IBM高松DXセンター所属社員によるトーク\n\n\n2024/12/10\
 n半導体ビジネスを支えるITエンジニアのキャリアの魅
 力・IJDSにおける半導体製造支援のご紹介・半導体プロ
 ジェクト参画のIJDS社員によるトーク\n\n\n2024/12/13\nフィ
 リピンと日本の地域で働くデジタル人材の共創がもた
 らす価値とは・IBMフィリピンCICご紹介・Zuitt.Inc 加藤 
 智久 様 × IJDS 井上 裕美 × 日本IBM 宿利 周作　鼎談・
 フィリピンと日本のIBMグループ社員によるトーク\n\n\n\
 n＊＊＊日本アイ･ビー･エムデジタルサービス株式会
 社（IJDS） 設立日：2020年7月1日 代表者：中村 健一 
 所在地：東京都港区虎ノ門二丁目6番1号 虎ノ門ヒルズ 
 ステーションタワー 日本IBM本社資本金： 1億円IJDSは、
 既存システムの安定稼働や新規アプリケーション開発
 を実現し、新技術によるデジタル変革を推進するお客
 様のビジネスの成長に不可欠な業界知識と幅広い技術
 力を持つプロフェッショナル集団です。幅広い業種・
 業界のお客様に対して、先進テクノロジーと業界知識
 を活かし、情報システムの設計・開発・構築・保守・
 運用とあらゆる領域でのサービスを提供しています。
 そして、お客様のビジネス成長とデジタル変革の支援
 を通じ、より良い社会の実現を目指しています。\n参
 加対象\n\n地域にいながら最先端のIT技術を用いて働き
 たい方\nIBM地域DXセンター開設拠点へのU / I / J ターン
 をご検討中の方\n日本IBMグループや本テーマに関心を
 お持ちの方\n実際に働く社員の話を聞いてみたい方\n\n
 ＜職種＞\n\nエンジニア、アーキテクトなどの技術系職
 種の方々\nプロジェクトマネージャー、プロジェクト
 リーダー、エンジニアリング・マネージャー、テック
 リードなどのマネジメント系職種の方々\nコンサルタ
 ント（業務 / パッケージ）\n\n参加費\n無料\n\n注意事項
 \n\nイベント内容の無断録音・録画はお断りしておりま
 す。\n
LOCATION:
URL:https://techplay.jp/event/972453?utm_medium=referral&utm_source=ics&utm
 _campaign=ics
END:VEVENT
END:VCALENDAR
