BEGIN:VCALENDAR
VERSION:2.0
PRODID:-//https://techplay.jp//JP
CALSCALE:GREGORIAN
METHOD:PUBLISH
X-WR-CALDESC:情報を伝える力を高める Webライティング入門
 オンライン講座Vol.7 〜ライターが知っておきたい最低
 限のWebマーケティングとSEOの基礎〜
X-WR-CALNAME:情報を伝える力を高める Webライティング入門
 オンライン講座Vol.7 〜ライターが知っておきたい最低
 限のWebマーケティングとSEOの基礎〜
X-WR-TIMEZONE:Asia/Tokyo
BEGIN:VTIMEZONE
TZID:Asia/Tokyo
BEGIN:STANDARD
DTSTART:19700101T000000
TZOFFSETFROM:+0900
TZOFFSETTO:+0900
TZNAME:JST
END:STANDARD
END:VTIMEZONE
BEGIN:VEVENT
UID:972617@techplay.jp
SUMMARY:情報を伝える力を高める Webライティング入門オン
 ライン講座Vol.7 〜ライターが知っておきたい最低限のW
 ebマーケティングとSEOの基礎〜
DTSTART;TZID=Asia/Tokyo:20250313T190000
DTEND;TZID=Asia/Tokyo:20250313T200000
DTSTAMP:20260420T044918Z
CREATED:20250210T030413Z
DESCRIPTION:イベント詳細はこちら\nhttps://techplay.jp/event/97261
 7?utm_medium=referral&utm_source=ics&utm_campaign=ics\n\n情報を伝え
 る力を高める Webライティング入門オンライン講座Vol.7 
 〜ライターが知っておきたい最低限のWebマーケティン
 グとSEOの基礎〜\nクリーク･アンド･リバー社（C&R社
 ）は、2025年3月13日（木）にWebライターの方を対象とし
 た無料ウェビナーを開催します。\n「情報を伝える力
 を高める Webライティング入門オンライン講座」では、
 これまでにWebライティングに必要なスキルについて、
 企画力や発信力の高め方、取材力の鍛え方など、Webラ
 イターとして活動していくために役立つ様々なお話を
 してきました。\n第7回目となる今回は、ライターが知
 っておきたい最低限のWebマーケティングとSEOの基礎に
 ついてお話しします。\nWebライターにとって「書ける
 」ことはもちろん重要ですが、それ以上にWebマーケテ
 ィングの全体知識やSEOライティングの知識が必要です
 。しかし、これらを専門的に学ぶのは非常に難しく時
 間がかかります。そこで今回は、特にライターが抑え
 ておきたいWebマーケティングとSEOの基礎に特化してお
 伝えします。\nこんな方にオススメ！\n\nライターを目
 指されている方\nフリーランスライターの方\nSEOについ
 て学んだことの無い方\nWebマーケティングについて学
 んだことの無い方\n\nタイムスケジュール\n\n\n\n時間\n
 内容\nspeaker\n\n\n\n\n19：00～19：05\nオープニング\nC&R社\n\
 n\n19：05～19：50\n講演\nおおしま　りえ 氏\n\n\n19：50～2
 0：00\n質疑応答\n\n\n\n20：00～\nクロージング\n\n\n\n\n※ 
 当日予告なく時間配分・内容が変更になる可能性がご
 ざいます。\n登壇者\nおおしま　りえ 氏\n株式会社フミ
 ニティ代表フリーライター／国家資格キャリアコンサ
 ルタント\n2013年より恋愛や女性向けライフスタイルを
 主な専門ジャンルとしてライター活動を開始。そこか
 ら書籍や雑誌、Webなど、様々な媒体で執筆を行う。現
 在はanan、女性自身、日経クロスウーマン、現代ビジネ
 スオンラインなど大手メデイアを中心に執筆する傍ら
 、国家資格キャリアコンサルタントを取得。クリエイ
 ターやフリーランスに特化したキャリア支援や情報発
 信も行っている。\n\n公式HP「コラムニストおおしまり
 えオフィシャルサイト」X：@utena0518公式LINE：https://lin.e
 e/D0jeMTf\n参加対象\n・ライターをめざしている方・フリ
 ーランスのライターの方・Webライティングに必要なス
 キルを知りたい方・オンライン広告のご担当者・SNS運
 用のご担当者　　など\n参加費\n無料\n当ウェビナーに
 ついて\n\n\nこちらのサイトからもお申込みいただくこ
 とができます。\n\n\n▼C&R社で実施しているオンライン
 講座・ウェビナー　一覧ページhttps://www.c-place.ne.jp/
LOCATION:
URL:https://techplay.jp/event/972617?utm_medium=referral&utm_source=ics&utm
 _campaign=ics
END:VEVENT
END:VCALENDAR
