BEGIN:VCALENDAR
VERSION:2.0
PRODID:-//https://techplay.jp//JP
CALSCALE:GREGORIAN
METHOD:PUBLISH
X-WR-CALDESC:NoSQLデータベースの常識を覆す！ 強い一貫性
 と分散ACIDトランザクション 〜Aerospike 8の革新的アップ
 デート〜
X-WR-CALNAME:NoSQLデータベースの常識を覆す！ 強い一貫性
 と分散ACIDトランザクション 〜Aerospike 8の革新的アップ
 デート〜
X-WR-TIMEZONE:Asia/Tokyo
BEGIN:VTIMEZONE
TZID:Asia/Tokyo
BEGIN:STANDARD
DTSTART:19700101T000000
TZOFFSETFROM:+0900
TZOFFSETTO:+0900
TZNAME:JST
END:STANDARD
END:VTIMEZONE
BEGIN:VEVENT
UID:972773@techplay.jp
SUMMARY:NoSQLデータベースの常識を覆す！ 強い一貫性と分
 散ACIDトランザクション 〜Aerospike 8の革新的アップデー
 ト〜
DTSTART;TZID=Asia/Tokyo:20250228T140000
DTEND;TZID=Asia/Tokyo:20250228T143000
DTSTAMP:20260421T031356Z
CREATED:20250211T105522Z
DESCRIPTION:イベント詳細はこちら\nhttps://techplay.jp/event/97277
 3?utm_medium=referral&utm_source=ics&utm_campaign=ics\n\nNoSQLデータ
 ベースの常識を覆す！ 強い一貫性と分散ACIDトランザ
 クション 〜Aerospike 8の革新的アップデート〜\n概要\n「
 NoSQLデータベースは一貫性が弱くて、基幹システムに
 は向かない」 こんな風に思っていませんか？\nそんな
 常識を覆すのが、Aerospike 8の最新アップデートです。
 これまで、多くのNoSQLはスピードやスケーラビリティ
 を優先し、一貫性やトランザクション機能が十分では
 ありませんでした。しかし、Aerospikeは独自のStrong Consis
 tencyモードを提供し、金融業界などのミッションクリ
 ティカルなシステムでも採用されています。そして、2
 025年2月のAerospike 8リリースでは、待望の マルチ・レコ
 ード・トランザクション機能 が追加され、本格的な分
 散ACIDトランザクションが可能になりました。\n本ウェ
 ビナーでは、実際のコードを交えながら、以下のポイ
 ントを解説します。・Strong Consistencyモードがもたらす
 強い一貫性とは？・マルチ・レコード・トランザクシ
 ョンの活用シナリオ\n<個人情報の取り扱いについて> Ae
 rospike Japan合同会社およびAerospike Incのプライバシーポ
 リシーについてはこちらをご確認ください。 https://aero
 spike.co.jp/privacy/ https://aerospike.com/legal/privacy-policy/\n\n参
 加費\n無料
LOCATION:
URL:https://techplay.jp/event/972773?utm_medium=referral&utm_source=ics&utm
 _campaign=ics
END:VEVENT
END:VCALENDAR
