BEGIN:VCALENDAR
VERSION:2.0
PRODID:-//https://techplay.jp//JP
CALSCALE:GREGORIAN
METHOD:PUBLISH
X-WR-CALDESC:モノの管理を変える！位置情報で実現する見
 える化と最適化
X-WR-CALNAME:モノの管理を変える！位置情報で実現する見
 える化と最適化
X-WR-TIMEZONE:Asia/Tokyo
BEGIN:VTIMEZONE
TZID:Asia/Tokyo
BEGIN:STANDARD
DTSTART:19700101T000000
TZOFFSETFROM:+0900
TZOFFSETTO:+0900
TZNAME:JST
END:STANDARD
END:VTIMEZONE
BEGIN:VEVENT
UID:972807@techplay.jp
SUMMARY:モノの管理を変える！位置情報で実現する見える
 化と最適化
DTSTART;TZID=Asia/Tokyo:20250318T130000
DTEND;TZID=Asia/Tokyo:20250318T134500
DTSTAMP:20260420T025758Z
CREATED:20250212T044048Z
DESCRIPTION:イベント詳細はこちら\nhttps://techplay.jp/event/97280
 7?utm_medium=referral&utm_source=ics&utm_campaign=ics\n\nモノの管理
 を変える！位置情報で実現する見える化と最適化\n概
 要\n業務の見える化で生産性アップ！今、現場のムダ
 や業務の非効率を正確に把握できていますか？「人・
 モノの動きが分かると、業務はここまで改善できる！
 」本セミナーでは、最新の位置情報技術「Beacapp Tag」
 を活用し、現場の課題を解決する具体的な方法をわか
 りやすく解説します。「ウチの業務でも活かせそう？
 」と少しでも感じた方は、ぜひご参加ください！\nこ
 んな方におすすめ\n\n工場・倉庫・オフィスの業務改善
 を担当されている方\n設備や資材・機器の管理を効率
 化したい方\n「どこにあるか分からない！」をゼロに
 し、探す時間を削減したい方\n実際の導入事例や効果
 を知りたい方\n\nビーキャップセミナー概要▼▼Beacapp
 セミナーサイト\n※ 当日予告なく時間配分・内容が変
 更になる可能性がございます。\n登壇者\n小島　絵咲\n
 株式会社ビーキャップ　サービス事業本部\n参加費\n無
 料\n注意事項\n\nリクルーティング、勧誘など、採用目
 的でのイベント参加はお断りしております。\nキャン
 セル待ち・補欠・落選の方はご参加いただくことが出
 来ませんのでご了承ください。\n欠席される場合は、
 お手数ですが速やかにキャンセル処理をお願い致しま
 す。\n無断キャンセルや欠席が続く場合、次回以降の
 参加をお断りさせていただく場合がございます。\n
LOCATION:
URL:https://techplay.jp/event/972807?utm_medium=referral&utm_source=ics&utm
 _campaign=ics
END:VEVENT
END:VCALENDAR
