BEGIN:VCALENDAR
VERSION:2.0
PRODID:-//https://techplay.jp//JP
CALSCALE:GREGORIAN
METHOD:PUBLISH
X-WR-CALDESC:【スリーシェイク×ウイングアーク１ｓｔ共催
 】データ活用の民主化！Dr.Sum ＆ Reckonerで実現する現場
 主導のデータ活用
X-WR-CALNAME:【スリーシェイク×ウイングアーク１ｓｔ共催
 】データ活用の民主化！Dr.Sum ＆ Reckonerで実現する現場
 主導のデータ活用
X-WR-TIMEZONE:Asia/Tokyo
BEGIN:VTIMEZONE
TZID:Asia/Tokyo
BEGIN:STANDARD
DTSTART:19700101T000000
TZOFFSETFROM:+0900
TZOFFSETTO:+0900
TZNAME:JST
END:STANDARD
END:VTIMEZONE
BEGIN:VEVENT
UID:973152@techplay.jp
SUMMARY:【スリーシェイク×ウイングアーク１ｓｔ共催】
 データ活用の民主化！Dr.Sum ＆ Reckonerで実現する現場主
 導のデータ活用
DTSTART;TZID=Asia/Tokyo:20250225T120000
DTEND;TZID=Asia/Tokyo:20250225T130000
DTSTAMP:20260423T200853Z
CREATED:20250214T072115Z
DESCRIPTION:イベント詳細はこちら\nhttps://techplay.jp/event/97315
 2?utm_medium=referral&utm_source=ics&utm_campaign=ics\n\n【スリーシ
 ェイク×ウイングアーク１ｓｔ共催】データ活用の民
 主化！Dr.Sum ＆ Reckonerで実現する現場主導のデータ活用
 \nセミナー概要\n基幹システムやSalesforce・kintoneを始め
 とする各種SaaS（MA／SFA／CRM、ERPなど）やExcel等のファ
 イルに蓄積される膨大なデータ、活用しきれています
 か？\nデータドリブン経営など分析や可視化が叫ばれ
 ている昨今ですが、一方でデータにまつわるこんな課
 題も顕在化しているようです。\n\nデータが分散（サイ
 ロ化）しており、適切な集約ができていない\nデータ
 統合を手作業で行っており、作業負担とオペレーショ
 ンミスが散見される\n集計作業に時間がかかるため、
 スピーディーな分析ができない\n自動化したいが、連
 携システムの開発スキルと予算がない\n\n本セミナーで
 は、ノーコードで誰でもデータ連携を構築可能な『ク
 ラウド型ETLツールReckoner』を活用し、『データ分析基
 盤Dr.Sum』へのデータ統合を簡単に実現する方法をご紹
 介いたします。\nデータ活用の理想と現実のギャップ
 にお悩みのご担当者様必見です！\nこんな方におすす
 め\n\n複数システムに散らばるデータの統合に苦労して
 いる方\nデータ活用を推進したいが、自部門で完結す
 ることが難しいと感じている方\nExcelやスプレッドシー
 トでのデータ分析に限界を感じている方\nノンプログ
 ラミングでデータ分析を始めたい方\n\nスピーカー紹介
 \n大沢 愛絵 ／ ウイングアーク1ｓｔ株式会社 Data Empower
 ment事業部　Business Development室\nウイングアークに新卒
 で入社後、営業担当としてさまざまなお客様のデータ
 活用の課題をお伺いし導入から運用までの課題解決を
 提案を実施。現在はDr.Sum・MotionBoardの営業企画を担当
 。\n関根 章雄 ／ 株式会社スリーシェイク　Incubation事
 業部　パートナーセールス　マネージャー\n大手通信
 キャリアや独立系ソフトウェアベンダーでのBtoBセール
 ス・セールス企画に加え営業責任者を歴任。NW、監視
 、バックオフィス、自動化ツールなど大手からスター
 トアップ企業まで規模を問わず営業実績を積む。新規
 サービスの企画・立上げも経験。スリーシェイクにJoin
 後は、クラウド型ETLツールReckonerのパートナーセール
 ス責任者として、販売パートナー、アライアンスパー
 トナーなどあらゆるパートナーの構築と販売促進支援
 を行っている。\n注意事項\n\n本セミナーは法人のお客
 様限定となります。また、同業者様のお申込みはお断
 りさせていただく場合がございます。\n本セミナーは20
 25年1月24日（金）に実施した内容の録画配信となりま
 す。\n視聴URLは別途メールにてお送りいたします。\n
LOCATION:
URL:https://techplay.jp/event/973152?utm_medium=referral&utm_source=ics&utm
 _campaign=ics
END:VEVENT
END:VCALENDAR
