BEGIN:VCALENDAR
VERSION:2.0
PRODID:-//https://techplay.jp//JP
CALSCALE:GREGORIAN
METHOD:PUBLISH
X-WR-CALDESC:【診断・IP活用】参加欲を掻き立てる注目キャ
 ンペーン事例を解説！
X-WR-CALNAME:【診断・IP活用】参加欲を掻き立てる注目キャ
 ンペーン事例を解説！
X-WR-TIMEZONE:Asia/Tokyo
BEGIN:VTIMEZONE
TZID:Asia/Tokyo
BEGIN:STANDARD
DTSTART:19700101T000000
TZOFFSETFROM:+0900
TZOFFSETTO:+0900
TZNAME:JST
END:STANDARD
END:VTIMEZONE
BEGIN:VEVENT
UID:973852@techplay.jp
SUMMARY:【診断・IP活用】参加欲を掻き立てる注目キャン
 ペーン事例を解説！
DTSTART;TZID=Asia/Tokyo:20250227T120000
DTEND;TZID=Asia/Tokyo:20250227T130000
DTSTAMP:20260424T094938Z
CREATED:20250221T024038Z
DESCRIPTION:イベント詳細はこちら\nhttps://techplay.jp/event/97385
 2?utm_medium=referral&utm_source=ics&utm_campaign=ics\n\n\nYoutube LIVE
 での配信となりますので、アーカイブ視聴が可能です
 。リアルタイムのご参加が難しい場合にもお申し込み
 くださいませ！\n--お昼時間のお供に、最新のデジタル
 プロモーション知識を身につけませんか🙋‍♀️？キ
 ャンペーン提案や企画に欠かせない、トレンド事例を
 まるっと解説！今年の1-2月に行われたプロモーション
 を、キャンペーンづくりのプロが解説いたします！\n
 ✅イベント概要NONAME Produceは、SNS/WEBプロモーションに
 強い制作会社です。これまで200以上の企画・制作を行
 なって参りました経験を活かし、世の中のプロモーシ
 ョン事例を日々研究することで常に最新の知識を発信
 し続けています。\n今回のYouTubeLIVEでは、今年行われた
 選りすぐりのキャンペーン事例をピックアップし、ど
 こよりも詳しく解説いたします！配信中に、コメント
 欄からのご質問にお答えすることも予定しております
 。休憩時間のお供に、お気軽にご参加ください！\n✏
 ️解説予定の事例・PARCOグランバザール｜株式会社パ
 ルコ・織ちゃんのレシートARおみくじ｜KDDI株式会社・
 ＃ラブなポッキー｜江崎グリコ株式会社・ご褒美リン
 ツ診断キャンペーン｜リンツ＆シュプルングリーン株
 式会社・２種類のGABAフィルター｜江崎グリコ株式会社
 ・＃推しチョコバレンタイン｜株式会社明治・喫茶Mの
 常連になろう！来店キャンペーン | 東海東京証券株式
 会社\n👤こんな方におすすめ・Web&SNSキャンペーンのト
 レンドを知りたい方・Web&SNSキャンペーン提案/企画を
 されている方・広告代理店勤務の方・自社のWeb&SNSキャ
 ンペーンに課題を感じている方\n📆日時2025年2月27日(
 木)12:00-\n🌍 会場当日はYouTube Liveでの配信を予定して
 おります。お申し込みいただきますと、配信がご覧い
 ただけるようになります。\n🎤 登壇者株式会社NONAME Pr
 oduce代表　村上烈\n早稲田大学在学中デザインやWEB・イ
 ベントに関して独学で学び、在学中に株式会社NONAME Pro
 duceを設立。デジタルプロモーション領域におけるクリ
 エイティブおよび広告制作を行ってきました。その中
 でもコミュニケーション戦略や、キャンペーンシステ
 ムの設計を得意とし、 クリエイティブディレクターと
 してキャンペーンの企画・制作進行をおこなっていま
 す。「どうしたら伝わるのか」「説得力ある伝わり方
 」などを整理整頓と想像力を使いながら形にしており
 ます。お酒とマンガとプロレスが好き\nお気軽にご参
 加くださいませ！
LOCATION:
URL:https://techplay.jp/event/973852?utm_medium=referral&utm_source=ics&utm
 _campaign=ics
END:VEVENT
END:VCALENDAR
