BEGIN:VCALENDAR
VERSION:2.0
PRODID:-//https://techplay.jp//JP
CALSCALE:GREGORIAN
METHOD:PUBLISH
X-WR-CALDESC:CG作品の魅せ方セミナー～ただ作るだけではも
 ったいないプレゼンテーションのコツ～
X-WR-CALNAME:CG作品の魅せ方セミナー～ただ作るだけではも
 ったいないプレゼンテーションのコツ～
X-WR-TIMEZONE:Asia/Tokyo
BEGIN:VTIMEZONE
TZID:Asia/Tokyo
BEGIN:STANDARD
DTSTART:19700101T000000
TZOFFSETFROM:+0900
TZOFFSETTO:+0900
TZNAME:JST
END:STANDARD
END:VTIMEZONE
BEGIN:VEVENT
UID:973855@techplay.jp
SUMMARY:CG作品の魅せ方セミナー～ただ作るだけではもっ
 たいないプレゼンテーションのコツ～
DTSTART;TZID=Asia/Tokyo:20250304T190000
DTEND;TZID=Asia/Tokyo:20250304T203000
DTSTAMP:20260424T140028Z
CREATED:20250221T031609Z
DESCRIPTION:イベント詳細はこちら\nhttps://techplay.jp/event/97385
 5?utm_medium=referral&utm_source=ics&utm_campaign=ics\n\nCG作品の魅
 せ方セミナー～ただ作るだけではもったいないプレゼ
 ンテーションのコツ～\n概要\n本セミナーでは、多くの
 有名な映画、MV、アニメーションを手掛ける株式会社 
 画龍の代表である早野海平氏をお招きし、実際の作品
 もお見せしながら1時間半で3DCG作品の「魅せ方」を徹
 底的に学びます。\n「作品を作るだけ」で終わらせて
 いませんか？作り手の想いを最大限に伝えるためには
 、魅せ方こそが最重要ポイント。映画やライブ、企業
 広告から有名ブランドのデザインまで手がける一流ア
 ーティスト・KAIHEI HAYANO氏（早野海兵・Creative Artist）が
 、その独自のプレゼンテーションノウハウを余すとこ
 ろなく伝授します。“相手を引き込む”CGプレゼンテ
 クニックを学んで、あなたの作品にさらなる輝きを与
 えましょう！\nこんな方におすすめ\n\n3DCGデザイナーと
 して、一歩踏み込んだ表現にチャレンジしたい方\n自
 分自身の作品をより魅力的にする方法を学びたい方\nCG
 ポートフォリオをより魅力的にしたい方\n\nタイムスケ
 ジュール\n\n\n\n時間\n内容\n\n\n\n\n19:00〜\nイベント開始\
 n\n\n19:00〜19:10\nオープニング\n\n\n19:10〜20:25\n登壇KAIHEI H
 AYANO\n\n\n20:25〜20:30\nイベント終了\n\n\n\n※ 当日予告な
 く時間配分・内容が変更になる可能性がございます。\
 n登壇者\nKAIHEI HAYANO（早野海兵・Creative Artist）\n株式会
 社画龍 代表\n日本大学芸術学部卒\nソニーミュージッ
 クエンタテインメント\nリンクス（現IMAGICA）\nソニー
 コンピューターエンタテインメント（現ソニーインタ
 ラクティブエンタテインメント）\n\n▼代表作\n映画　L
 ASTMILE\nドラマ　海に眠るダイヤモンド\nシン・エヴァ
 ンゲリヲン劇場版\n映画”私の幸せな結婚”\nEXILE LIVE T
 OUR 2022 “POWER OF WISH”\nRing of GUNDAM ガンダム　デザイン\
 nDunhill　侍ジャパン　スーツデザイン\nSEICO本社　世界
 時計「Seiko Space Eye」デザイン\nCGWORLD連載\nTBS” Asian Ace
 ”ＣＭ対決に出演\nCGWORLD　連載執筆\n\n▼著書\nテクス
 チャイリュージョンUnparalleled\nテクスチャイリュージ
 ョン画龍点睛\nテクスチャイリュージョン・シンタク
 ス\n\n\n主催者情報\n株式会社コンフィデンス・インタ
 ーワークス当社はゲーム・エンタメ業界に特化した総
 合人材サービス『Confidence Creator』を運営する会社で、
 業界で築いてきた信頼関係の強さを活かし、最適なマ
 ッチングをご提案しております。\nデジタルハリウッ
 ド株式会社専門スクールデジタルハリウッド、デジタ
 ルハリウッド大学大学院、デジハリオンライン、ジー
 ズアカデミーなどデジタルクリエイティブ関連の教育
 事業会社。30年以上デジタルクリエイティブ教育に関
 わる事業を運営してきたノウハウとコンテンツで教育
 と学びのDXを推進しています。\n\n参加費\n無料\n注意事
 項\n\nキャンセル待ち・補欠・落選の方はご参加いただ
 くことが出来ませんのでご了承ください。\n欠席され
 る場合は、お手数ですが速やかにキャンセル処理をお
 願い致します。\n無断キャンセルや欠席が続く場合、
 次回以降の参加をお断りさせていただく場合がござい
 ます。\n
LOCATION:
URL:https://techplay.jp/event/973855?utm_medium=referral&utm_source=ics&utm
 _campaign=ics
END:VEVENT
END:VCALENDAR
