BEGIN:VCALENDAR
VERSION:2.0
PRODID:-//https://techplay.jp//JP
CALSCALE:GREGORIAN
METHOD:PUBLISH
X-WR-CALDESC:「導線設計」が鍵！オフィスとホームページ
 を最適化し、利益体質へ導く改善セミナー
X-WR-CALNAME:「導線設計」が鍵！オフィスとホームページ
 を最適化し、利益体質へ導く改善セミナー
X-WR-TIMEZONE:Asia/Tokyo
BEGIN:VTIMEZONE
TZID:Asia/Tokyo
BEGIN:STANDARD
DTSTART:19700101T000000
TZOFFSETFROM:+0900
TZOFFSETTO:+0900
TZNAME:JST
END:STANDARD
END:VTIMEZONE
BEGIN:VEVENT
UID:974258@techplay.jp
SUMMARY:「導線設計」が鍵！オフィスとホームページを最
 適化し、利益体質へ導く改善セミナー
DTSTART;TZID=Asia/Tokyo:20250311T150000
DTEND;TZID=Asia/Tokyo:20250311T170000
DTSTAMP:20260421T020547Z
CREATED:20250225T081755Z
DESCRIPTION:イベント詳細はこちら\nhttps://techplay.jp/event/97425
 8?utm_medium=referral&utm_source=ics&utm_campaign=ics\n\n生産性と集
 客力を同時に向上！オフィス導線＆HP活用術～オフィ
 ス＆ホームページの大改造の秘訣～\n概要\n3月11日 15時
 ～17時\n「オフィスが手狭に感じる」「もっと働きやす
 い環境にしたい」「ホームページは作ったけど、どう
 活用したらいいかわからない」このようなお悩みを抱
 えていませんか？実は、オフィスもホームページもポ
 イントを押さえた改善をすることで、利益を向上させ
 ることが出来ます！今回のセミナーでは、オフィス店
 舗デザインで数多くの実績を持つ株式会社Imaeda Designと
 中小企業のWebマーケティングを支援する株式会社エッ
 コが、実例を踏まえながら、生産性と集客力を向上さ
 せるための具体的なノウハウをお伝えします。\n株式
 会社Imaeda Design　オフィスの簡易診断の例を基に、　　
 オフィス導線の重要性　　中小企業が抱える問題とオ
 フィス事情　　戦略的オフィスデザインの3つのポイン
 ト　等を踏まえ、働き易く生産性が上がるオフィス環
 境づくりの極意をお伝えします。\n株式会社エッコ　
 中小企業におけるホームページ活用の重要性と　　集
 客サイト　　採用サイト　　ブランディング　それぞ
 れの視点で事例を交えながらホームページを活用し集
 客力を向上させる手法を解説いたします。\nオフィス
 もホームページも作るだけでは十分ではありません。
 正しい改善・活用方法で企業の成長を加速させる一手
 を学びましょう！\n本セミナーは会場とWeb配信の同時
 開催となっております。お申し込みの際に、ご希望の
 参加方法をお選びください。\nこのようなお悩みをお
 持ちの方に！\n\n新しい視点からオフィス改善を考えた
 い方\n企業成長を加速させるためにオフィス改善に関
 心がある方\n働き易い環境で企業競争力を高めたい経
 営層\nホームページからの集客にお悩みの方\nホームペ
 ージの見直しを検討されている方\n\nこのセミナーで学
 べること\n\n中小企業が抱える問題とオフィス事情\nオ
 フィスデザインの重要な3つのポイント\n実際に利益が
 上がったオフィス改善の実例\n中小企業におけるホー
 ムページ活用の重要性\nホームページの活用方法（集
 客・採用・ブランディングなど）\nホームページの活
 用事例\n\n参加費\n無料\n注意事項\n\nリクルーティング
 、勧誘など、採用目的でのイベント参加はお断りして
 おります。\nキャンセル待ち・補欠・落選の方はご参
 加いただくことが出来ませんのでご了承ください。\n
 欠席される場合は、お手数ですが速やかにキャンセル
 処理をお願い致します。\n無断キャンセルや欠席が続
 く場合、次回以降の参加をお断りさせていただく場合
 がございます。\n
LOCATION:TSUNAGARU SPACE 名古屋栄 愛知県名古屋市中区栄3丁目
 19-19フォルテ栄ビル６階
URL:https://techplay.jp/event/974258?utm_medium=referral&utm_source=ics&utm
 _campaign=ics
END:VEVENT
END:VCALENDAR
