BEGIN:VCALENDAR
VERSION:2.0
PRODID:-//https://techplay.jp//JP
CALSCALE:GREGORIAN
METHOD:PUBLISH
X-WR-CALDESC:無料オンラインカンファレンス登壇のお知ら
 せ「CX Marketing〜『顧客起点でマーケティングを考える1
 日』〜」
X-WR-CALNAME:無料オンラインカンファレンス登壇のお知ら
 せ「CX Marketing〜『顧客起点でマーケティングを考える1
 日』〜」
X-WR-TIMEZONE:Asia/Tokyo
BEGIN:VTIMEZONE
TZID:Asia/Tokyo
BEGIN:STANDARD
DTSTART:19700101T000000
TZOFFSETFROM:+0900
TZOFFSETTO:+0900
TZNAME:JST
END:STANDARD
END:VTIMEZONE
BEGIN:VEVENT
UID:974260@techplay.jp
SUMMARY:無料オンラインカンファレンス登壇のお知らせ「C
 X Marketing〜『顧客起点でマーケティングを考える1日』
 〜」
DTSTART;TZID=Asia/Tokyo:20250312T100000
DTEND;TZID=Asia/Tokyo:20250312T143000
DTSTAMP:20260420T024506Z
CREATED:20250225T082010Z
DESCRIPTION:イベント詳細はこちら\nhttps://techplay.jp/event/97426
 0?utm_medium=referral&utm_source=ics&utm_campaign=ics\n\n▼お申込み
 フォームhttps://www.spiral-platform.co.jp/sp/event/cx-marketing/?utm_
 source=neo-m&utm_medium=cosponsor\nイベント概要※TECH PLAYでの
 お申込みでは登録完了となりません。記載されているU
 RLにてお手続きのほどよろしくお願いいたします。※
 同業他社様のお申込み、個人でのお申込みはお断りし
 ております。あらかじめご了承ください。\n【概要】
 昨今、顧客体験（CX）がマーケティング成功のカギと
 なる中、BtoCマーケターを対象に最新トレンドや市場動
 向、成功事例を共有するカンファレンスを開催します
 。\nオムニチャネル戦略、VOC活用、UI/UX改善など、顧客
 解像度を高める具体策を業界エキスパートと共に学び
 、明日から使える実践的なノウハウを得る1日です。\n
 ※セッション内容は予告なく変更することがございま
 すので、ご了承ください。お申し込みは以下のURLから
 お願いいたします。https://www.spiral-platform.co.jp/sp/event/cx-
 marketing/?utm_source=neo-m&utm_medium=cosponsor※TECH PLAYでのお申
 込みでは登録完了となりません。上記のURLにてお手続
 きのほどよろしくお願いいたします。\n【ネオマーケ
 ティング 登壇情報】■概要タイトル：然るべきタイミ
 ングで選ばれるには？価値を再定義し、CEPを創り出す
 ――「潜在的あきらめ」とは登壇日時：2025年3月12日 (
 水) 10:35 - 10:55■登壇者吉原 慶株式会社ネオマーケティ
 ングストラテジックリサーチ部 部長\n上場企業のマー
 ケティングリサーチ会社でリサーチャーチームを立ち
 上げマネージャーに従事。2022年ネオマーケティングに
 合流し、ストラテジックリサーチャーとして「リサー
 チを起点に、デジマ・PRグループとのシナジーを生み
 出す」ことをミッションに活動。 同年10月にマーケテ
 ィングリサーチソリューションDivを新設しマネージャ
 ーを兼務。その後2023年10月よりストラテジックリサー
 チ部部長に就任し、クライアント様の課題解決に尽力
 。\n【開催概要】開催日時：2025年3月12日 (水) 10:00 - 14:3
 0参加料：無料視聴方法：オンライン配信お申込みURL：
 https://www.spiral-platform.co.jp/sp/event/cx-marketing/?utm_source=neo-m
 &utm_medium=cosponsor
LOCATION:
URL:https://techplay.jp/event/974260?utm_medium=referral&utm_source=ics&utm
 _campaign=ics
END:VEVENT
END:VCALENDAR
