BEGIN:VCALENDAR
VERSION:2.0
PRODID:-//https://techplay.jp//JP
CALSCALE:GREGORIAN
METHOD:PUBLISH
X-WR-CALDESC:ECデータ分析が導く顧客理解 – GA4の基礎から
 行動分析まで –
X-WR-CALNAME:ECデータ分析が導く顧客理解 – GA4の基礎から
 行動分析まで –
X-WR-TIMEZONE:Asia/Tokyo
BEGIN:VTIMEZONE
TZID:Asia/Tokyo
BEGIN:STANDARD
DTSTART:19700101T000000
TZOFFSETFROM:+0900
TZOFFSETTO:+0900
TZNAME:JST
END:STANDARD
END:VTIMEZONE
BEGIN:VEVENT
UID:974275@techplay.jp
SUMMARY:ECデータ分析が導く顧客理解 – GA4の基礎から行動
 分析まで –
DTSTART;TZID=Asia/Tokyo:20250304T120000
DTEND;TZID=Asia/Tokyo:20250306T130000
DTSTAMP:20260421T065916Z
CREATED:20250225T121206Z
DESCRIPTION:イベント詳細はこちら\nhttps://techplay.jp/event/97427
 5?utm_medium=referral&utm_source=ics&utm_campaign=ics\n\n▌セミナー
 概要\n実店舗と比較してECではデータが多く取得できる
 ため、データ分析の重要性が高いと思われています。\
 nしかしデータが豊富だからといって、必ずしもそれが
 正しい顧客理解や打ち手に繋がっているとは限りませ
 ん。むしろECサイトは直接お客様が目に見えないこと
 から、実店舗よりも分析が難しいとすら言えるのです
 。\nそこで本セミナーでは顧客理解を進めるためのデ
 ータ分析について、GA4に詳しいALL WEB CONSULTING社と、行
 動分析に詳しいビービット社がそれぞれの立場から具
 体的な手法を解説します。\n【お申込みはこちら】https
 ://omnisegment.bebit.co.jp/seminar/ecdataanalytics/\n＼こんな方に
 おすすめです／・EC運営を担当しており、データ分析
 に課題感がある方・GA4の見方や活用方法を知りたい方
 ・データから新しい打ち手を見出したい方\n▌講師紹
 介●江守 義樹 （株式会社ALL WEB CONSULTING 代表取締役社
 長）ネットショップ店長として出店から運営までを経
 験。EC出店から約1年で月商1\,000万円達成。2017年よりEC
 サイト専門のコンサル会社にジョインし小規模～大規
 模サイトまで規模問わず数百サイト以上の支援を行う
 。2020年株式会社ALL WEB CONSULTINGを創業。WEBアナリストと
 して1\,000サイト以上のデータ分析を行ってきた知見を
 活用しWEBマーケティング全般のスペシャリストとして
 活動中\n●生田 啓 （株式会社ビービット　オムニセグ
 メント事業部　部長）京都大学工学部を卒業後、2009年
 株式会社ビービットに入社。入社直後から、ユーザ中
 心アプローチによるデジタルマーケティング手法の開
 発や、 金融機関・大手保険企業などへのコンサルティ
 ングに携わる。その後、ソフトウェアを用いたデータ
 マーケティングの支援に軸を移し、広告効果測定ツー
 ル「ウェブアンテナ」およびUXチームクラウド「USERGRAM
 」を通して、700社以上の企業をサポート。現在はCRMツ
 ール「オムニセグメント」の事業責任者として運営全
 般に携わる。\n【お申込みはこちら】https://omnisegment.beb
 it.co.jp/seminar/ecdataanalytics/\n▌株式会社ALL WEB CONSULTINGに
 ついて\nネットショップ・ECサイトの支援に特化したマ
 ーケティング会社です。戦略立案、サイト解析などのE
 CコンサルティングからWEB広告運用、SEO対策、SNSマーケ
 ティングなどの集客施策、サイト構築、LP制作などのWE
 B制作、ショップブランディングまでEC運営に関わるこ
 とはすべてワンストップで行っております。また、楽
 天、Yahoo！、AmazonなどのECショッピングモールから自社
 ECサイトまで幅広く対応。過去1\,000サイト以上のECサイ
 トで売上向上支援、サイト分析を行っておりノウハウ
 も豊富です。\n＜会社概要＞会社名：株式会社ALL WEB CON
 SULTING所在地：東京都渋谷区恵比寿西２丁目１９−９代
 表者：代表取締役　江守 義樹URL ：https://allweb-consulting.
 co.jp\n事業内容：-ネットショップ（ECサイト）の運営支
 援及びコンサルティング-ネットショップ（ECサイト）
 運営支援ツールの開発・ご提供-ネットショップ（ECサ
 イト）の運営代行-ECサイト制作-商品撮影・商品登録代
 行-SEO対策-広告運用代行-インフルエンサーマーケティ
 ング\n▌ 本件に関するお問合せ\n株式会社ALL WEB CONSULTIN
 Gセミナー運営事務局\nTEL：03-6276-8654（代表）MAIL：info@a
 llweb-consulting.co.jpURL：https://allweb-consulting.co.jp
LOCATION:
URL:https://techplay.jp/event/974275?utm_medium=referral&utm_source=ics&utm
 _campaign=ics
END:VEVENT
END:VCALENDAR
