BEGIN:VCALENDAR
VERSION:2.0
PRODID:-//https://techplay.jp//JP
CALSCALE:GREGORIAN
METHOD:PUBLISH
X-WR-CALDESC:「普通」からの脱却。注目のWEBキャンペーン
 を徹底解説 【画像生成・ARなど】
X-WR-CALNAME:「普通」からの脱却。注目のWEBキャンペーン
 を徹底解説 【画像生成・ARなど】
X-WR-TIMEZONE:Asia/Tokyo
BEGIN:VTIMEZONE
TZID:Asia/Tokyo
BEGIN:STANDARD
DTSTART:19700101T000000
TZOFFSETFROM:+0900
TZOFFSETTO:+0900
TZNAME:JST
END:STANDARD
END:VTIMEZONE
BEGIN:VEVENT
UID:975243@techplay.jp
SUMMARY:「普通」からの脱却。注目のWEBキャンペーンを徹
 底解説 【画像生成・ARなど】
DTSTART;TZID=Asia/Tokyo:20250313T120000
DTEND;TZID=Asia/Tokyo:20250313T130000
DTSTAMP:20260424T002254Z
CREATED:20250306T015202Z
DESCRIPTION:イベント詳細はこちら\nhttps://techplay.jp/event/97524
 3?utm_medium=referral&utm_source=ics&utm_campaign=ics\n\n\nYoutube LIVE
 での配信となりますので、アーカイブ視聴が可能です
 。\nリアルタイムのご参加が難しい場合にもお申し込
 みくださいませ！\n--お昼時間のお供に、最新のデジタ
 ルプロモーション知識を身につけませんか🙋‍♀️？
 キャンペーン提案や企画に欠かせない、トレンド事例
 をまるっと解説！1-2月に行われたプロモーションを、
 キャンペーンづくりのプロが解説いたします！（2月27
 日配信の再放送になります）\n✅イベント概要NONAME Prod
 uceは、SNS/WEBプロモーションに強い制作会社です。これ
 まで200以上の企画・制作を行なって参りました経験を
 活かし、世の中のプロモーション事例を日々研究する
 ことで常に最新の知識を発信し続けています。\n今回
 のYouTubeLIVEでは、今年行われた選りすぐりのキャンペ
 ーン事例をピックアップし、どこよりも詳しく解説い
 たします！配信中に、コメント欄からのご質問にお答
 えすることも予定しております。休憩時間のお供に、
 お気軽にご参加ください！\n✏️解説予定の事例・PARCO
 グランバザール｜株式会社パルコ・織ちゃんのレシー
 トARおみくじ｜KDDI株式会社・＃ラブなポッキー｜江崎
 グリコ株式会社・ご褒美リンツ診断キャンペーン｜リ
 ンツ＆シュプルングリーン株式会社・２種類のGABAフィ
 ルター｜江崎グリコ株式会社・＃推しチョコバレンタ
 イン｜株式会社明治・喫茶Mの常連になろう！来店キャ
 ンペーン | 東海東京証券株式会社\n👤こんな方におす
 すめ・Web&SNSキャンペーンのトレンドを知りたい方・Web
 &SNSキャンペーン提案/企画をされている方・広告代理
 店勤務の方・自社のWeb&SNSキャンペーンに課題を感じて
 いる方\n📆日時2025年3月13日(木)12:00-\n🌍 会場当日はYou
 Tube Liveでの配信を予定しております。お申し込みいた
 だきますと、配信がご覧いただけるようになります。\
 n🎤 登壇者株式会社NONAME Produce代表　村上烈\n早稲田大
 学在学中デザインやWEB・イベントに関して独学で学び
 、在学中に株式会社NONAME Produceを設立。デジタルプロ
 モーション領域におけるクリエイティブおよび広告制
 作を行ってきました。その中でもコミュニケーション
 戦略や、キャンペーンシステムの設計を得意とし、 ク
 リエイティブディレクターとしてキャンペーンの企画
 ・制作進行をおこなっています。「どうしたら伝わる
 のか」「説得力ある伝わり方」などを整理整頓と想像
 力を使いながら形にしております。お酒とマンガとプ
 ロレスが好き\nお気軽にご参加くださいませ！
LOCATION:
URL:https://techplay.jp/event/975243?utm_medium=referral&utm_source=ics&utm
 _campaign=ics
END:VEVENT
END:VCALENDAR
