BEGIN:VCALENDAR
VERSION:2.0
PRODID:-//https://techplay.jp//JP
CALSCALE:GREGORIAN
METHOD:PUBLISH
X-WR-CALDESC:【残席3｜中小企業向けNo.1戦略の第一人者が語
 る】売れない理由を変える“ポジショニング設計”を
 学ぶ2時間セミナー
X-WR-CALNAME:【残席3｜中小企業向けNo.1戦略の第一人者が語
 る】売れない理由を変える“ポジショニング設計”を
 学ぶ2時間セミナー
X-WR-TIMEZONE:Asia/Tokyo
BEGIN:VTIMEZONE
TZID:Asia/Tokyo
BEGIN:STANDARD
DTSTART:19700101T000000
TZOFFSETFROM:+0900
TZOFFSETTO:+0900
TZNAME:JST
END:STANDARD
END:VTIMEZONE
BEGIN:VEVENT
UID:975393@techplay.jp
SUMMARY:【残席3｜中小企業向けNo.1戦略の第一人者が語る
 】売れない理由を変える“ポジショニング設計”を学
 ぶ2時間セミナー
DTSTART;TZID=Asia/Tokyo:20250414T130000
DTEND;TZID=Asia/Tokyo:20250414T150000
DTSTAMP:20260423T180807Z
CREATED:20250307T020853Z
DESCRIPTION:イベント詳細はこちら\nhttps://techplay.jp/event/97539
 3?utm_medium=referral&utm_source=ics&utm_campaign=ics\n\n参加者限定
 ！無料で受け取れる豪華5大特典\n「このセミナーを受
 けた人だけが手にできる、超実践的な5つの特典をプレ
 ゼント！」\nセミナー受講者限定 で、 ビジネスの成果
 を劇的に向上させる厳選特典 を 完全無料 でご提供し
 ます！どれも 今すぐ実践できるノウハウ ばかり。こ
 の機会を逃すと、二度と手に入らない可能性も…！セ
 ミナーで学び、特典を活用することで、より深く実践
 できる内容になっています！\n【ポジショニング戦略2
 時間セミナー&ワークショップ説明会】\n\n\n\n\n\n\n\n\n\n
 プログラム名\nポジショニング戦略2時間セミナー&ワー
 クショップ説明会\n\n\n日時\n✕　4月7日(月) 13:00〜15:00 
 ＠ZOOM 　満席✕　4月8日(火) 13:00〜15:00 ＠ZOOM 　満席✕
 　4月9日(水) 13:00〜15:00 ＠ZOOM 　満席✕　4月11日(金) 19:0
 0〜21:00 ＠ZOOM 　満席〇　4月14日(月) 13:00〜15:00 ＠ZOOM 　
 残席3　(4/7現在)〇　4月14日(月) 19:00〜21:00 ＠ZOOM　残席4
 　(4/7現在)\n\n\n料金\n無料\n\n\n場所\nZOOM\n\n\n参加対象\n
 ※経営者・個人事業様向け・通販ビジネス経営者、WEB
 サイトオーナー・ECサイト店長・集客サイトを所有す
 る経営者\n\n\nプログラム内容\n■ガイダンス & 講師紹
 介・セミナーの概要説明・講師の経歴や実績の紹介■
 受講生の成功事例紹介・月商90万円だった3代目女性経
 営者が、商品をほぼ変えずに2年で年商1億2千万円を達
 成・普通預金残高39円から事業を開始し、1年目で年商1
 億円超えを実現■オンライントレーニング成功事例を
 基に、実践的なポジショニング戦略を解説・後発でも
 市場で勝つ方法キユーピーやアサヒビールなどの大手
 企業がひしめく市場に参入し、広告費を抑えながら市
 場2位を獲得した戦略・超大手通販企業に挑み、勝利す
 る秘訣やずやなどの大手通販企業に対し、新商品で挑
 戦し、Amazon・楽天・Yahoo!の各プラットフォームで成功
 した方法・高額商品の短期間爆売れ戦略60\,000円超えの
 ポータブル電源が、Amazonプライムデーでわずか30時間
 で1億円以上売れた施策を解説■まとめ・質疑応答・特
 別なご案内\n\n\n参加特典\n①『経営禁則』ビジネスマ
 ネジメントやってはいけない11の法則②売上が死ぬ前
 にたった2文字で救う方法③クリック必至！思わず押し
 たくなるボタン事例集④伝え方を変えるだけで結果が
 変わる10の質問テンプレート⑤たったこれだけ！成約
 率が75.2%upしたクリックの仕掛け動画\n\n\n\n本セミナー
 は、「広告を打っても反応がない」「差別化できず苦
 しい」と感じていた経営者が多数申し込み中です。\n
 同じようなお悩みを抱える方は、ぜひご参加ください
 。\n※おかげさまで残席わずかとなっております（4/7
 時点）\n【限定開催】19800円の人気セミナーが久しぶり
 に復活！\n「売れる仕組み」を作りたい経営者必見！\n
 市場で埋もれず、ライバルに負けない ポジショニング
 戦略 を手に入れるチャンス！2022年1月に開催し、大好
 評だった 19800円のセミナーが、ついに復活！久しぶり
 の開催を記念して、 今回に限り無料 で受講できます
 。\nなぜ、19800円のセミナーが無料なのか？\n前回は 満
 席御礼 だった人気セミナー。\n久しぶりの開催を記念
 して 特別無料 で受講できます！無料の理由は3つ①最
 新の市場変化 に対応した新コンテンツを公開② 参加
 者の フィードバックを基にアップデート した内容を
 提供③「再受講したい！」という多数のリクエストに
 応えて開催※今回だけの特別オファー。次回以降は有
 料の可能性が高いため、お早めに！\nこんなお悩みあ
 りませんか？\n❌ 価格競争に巻き込まれ、利益が出な
 い…❌ 競合との差別化ができず、埋もれてしまう…❌
  どんなメッセージを発信すれば、お客様に響くのかわ
 からない…このセミナーで解決できます！✔ 「売れる
 ビジネスの3大原則」 を学び、独自の強みを明確化✔ 
 競争に巻き込まれないポジショニング戦略 の作り方を
 解説✔ 成功事例を交えながら、すぐに使える実践策 
 を伝授あなたの商品・サービスを「選ばれるブランド
 」に変える方法を学びましょう！\nセミナーで学べる
 こと\n・後発中小企業でも成功できるポジショニング
 戦略の具体的手法・少ない予算で確実にヒット商品を
 生み出す「弱者の戦略」・価格競争から抜け出し、高
 利益を生む戦略・AIを活用した即時分析と在庫リスク
 を抑えた商品企画手法・3秒で商品をプレゼンできる効
 果的なセールス手法・成功事例と失敗事例から学ぶ、
 実践的なポジショニング戦略の応用\nタイムスケジュ
 ール\n\n成果を実感した中小企業経営者の声\n年商1億円
 突破、V字回復、そして前年比150％成長を実現！受講後
 にここまで成果が出ました\n\n\n1年目で年商1億円を突
 破！\n\nコロナ禍で一時的に売上が停滞するも、組織の
 力でV字回復\n\n前年比130%、そして今年度は150%成長を達
 成！\n\n\nお客様のリアルな声を動画で公開中！➡https:/
 /www.youtube.com/watch?v=SgzhyBqXBLk\n成果を出した“リアルな
 設計図”はこちら\nオレコン式では、ただ知識を学ぶ
 だけではなく、成果につながる“戦略のカタチ”をそ
 の場でつくりあげていきます。\n講師プロフィール\n81
 業種、3\,278社以上の企業に174.8億円超えの売上UPをもた
 らした男\nデジタルマーケティングビジネス効率の専
 門家『　山本琢磨(やまもとたくま)　』\n\n\nこれまで
 にWebデザイン、マイクロコピー、トラストフォーマッ
 トなど、\nウェブページのA/Bテストやデータ分析に裏
 付けた改善方法で、\n3\,278社以上の企業にトレーニン
 グ、企業研修を実施。\n2017年からは、国内初となるマ
 イクロコピーライティングの\nワークショップを開催
 。全国の経営者、通販ビジネス事業者を中心に、\nク
 ライアント企業2\,364社以上でテストを実施し、\n自社
 においては国内外の1\,663を超える事例検証を行ってい
 る。\nこれまで81業種を超えるクライアントにもたらし
 た売上の伸びは、\n報告のあったものだけでも174.8億円
 以上。\n過去14年間で実施したWEBテストの回数は2\,000回
 を超えた。\n※出典：株式会社オレコン調査（2022年現
 在）\n\n・日経 BPベストショップ2位連続受賞。・楽天
 ショップ・オブ・ザ・イヤー2年連続/総合2位受賞。・
 『Webコピーライティングの新常識 ザ・マイクロコピー
 』Amazon3冠ベストセラー著者。・Yahoo!インターネットコ
 ミュ二ケーションアドバイザー全国1位。\n\n著書に専
 門書では異例のAmazon3冠ベストセラーを記録した・「ザ
 ・マイクロコピー」（秀和システム）・米国マーケタ
 ー・ダンケネディとの共著『常識を変えた15人の「売
 れる仕組み」』（ミラクルマインド出版）DVDに・「社
 長のための悪魔の時間管理術」（K.Eメディア）がある
 。\nご予定に合わせて選べます！\n「この日は厳しい…
 」と思った方へ。他の日程もあります！ 満席になる前
 に、お早めにご確認ください。4月14日(月)夜19:00〜21:00
 　残席3　\n※本セミナーはすでに、“売上が伸び悩ん
 でいる中小企業経営者”から多くの申込をいただいて
 います。\n「同じ悩みだった」「ようやく道筋が見え
 た」との声も。\nおかげさまで残席わずかとなってお
 ります。（4/7時点）\n#経営戦略 #売上アップ #ポジショ
 ニング戦略 #EC売上アップ #経営者向けセミナー #売れ
 る仕組み #D2Cマーケティング #通販ビジネス #マーケテ
 ィング戦略 #競合との差別化 #顧客獲得 #ECマーケティ
 ング #売れる商品開発 #インクルーシブマーケティング
  #パーソナライズドマーケティング #デジタルマーケテ
 ィング\n注意事項\n\nリクルーティング、勧誘など、採
 用目的でのイベント参加はお断りしております。\nキ
 ャンセル待ち・補欠・落選の方はご参加いただくこと
 が出来ませんのでご了承ください。\n欠席される場合
 は、お手数ですが速やかにキャンセル処理をお願い致
 します。\n無断キャンセルや欠席が続く場合、次回以
 降の参加をお断りさせていただく場合がございます。\
 n
LOCATION:
URL:https://techplay.jp/event/975393?utm_medium=referral&utm_source=ics&utm
 _campaign=ics
END:VEVENT
END:VCALENDAR
