BEGIN:VCALENDAR
VERSION:2.0
PRODID:-//https://techplay.jp//JP
CALSCALE:GREGORIAN
METHOD:PUBLISH
X-WR-CALDESC:Before→Afterの事例から学ぶ 成功するウェブサ
 イトリニューアルのポイント
X-WR-CALNAME:Before→Afterの事例から学ぶ 成功するウェブサ
 イトリニューアルのポイント
X-WR-TIMEZONE:Asia/Tokyo
BEGIN:VTIMEZONE
TZID:Asia/Tokyo
BEGIN:STANDARD
DTSTART:19700101T000000
TZOFFSETFROM:+0900
TZOFFSETTO:+0900
TZNAME:JST
END:STANDARD
END:VTIMEZONE
BEGIN:VEVENT
UID:975394@techplay.jp
SUMMARY:Before→Afterの事例から学ぶ 成功するウェブサイト
 リニューアルのポイント
DTSTART;TZID=Asia/Tokyo:20250319T110000
DTEND;TZID=Asia/Tokyo:20250319T120000
DTSTAMP:20260425T134553Z
CREATED:20250307T020934Z
DESCRIPTION:イベント詳細はこちら\nhttps://techplay.jp/event/97539
 4?utm_medium=referral&utm_source=ics&utm_campaign=ics\n\nBefore→After
 の事例から学ぶ 成功するウェブサイトリニューアルの
 ポイント\n概要\nウェブサイトリニューアルは、企業の
 認知向上や新規顧客獲得、マーケティングや営業活動
 の効率化に影響を与える重要な取り組みです。しかし
 、「リニューアルしたのに成果が出ない」「見た目は
 洗練されたが、サービスの価値や強みが伝わっていな
 い」といった課題を抱える企業も少なくありません。
 本セミナーでは、Before→Afterの具体的な事例をもとに
 、成果につながるウェブサイトリニューアルのポイン
 トを解説します。実際の成功事例を紹介しながら、ど
 のような改善が効果的だったのかをご説明します。「
 リニューアルを成功させたい」「自社の強みを的確に
 伝えられるサイトを作りたい」とお考えの方に向けて
 、実践的なヒントをお届けします。\nこんな方におす
 すめです！\n\nウェブサイトリニューアルのプロジェク
 トを成功させたい\nリニューアルしたのに成果が出な
 い理由を知りたい\n自社の強みを伝えられるウェブサ
 イトを作りたい\nBtoB企業向けのウェブサイトの具体的
 な成功事例を知りたい\n\n開催概要\n日時\nLIVE配信：2025
 年3月19日（水）11:00～12:00\n会場\nオンライン開催（お
 申し込みいただきました方へZoomのリンクをご案内いた
 します）\n参加費\n無料\n登壇者\n鈴木 理恵\n株式会社
 イノーバ執行役員 兼 Webコンサルティング部 部長\n法
 政大学経営学部卒業。\nマンパワー・ジャパン株式会
 社（現：マンパワーグループ株式会社）に入社。その
 後、専門商社に転職し、コスメ事業部で国内・海外営
 業、ECサイトの運営を経験。\n2016年イノーバへ入社し
 、カスタマーサクセスやPdMとしてプロダクト開発を経
 験。現在はウェブサイト事業のマネジメントに従事。\
 n
LOCATION:
URL:https://techplay.jp/event/975394?utm_medium=referral&utm_source=ics&utm
 _campaign=ics
END:VEVENT
END:VCALENDAR
