BEGIN:VCALENDAR
VERSION:2.0
PRODID:-//https://techplay.jp//JP
CALSCALE:GREGORIAN
METHOD:PUBLISH
X-WR-CALDESC:最新生成AIモデルの比較評価 〜 dotData独自の視
 点で見るGPT-4o、Llama 3.1、Claude 3.5 on Bedrock 〜
X-WR-CALNAME:最新生成AIモデルの比較評価 〜 dotData独自の視
 点で見るGPT-4o、Llama 3.1、Claude 3.5 on Bedrock 〜
X-WR-TIMEZONE:Asia/Tokyo
BEGIN:VTIMEZONE
TZID:Asia/Tokyo
BEGIN:STANDARD
DTSTART:19700101T000000
TZOFFSETFROM:+0900
TZOFFSETTO:+0900
TZNAME:JST
END:STANDARD
END:VTIMEZONE
BEGIN:VEVENT
UID:975669@techplay.jp
SUMMARY:最新生成AIモデルの比較評価 〜 dotData独自の視点
 で見るGPT-4o、Llama 3.1、Claude 3.5 on Bedrock 〜
DTSTART;TZID=Asia/Tokyo:20250410T120000
DTEND;TZID=Asia/Tokyo:20250410T124000
DTSTAMP:20260423T180213Z
CREATED:20250310T064458Z
DESCRIPTION:イベント詳細はこちら\nhttps://techplay.jp/event/97566
 9?utm_medium=referral&utm_source=ics&utm_campaign=ics\n\n最新生成AI
 モデルの比較評価 〜 dotData独自の視点で見るGPT-4o、Llam
 a 3.1、Claude 3.5 on Bedrock 〜\n概要\n生成AIの進化は目覚ま
 しく、GPT-4o、Llama 3.1、Claude 3.5 on Bedrock といった最新の
 大規模言語モデル（LLM）が登場し、それぞれが独自の
 強みを発揮しています。しかし、モデル選択には 「精
 度」「速度」「コスト」「セキュリティ」「キャパシ
 ティ」 など、多角的な視点が求められ、単純なスペッ
 ク比較だけでは最適な選択ができません。\n本ウェビ
 ナーでは、dotData Insightの開発において、「GPT-4o」「Llam
 a 3.1」「Claude 3.5 on Bedrock」 を多角的に比較し、それぞ
 れの観点から実データに基づく評価結果を公開し、実
 際に業務に応用する際のリアルな使用感を共有します
 。\n最新の生成AIモデルの動向を把握したい方、AIモデ
 ルの導入や選定に関わる方、また生成AIを活用してビ
 ジネス仮説立案やデータ活用を検討している方にとっ
 て、最新の生成AIモデルの実力と最適な活用方法を知
 る有益な内容となっています。ぜひご参加ください。\
 nタイムスケジュール\n\n\n\n時間\n内容\n\n\n\n\n12:00〜12:35
 \n講演\n\n\n12:35〜12:40\n質疑応答\n\n\n\n※ 当日予告なく
 時間配分・内容が変更になる可能性がございます。\n
 登壇者\n玉野 浩嗣\nシニアリサーチエンジニア\nこれま
 でAI、機械学習分野の研究に従事し、2021年からdotDataに
 参加。現在は、製品dotData Insightの分析コア技術のTechリ
 ードとして分析技術の開発を牽引。統計科学博士。\n
 参加対象\n\n最新の生成AIモデルの動向を把握したい技
 術担当者やデータサイエンティストの方\nAIモデルの導
 入や選定に関わる意思決定を行う経営者やマネージャ
 ーの方\n生成AIを活用してビジネス仮説立案やデータ活
 用の可能性を探っている方\ndotData Insightの実際の評価
 結果を知り、導入効果を検討したい方\n\n参加費\n無料\
 n注意事項\n\n本イベントは企業・団体向けのため、法
 人メールアドレス（@company.comなど）でのご登録をお願
 いいたします。\nフリーメール（＠gmail.com、@yahoo.co.jp
 など）ではお申込みいただけませんのでご了承くださ
 い。\nリクルーティング、勧誘など、採用目的でのイ
 ベント参加はお断りしております。\nキャンセル待ち
 ・補欠・落選の方はご参加いただくことが出来ません
 のでご了承ください。\n欠席される場合は、お手数で
 すが速やかにキャンセル処理をお願い致します。\n無
 断キャンセルや欠席が続く場合、次回以降の参加をお
 断りさせていただく場合がございます。\n
LOCATION:
URL:https://techplay.jp/event/975669?utm_medium=referral&utm_source=ics&utm
 _campaign=ics
END:VEVENT
END:VCALENDAR
