BEGIN:VCALENDAR
VERSION:2.0
PRODID:-//https://techplay.jp//JP
CALSCALE:GREGORIAN
METHOD:PUBLISH
X-WR-CALDESC:未経験からエンジニアになるにはVol.2 ～学ぶ
 べきスキルとアプリケーション～
X-WR-CALNAME:未経験からエンジニアになるにはVol.2 ～学ぶ
 べきスキルとアプリケーション～
X-WR-TIMEZONE:Asia/Tokyo
BEGIN:VTIMEZONE
TZID:Asia/Tokyo
BEGIN:STANDARD
DTSTART:19700101T000000
TZOFFSETFROM:+0900
TZOFFSETTO:+0900
TZNAME:JST
END:STANDARD
END:VTIMEZONE
BEGIN:VEVENT
UID:975823@techplay.jp
SUMMARY:未経験からエンジニアになるにはVol.2 ～学ぶべき
 スキルとアプリケーション～
DTSTART;TZID=Asia/Tokyo:20250417T190000
DTEND;TZID=Asia/Tokyo:20250417T200000
DTSTAMP:20260422T220026Z
CREATED:20250312T012618Z
DESCRIPTION:イベント詳細はこちら\nhttps://techplay.jp/event/97582
 3?utm_medium=referral&utm_source=ics&utm_campaign=ics\n\n未経験から
 エンジニアになるにはVol.2 ～学ぶべきスキルとアプリ
 ケーション～\nクリーク･アンド･リバー社（C&R社）
 は2025年4月17日（木）、IT業界でのキャリアを目指され
 ている皆様を対象に、「未経験からエンジニアになる
 には vol.2 ～学ぶべきスキルとアプリケーション～」を
 開催します。\n未経験からIT業界を目指す方が増える中
 、「どうしたらエンジニアになれるのか」「そもそも
 未経験から目指すことはできるのか」「エンジニアは
 具体的にどんな仕事をしているのか」など、どんな仕
 事をしているのかわからない、どこまでスキルがあれ
 ば仕事になるのか、エンジニアとしてのキャリアの積
 み方など、具体的なイメージがわかない方も多いので
 はないのでしょうか。\n第2回目となる今回のウェビナ
 ーでは、実際にエンジニアとしても活躍されている、
 関口和真氏に、未経験からエンジニアを目指すために
 参考となる「まず最初に学ぶべきスキル」や「学ぶべ
 きアプリケーション」、「参考になるサイトや書籍、
 勉強方法」などについて分かりやすくお話しいただき
 ます。\n専門学校、職業訓練、社会人スクールなどで
 プログラミングを学ばれた方や、異業種からエンジニ
 アにキャリアチェンジを考えている方にオススメの内
 容となっています。\n▼こんな方にオススメ！\n\n専門
 学校やスクール等で、プログラミング等を勉強されて
 いる方\nIT業界未経験からエンジニア職を目指している
 方\nエンジニアの業務について知識を深めたい方\nIT業
 界に転職を考えている方\n\n▼今後の予定\n\n2025年5月1
 日（木）Vol.3 エンジニアの種類と働き方2025年5月15日（
 木）Vol.4 実際の案件や業務内容について\n\nタイムスケ
 ジュール\n\n\n\n時間\n内容\nspeaker\n\n\n\n\n19：00～19：05\n
 オープニング\nC&R社\n\n\n19：05～19：50\n講演\n関口和真 
 氏\n\n\n19：50～20：00\n質疑応答\n\n\n\n20：00～\nクロージ
 ング\n\n\n\n\n※講義内容は予定です。当日の受講者の進
 捗等によって変更になる場合があります。\n登壇者\n関
 口和真（せきぐち・かずま）氏\n株式会社コムセント
 取締役 CTO\nサイトデザイン、HTMLのコーディング、JavaSc
 ript・PHP等を利用したプログラム開発、iOS・Android向け
 アプリの作成、ウェブサーバーの実装、運用などトー
 タルでウェブサイトの作成を行う。テクノロジーを理
 解し、デザインやコーディング、サーバー運用やサー
 ビス運用のアドバイスをトータルで行える点が強み。\
 n株式会社コムセント(Web制作会社)のCTOとしてWebサイト
 作成、システム開発及びプログラム開発に従事。ECサ
 イトのカスタマイズ、フルスクラッチによるWebシステ
 ム開発、映像配信システムや映像配信、配信用スマー
 トフォンアプリ作成を主に手がける。\n大学・専門学
 校にて、Web制作の授業を担当（非常勤）。イベントや
 セミナーの登壇経験も豊富。 Dreamweaver等の著書も。\n\n
 参加費\n無料\n当ウェビナーについて\nこちらのサイト
 からもお申込みいただけます。\n▼C&R社で実施してい
 るオンライン講座・ウェビナー　一覧ページhttps://www.c
 -place.ne.jp/
LOCATION:
URL:https://techplay.jp/event/975823?utm_medium=referral&utm_source=ics&utm
 _campaign=ics
END:VEVENT
END:VCALENDAR
