BEGIN:VCALENDAR
VERSION:2.0
PRODID:-//https://techplay.jp//JP
CALSCALE:GREGORIAN
METHOD:PUBLISH
X-WR-CALDESC:Ltech#24 LIFULLの海外開発拠点CEOが語る！現地で
 経験するマネジメントとキャリアの魅力
X-WR-CALNAME:Ltech#24 LIFULLの海外開発拠点CEOが語る！現地で
 経験するマネジメントとキャリアの魅力
X-WR-TIMEZONE:Asia/Tokyo
BEGIN:VTIMEZONE
TZID:Asia/Tokyo
BEGIN:STANDARD
DTSTART:19700101T000000
TZOFFSETFROM:+0900
TZOFFSETTO:+0900
TZNAME:JST
END:STANDARD
END:VTIMEZONE
BEGIN:VEVENT
UID:976037@techplay.jp
SUMMARY:Ltech#24 LIFULLの海外開発拠点CEOが語る！現地で経験
 するマネジメントとキャリアの魅力
DTSTART;TZID=Asia/Tokyo:20250328T190000
DTEND;TZID=Asia/Tokyo:20250328T210000
DTSTAMP:20260423T222343Z
CREATED:20250314T035718Z
DESCRIPTION:イベント詳細はこちら\nhttps://techplay.jp/event/97603
 7?utm_medium=referral&utm_source=ics&utm_campaign=ics\n\nLtech#24 LIFULL
 の海外開発拠点CEOが語る！現地で経験するマネジメン
 トとキャリアの魅力\n概要\n株式会社 LIFULL主催の、技
 術（エンジニアリング・テクノロジー）をテーマにし
 たイベント「Ltech」、今回のテーマは『海外現地で経
 験する開発マネジメントとキャリアの魅力』です！\nLI
 FULLの重要な海外開発拠点であるベトナムとマレーシア
 からCEOの加藤と松尾より、グローバル開発体制づくり
 のための海外拠点での組織マネジメントとそのキャリ
 アについて存分に語ります！日本とは違う言葉や文化
 の壁…海外エンジニアメンバーのマネジメントはどん
 な学びや失敗があり、どのように成長できたのか？生
 活はどう変わるのか？などリアルな話を聞くことので
 きる勉強会です！\nこんな人におすすめ\n\n海外拠点と
 の開発マネジメントに興味がある\n海外連携の方法や
 グローバル開発体制に興味がある\nベトナムやマレー
 シアに開発を依頼したい企業の方\n\nもちろん、興味が
 ある方はどなたでも大歓迎です！\n開催概要\n\n日程：2
 025/03/28(金)　 18:50 開場・受付　 19:00 開始\n場所：株式
 会社LIFULL 8F（エレベーターからお上がりください）\n
 受付：LIFULL 本社 8F にて、参加申し込みしたアカウン
 ト名をお伝えください\nご用意いただくもの：お名刺(
 会場入場の際に着用していただくストラップにお入れ
 ください）\n\nタイムスケジュール\n\n\n\n時間\n内容\n\n\
 n\n\n18:50〜\n開場・受付開始\n\n\n19:00〜19:10\nご挨拶・ご
 案内\n\n\n19:10〜19:25\nエンジニアから海外拠点CEOへ ― 
 ベトナムで挑む組織づくりとグローバル開発LIFULL Tech V
 ietnam Co.\, Ltd.CEO 加藤 雄太\n\n\n19:25〜19:40\nマレーシア15
 年のリアル！CTO・CEO経験から語る海外キャリアの光と
 闇LIFULL Tech Malaysia Sdn. Bhd.CEO 松尾 直幸\n\n\n19:40〜20:10\n
 パネルディスカッション、質疑応答\n\n\n20:10〜21:00\n懇
 親会\n\n\n21:00\n閉会\n\n\n\n※ 当日予告なく時間配分・内
 容が変更になる可能性がございます。\nセッション\nエ
 ンジニアから海外拠点CEOへ ― ベトナムで挑む組織づ
 くりとグローバル開発\n\n自己紹介とキャリアの歩み・
 エンジニアからマネジメントの道へ進んだ理由・海外
 拠点CEO就任に至った経緯と決断時のリアルな心境\n\nLFT
 Vのグローバル開発戦略の舞台裏・LFTVが目指す未来と
 課題・ビジョン実現に向けた組織づくり\n\n海外拠点だ
 からこそ味わえるマネジメントの面白さ・海外拠点で
 働く魅力とキャリアとしてのメリット・海外でのマネ
 ジメントに挑戦したい方へのメッセージ\n\n\nスピーカ
 ー：加藤 雄太\nLIFULL Tech Vietnam Co.\, Ltd. CEO\n2016年12月にL
 IFULLへ入社。以来、主にLIFULL HOME'S 注文住宅領域のプロ
 ダクト開発を担当。 対象領域でのエンジニア組織のマ
 ネジメントに加え、開発現場におけるベトナム・マレ
 ーシアとの連携強化にも従事した。\n\n2023年5月よりLIFU
 LL Tech Vietnam CEOに就任。 本社・海外開発拠点での一体
 開発を目指すグローバル開発体制構築のため、現地代
 表として組織力強化と3拠点間の連携強化を推進中。\n\
 n\nマレーシア15年のリアル！CTO・CEO経験から語る海外
 キャリアの光と闇\n\n自己紹介・どんな経歴でマレーシ
 アに来たのか？・CTO・CEOになるまでのキャリアパス\n
 マレーシアで働く魅力（光）・キャリアアップ、給与
 ・待遇、働き方の違いなど・家族で移住するメリット\
 nマレーシアで働く厳しさ（闇）・失敗談と苦労したこ
 と・「海外転職で失敗する人」の共通点\n海外キャリ
 アを成功させるには？・海外で働くために必要なスキ
 ル・マインドセット・これからマレーシア・海外で働
 きたい人へのアドバイス\n\n\nスピーカー：松尾 直幸\nL
 IFULL Tech Malaysia Sdn. Bhd. CEO\n九州工業大学卒業後、国内
 ・インドの大手Sierでエンジニア・ブリッジSEとして開
 発に従事。その後、東京・マレーシアで会社を設立し
 、CTOとしてITチームの構築・教育を実施。\n\n2011年ベル
 トラ株式会社入社後、CTOとしてITチーム・システム構
 築やマレーシア開発拠点設立を主導し、執行役員とし
 て2018年のマザーズ上場に貢献。\n\n2022年よりエアロダ
 インジャパンCTOとして関連会社IPO準備を推進。2023年に
 LIFULL Tech Malaysiaを設立し、現地拡大と日本との連携を
 強化。2025年からはLIFULL Tech Vietnam役員も兼任し、本社
 を含めたグローバル展開を推進中。\n\n参加対象\n\nエ
 ンジニア\n\n参加費\n無料\n注意事項\n\nリクルーティン
 グ、勧誘など、採用目的でのイベント参加はお断りし
 ております。\nキャンセル待ち・補欠・落選の方はご
 参加いただくことが出来ませんのでご了承ください。\
 n欠席される場合は、お手数ですが速やかにキャンセル
 処理をお願い致します。\n
LOCATION:株式会社LIFULL 本社 8F 〒102-0083 東京都千代田区麹
 町１丁目４−４
URL:https://techplay.jp/event/976037?utm_medium=referral&utm_source=ics&utm
 _campaign=ics
END:VEVENT
END:VCALENDAR
