BEGIN:VCALENDAR
VERSION:2.0
PRODID:-//https://techplay.jp//JP
CALSCALE:GREGORIAN
METHOD:PUBLISH
X-WR-CALDESC:AMD が提供する AMD EPYC™ プロセッサ向けソフト
 ウェア開発製品のご紹介セミナー - AMD Zen Software Studio
X-WR-CALNAME:AMD が提供する AMD EPYC™ プロセッサ向けソフト
 ウェア開発製品のご紹介セミナー - AMD Zen Software Studio
X-WR-TIMEZONE:Asia/Tokyo
BEGIN:VTIMEZONE
TZID:Asia/Tokyo
BEGIN:STANDARD
DTSTART:19700101T000000
TZOFFSETFROM:+0900
TZOFFSETTO:+0900
TZNAME:JST
END:STANDARD
END:VTIMEZONE
BEGIN:VEVENT
UID:976141@techplay.jp
SUMMARY:AMD が提供する AMD EPYC™ プロセッサ向けソフトウ
 ェア開発製品のご紹介セミナー - AMD Zen Software Studio
DTSTART;TZID=Asia/Tokyo:20250424T133000
DTEND;TZID=Asia/Tokyo:20250424T143000
DTSTAMP:20260422T232738Z
CREATED:20250314T212112Z
DESCRIPTION:イベント詳細はこちら\nhttps://techplay.jp/event/97614
 1?utm_medium=referral&utm_source=ics&utm_campaign=ics\n\n概要\nAMD Zen 
 Software Studio は、AMD EPYC™ プロセッサ向けソフトウェア
 開発製品です。AMD Zen Software Studio は AMD により設計、
 メンテナンスされており AMD EPYC™ プロセッサ上で動作
 するソフトウェアの性能を向上させるためのコンパイ
 ラとライブラリ、解析ツールを含みます。\nこのセミ
 ナーでは、AMD Zen Software Studio の概要と各コンポーネン
 トの特長や入手方法、エクセルソフト株式会社が提供
 する AMD Zen Software Studio 向けサポート サービスについ
 て説明します。\n日程: 2025年4月24日 (木) 13:30 ～ 14:30会
 場: オンライン定員: 50 名参加費: 無料 (事前登録制)主
 催: エクセルソフト株式会社\n本トレーニングに関す
 る詳細は概要ページご参照ください。※当日の参加に
 つきましては、概要ページよりお申込みください。\n
 参加対象\n\nAMD EPYC™ プロセッサ搭載システムにおける
 ソフトウェアの最適化を検討されている方\nAOCC や AOCL 
 等の AMD Zen Software Studio に含まれるコンポーネントにご
 関心のある方\nAMD Zen Software Studio について情報収集を
 されている方\n\n参加費\n無料\n注意事項\n\nリクルーテ
 ィング、勧誘など、採用目的でのイベント参加はお断
 りしております。\n無断キャンセルや欠席が続く場合
 、次回以降の参加をお断りさせていただく場合がござ
 います。\n集客サイトでの集客期間は、開催日前日ま
 でです。当日の参加につきましては、概要ページより
 お申込みください。\n
LOCATION:
URL:https://techplay.jp/event/976141?utm_medium=referral&utm_source=ics&utm
 _campaign=ics
END:VEVENT
END:VCALENDAR
