BEGIN:VCALENDAR
VERSION:2.0
PRODID:-//https://techplay.jp//JP
CALSCALE:GREGORIAN
METHOD:PUBLISH
X-WR-CALDESC:Docker入門～コンテナ技術の基本と応用～
X-WR-CALNAME:Docker入門～コンテナ技術の基本と応用～
X-WR-TIMEZONE:Asia/Tokyo
BEGIN:VTIMEZONE
TZID:Asia/Tokyo
BEGIN:STANDARD
DTSTART:19700101T000000
TZOFFSETFROM:+0900
TZOFFSETTO:+0900
TZNAME:JST
END:STANDARD
END:VTIMEZONE
BEGIN:VEVENT
UID:976273@techplay.jp
SUMMARY:Docker入門～コンテナ技術の基本と応用～
DTSTART;TZID=Asia/Tokyo:20250422T190000
DTEND;TZID=Asia/Tokyo:20250422T210000
DTSTAMP:20260423T144016Z
CREATED:20250317T010041Z
DESCRIPTION:イベント詳細はこちら\nhttps://techplay.jp/event/97627
 3?utm_medium=referral&utm_source=ics&utm_campaign=ics\n\nDocker入門～
 コンテナ技術の基本と応用～\nクリーク･アンド･リ
 バー社（C&R社）は、2025年4月22日（火）にオンラインで
 「Docker入門講座」を開催します。\nDockerは、ソフトウ
 ェアのコンテナ化を実現するためのオープンソースプ
 ラットフォームです。コンテナ技術を用いることで、
 アプリケーションとその依存関係を一緒にパッケージ
 化し、どの環境でも一貫して動作させることができま
 す。メリットとしては環境の一貫性のほか、軽量で効
 率的な動作、迅速なデプロイ、柔軟なスケーリング、
 高い移植性、安全性の向上などが挙げられます。Docker
 を使用することで開発や運用がよりスムーズかつ効果
 的になります。\n今回のウェビナーでは、コンテナ技
 術の基本と、ハンズオンで実際どんなことができるの
 か学んでいきます。\n▼こんなことを学びます\n\nDocker
 の基礎・コンテナとは何か？・仮想マシンとの比較・D
 ockerの基本概念・Dockerのメリット、デメリット・実例\n
 \nDockerの操作・コンテナの起動と管理・Dockerイメージ
 の管理・Windows環境でのDocker\n\nDockerfile・Dockerfileとは・
 Dockerfileの作成\n\nコンテナ間通信・Dockerネットワーク
 ・DockerComposerを使ったコンテナ連携\n\n他ソリューショ
 ン・Podmanとの比較\n\n▼こんな方にオススメ！\n\nDocker
 を使って開発環境を効率化したい方\nコンテナ技術を
 導入してインフラ管理を改善したい方\nDockerの基本か
 ら学びたい方\n\n▼お申込前にご確認ください\n\nマシ
 ン環境を選ぶので、全てのマシンで動作することを保
 証するものではありません。\nマシン自体の設定によ
 っては動作しない、またはエラーが発生する可能性が
 あります。\nマシンに関係する質問に関してはお答え
 できません。\nLinux等に関する知識がある程度必要にな
 る可能性があります。\nお申し込みの方にはDockerDesktop
 のインストールマニュアルを事前に配布します。ご受
 講までに準備をお願いします。※インストールマニュ
 アルは開催1週間前くらいを目安にお申し込みの方にお
 送りします。\n\nタイムスケジュール\n\n\n\n時間\n内容\n
 speaker\n\n\n\n\n19：00～19：05\nオープニング\nC&R社\n\n\n19：
 05～20：50\n講演\n関口和真 氏\n\n\n20：50～21：00\n質疑応
 答\n\n\n\n21：00～\nクロージング\n\n\n\n\n※講義内容は予
 定です。当日の受講者の進捗等によって変更になる場
 合があります。\n登壇者\n関口和真（せきぐち・かずま
 ）氏\n株式会社コムセント取締役 CTO\nサイトデザイン
 、HTMLのコーディング、JavaScript・PHP等を利用したプロ
 グラム開発、iOS・Android向けアプリの作成、ウェブサー
 バーの実装、運用などトータルでウェブサイトの作成
 を行う。テクノロジーを理解し、デザインやコーディ
 ング、サーバー運用やサービス運用のアドバイスをト
 ータルで行える点が強み。\n株式会社コムセント(Web制
 作会社)のCTOとしてWebサイト作成、システム開発及びプ
 ログラム開発に従事。ECサイトのカスタマイズ、フル
 スクラッチによるWebシステム開発、映像配信システム
 や映像配信、配信用スマートフォンアプリ作成を主に
 手がける。\n大学・専門学校にて、Web制作の授業を担
 当（非常勤）。イベントやセミナーの登壇経験も豊富
 。 Dreamweaver等の著書も。\n\n参加費\n無料\n参加対象者\n
 ・ソフトウェア開発者の方・システム管理者の方・学
 生・初心者の方\n当ウェビナーについて\nこちらのサイ
 トからもお申込みいただけます。\n▼C&R社で実施して
 いるオンライン講座・ウェビナー　一覧ページhttps://ww
 w.c-place.ne.jp/
LOCATION:
URL:https://techplay.jp/event/976273?utm_medium=referral&utm_source=ics&utm
 _campaign=ics
END:VEVENT
END:VCALENDAR
