BEGIN:VCALENDAR
VERSION:2.0
PRODID:-//https://techplay.jp//JP
CALSCALE:GREGORIAN
METHOD:PUBLISH
X-WR-CALDESC:【大好評につき録画配信】エンジニアの開発
 スピードを加速させる生成AI活用法
X-WR-CALNAME:【大好評につき録画配信】エンジニアの開発
 スピードを加速させる生成AI活用法
X-WR-TIMEZONE:Asia/Tokyo
BEGIN:VTIMEZONE
TZID:Asia/Tokyo
BEGIN:STANDARD
DTSTART:19700101T000000
TZOFFSETFROM:+0900
TZOFFSETTO:+0900
TZNAME:JST
END:STANDARD
END:VTIMEZONE
BEGIN:VEVENT
UID:976295@techplay.jp
SUMMARY:【大好評につき録画配信】エンジニアの開発スピ
 ードを加速させる生成AI活用法
DTSTART;TZID=Asia/Tokyo:20250403T190000
DTEND;TZID=Asia/Tokyo:20250403T200000
DTSTAMP:20260420T153738Z
CREATED:20250317T055534Z
DESCRIPTION:イベント詳細はこちら\nhttps://techplay.jp/event/97629
 5?utm_medium=referral&utm_source=ics&utm_campaign=ics\n\nこんな方に
 おすすめ\n\nランサーズのAIプロダクトを牽引するエン
 ジニアの話を聞きたい\n生成AIを活用して開発生産性を
 向上させたい\n最新の生成AIツールを使いこなしたい\n\
 nイベント概要\nあなたは生成AIや関連ツールを活用し
 た開発生産性向上、本当にできていますか？\n本イベ
 ントでは、日々の開発業務をスムーズに進めたいエン
 ジニアの皆さまに向けて、生成AIを活用し開発スキル
 をワンステップ引き上げるノウハウや最新のAIツール
 の実用的な活用法をお届けします。プロフェッショナ
 ルな視点から、あなたの開発効率を高めるヒントを見
 つけませんか？\n開催日概要\n\n日時：2025/4/3（水）19：
 00－19：40\n会場：オンライン（Zoom）\n費用：無料\n主催
 ：ランサーズ株式会社\n\nイベント内容\n\nランサーズ
 のAIプロダクトを牽引するLLMLabs代表入江が語る、生成A
 Iプロダクト開発の背景\n今さら聞けない！開発速度を
 加速させるAI活用方法とは\n生成AI×開発業務における
 おすすめツールの紹介\n\nタイムスケジュール\n19:00〜19
 :05：オープニング19:05〜19:25：エンジニアの開発スピー
 ドを加速させる「今さら聞けない」生成AI活用法19:25〜
 19:37：Q&A19:37〜19:40：クロージング\nその他注意事項\n【
 情報の取り扱いについて】\n本ウェビナーは録画いた
 します。予めご了承ください。※視聴者の方のお顔や
 お名前が録画に表示されることはございません。各情
 報の取扱いは、プライバシーポリシーと個人情報の取
 扱いをご確認ください。①利用目的　・社内外での教
 育　・Webでの配信②利用範囲　・一般公開
LOCATION:
URL:https://techplay.jp/event/976295?utm_medium=referral&utm_source=ics&utm
 _campaign=ics
END:VEVENT
END:VCALENDAR
