BEGIN:VCALENDAR
VERSION:2.0
PRODID:-//https://techplay.jp//JP
CALSCALE:GREGORIAN
METHOD:PUBLISH
X-WR-CALDESC:メルカリが実践するUXリサーチのサービス・プ
 ロダクト開発への活用
X-WR-CALNAME:メルカリが実践するUXリサーチのサービス・プ
 ロダクト開発への活用
X-WR-TIMEZONE:Asia/Tokyo
BEGIN:VTIMEZONE
TZID:Asia/Tokyo
BEGIN:STANDARD
DTSTART:19700101T000000
TZOFFSETFROM:+0900
TZOFFSETTO:+0900
TZNAME:JST
END:STANDARD
END:VTIMEZONE
BEGIN:VEVENT
UID:976450@techplay.jp
SUMMARY:メルカリが実践するUXリサーチのサービス・プロ
 ダクト開発への活用
DTSTART;TZID=Asia/Tokyo:20250422T160000
DTEND;TZID=Asia/Tokyo:20250422T170000
DTSTAMP:20260425T172255Z
CREATED:20250318T060647Z
DESCRIPTION:イベント詳細はこちら\nhttps://techplay.jp/event/97645
 0?utm_medium=referral&utm_source=ics&utm_campaign=ics\n\n開催日時：2
 025年4月22日（火） 16:00〜17:00\n新しいサービスやプロダ
 クトを生み出すためのヒントがここに\nUXリサーチをど
 のように活かせば、より良いサービスやプロダクトに
 つながるのか？\n多くの企業がリサーチの重要性を認
 識しながらも、具体的な方法や活かし方に悩んでいま
 す。\nそのような中、メルカリでは数々のリサーチを
 サービスやプロダクトの開発に活かしています。そこ
 で本セミナーでは、株式会社メルカリのUXリサーチャ
 ーである草野孔希氏をお招きし、具体的な実践事例を
 通じてお話いただきます。\nセミナーで得られること\n
 ・メルカリにおけるサービスやプロダクト開発におけ
 るUXリサーチの活用事例\n・プロダクトオーナーや開発
 チームとの連携方法\n・組織全体でリサーチ文化を耕
 し続けるための工夫\nこのセミナーに参加することで
 、UXリサーチの価値をより深く理解し、あなたのサー
 ビスやプロダクトの開発を成功に導くためのヒントが
 得られます。ぜひこの機会にご参加ください。\n【オ
 ンライン参加（zoom）限定セミナー】\n主催 ： 株式会
 社メンバーズ \n■スピーカー\n\n草野 孔希 氏\n株式会
 社メルカリ\nUXリサーチャー\n\n電気通信大学大学院修
 士課程修了後、通信事業会社の研究所に入社し、デザ
 イン方法論の研究および研究知見を活かしたコンサル
 ティングに従事。同時期に社会人博士として慶應義塾
 大学院大学システムデザイン・マネジメント研究科に
 て博士後期課程を修了 博士（SDM学）。2018年11月にメル
 ペイへ入社し、UXリサーチを活用したサービスデザイ
 ンに取り組む。著書「はじめてのUXリサーチ」。\n\n\n
 倉本 陽子\n株式会社メンバーズ　デジタルマーケティ
 ング本部\nポップインサイトカンパニー　UXデザイナー
 \n\n2020年ポップインサイトカンパニーに入社し、ECサイ
 ト運営企業、通信会社、フィンテック企業など幅広い
 業界でUXリサーチャーとして従事。定性・定量調査を
 通じてユーザーのニーズや課題を把握し、プロダクト
 やサービスの改善提案を行う。\n\n\n■こんな方におす
 すめ！\n\n新規事業開発やサービス／プロダクト開発に
 リサーチを取り入れたい方\nプロダクトマネージャー
 をされている方\n開発業務に携わっている方\nUXデザイ
 ンに携わっている方\n\n※メンバーズ、また登壇企業と
 同業の方はご遠慮いただく場合がございます点、あら
 かじめご了承くださいませ。\n■参加の流れ\n費用：無
 料（事前登録制）\nZOOMウェビナーによるオンライン配
 信を予定しております。\nセミナー前日にご登録いた
 だいたメールアドレスへ参加方法をご案内します。（
 またはconnpassのメール機能にてご連絡します）\n※メン
 バーズのWebサイト https://www.members.co.jp/seminar/20250422_pop 
 でもお申込みを受け付けております。 募集締切後のお
 申込みはをそちらをご利用ください。\n●注意事項【
 必ずご確認ください】\n本応募フォームで取得した回
 答内容及び、個人情報は株式会社メンバーズグループ
 各社及び 株式会社メルカリがお取り扱いいたします。
 ご確認いただいた上でお申し込みください。\n※株式
 会社メンバーズの個人情報取り扱いについての詳細は
 こちら\nhttps://www.members.co.jp/policy/\n※株式会社メルカリ
 の個人情報取り扱いについて詳細はこちら\nhttps://static
 .jp.mercari.com/privacy\n\n※申し込み内容は登壇者に共有し
 ます。\n※正確な情報をご入力いただけない場合、ご
 視聴をお断りする場合がございます。\n※株式会社メ
 ンバーズと同業の方（フリーランス含む）はご遠慮い
 ただいております。\n■お問合せ\n株式会社メンバーズ
  \nセミナー運営事務局\nMAIL：sales_marketing@members.co.jp
LOCATION:オンライン参加
URL:https://techplay.jp/event/976450?utm_medium=referral&utm_source=ics&utm
 _campaign=ics
END:VEVENT
END:VCALENDAR
