BEGIN:VCALENDAR
VERSION:2.0
PRODID:-//https://techplay.jp//JP
CALSCALE:GREGORIAN
METHOD:PUBLISH
X-WR-CALDESC:「なんちゃってデータサイエンティストを卒
 業する方法 」 ～データサイエンティストのリアル：
 現場の声から学ぶキャリアとスキル～
X-WR-CALNAME:「なんちゃってデータサイエンティストを卒
 業する方法 」 ～データサイエンティストのリアル：
 現場の声から学ぶキャリアとスキル～
X-WR-TIMEZONE:Asia/Tokyo
BEGIN:VTIMEZONE
TZID:Asia/Tokyo
BEGIN:STANDARD
DTSTART:19700101T000000
TZOFFSETFROM:+0900
TZOFFSETTO:+0900
TZNAME:JST
END:STANDARD
END:VTIMEZONE
BEGIN:VEVENT
UID:976532@techplay.jp
SUMMARY:「なんちゃってデータサイエンティストを卒業す
 る方法 」 ～データサイエンティストのリアル：現場
 の声から学ぶキャリアとスキル～
DTSTART;TZID=Asia/Tokyo:20250325T190000
DTEND;TZID=Asia/Tokyo:20250325T200000
DTSTAMP:20260421T140245Z
CREATED:20250319T005027Z
DESCRIPTION:イベント詳細はこちら\nhttps://techplay.jp/event/97653
 2?utm_medium=referral&utm_source=ics&utm_campaign=ics\n\n「なんちゃ
 ってデータサイエンティストを卒業する方法 」 ～デ
 ータサイエンティストのリアル：現場の声から学ぶキ
 ャリアとスキル～\n株式会社クリーク･アンド･リバ
 ー社（C&R社）主催のセミナー 「なんちゃってデータサ
 イエンティストを卒業する方法 ～データサイエンティ
 ストのリアル：現場の声から学ぶキャリアとスキル～
 」 が、2025年3月25日（火）19:00より開催されます。本ウ
 ェビナーでは、データサイエンティストやAIエンジニ
 アを対象に、実務で活躍するためのスキルやキャリア
 戦略を解説する内容となっています。登壇者には、東
 京大学 副理事 兼 東京大学エクステンション株式会社 
 代表取締役社長 山本 貴史 氏と、澪標アナリティクス
 株式会社（TISインテックグループ） 代表取締役社長 
 井原 渉 氏 を迎え、データ分析・AI領域の最前線で活
 躍する視点から、業界の現状や求められるスキルを深
 掘り。未経験からの転職成功事例や、有効な学習法、
 評価されるポイントなどをリアルにお伝えします。ス
 キルアップや転職を目指す方にとって、実践的な知識
 が得られる貴重な機会です。ぜひご参加ください。\n
 ▼本ウェビナーに参加するメリット\n\nデータサイエン
 ティストの実態をリアルに知ることができる\n未経験
 者がどのようにキャリアチェンジできるのか、成功事
 例から学べる\n転職時に企業が本当に評価するポイン
 トが分かる\n「Python、SQL、統計」どのスキル・学習が
 有効なのか、学ぶべきことが明確になる\n企業が求め
 るスキル・経験を知ることで、戦略的にキャリアを構
 築できる\n\nデータサイエンティストを目指す方、スキ
 ルアップを考えている方にとって、「実務で通用する
 スキル」 を知る貴重な機会です。\n▼こんな方におス
 スメ（こんな事情に心当たりしませんか？）\n\nデータ
 サイエンティストになりたいが、学ぶべきことが多す
 ぎて悩んでいる\n「今の自分のスキルでデータサイエ
 ンティストとして通用する？」と疑問を持っている\n
 データを使っている仕事だが、自分が本当にデータサ
 イエンティストなのか不安に思う\n転職で市場価値を
 上げたいが、データサイエンスの実務経験がないと難
 しそう\n\nタイムスケジュール\n（開始5分前から入室可
 能）________________________________________1. オープニング（5
 分）挨拶 & 趣旨説明〇クリーク・アンド・リバー社の
 紹介〇データサイエンス領域の市況〇東京大学エクス
 テンションとの取り組み________________________________________
 2. パネリスト紹介・講座紹介（15分）〇経歴と自己紹
 介〇データサイエンス本格養成プログラムについて____
 ____________________________________3. パネルディスカッション
 （30分）________________________________________4. Q&A（5分）〇ウ
 ェビナー参加者質疑応答________________________________________
 5. 「本日のおさらい & まとめ」（5分）〇アンケートの
 案内\n\n登壇者\n山本 貴史（やまもと・たかふみ）氏\n
 中央大学卒。株式会社リクルート入社、2000年に先端科
 学技術インキュベーションセンター（現株式会社東京
 大学TLO）代表取締役社長就任（2023年退任）。2018年か
 ら東京大学 副理事兼務、2020年東京大学エクステンシ
 ョン株式会社 代表取締役社長兼務。2023年理化学研究
 所 副理事、2024年株式会社理研イノベーション 代表取
 締役社長兼務\n\n井原 渉（いはら・わたる）氏\n大学在
 学中に外資系コンサルティング会社の日本法人を設立
 。老舗中堅ゲーム会社にて分析部門の立上げにリーダ
 ーとして参画。同時に、大学の研究センターにおいて
 もアクセスログに関するデータマイニングの応用論を
 研究。 その後、東証1部上場企業にて国内大手通信事
 業会社におけるゲームやその他デジタルサービスのデ
 ータ分析・KPI設定・分析基盤構築に従事。 2014年に澪
 標アナリティクス株式会社を設立し、2020年TISインテッ
 クグループに参入。\n\n参加費\n無料\n参加お申し込み
 方法\n\n\nこちらのサイトからもお申込みください\n\n\n
 ▼C&R社で実施しているオンライン講座・ウェビナー　
 一覧ページhttps://www.c-place.ne.jp/
LOCATION:
URL:https://techplay.jp/event/976532?utm_medium=referral&utm_source=ics&utm
 _campaign=ics
END:VEVENT
END:VCALENDAR
