BEGIN:VCALENDAR
VERSION:2.0
PRODID:-//https://techplay.jp//JP
CALSCALE:GREGORIAN
METHOD:PUBLISH
X-WR-CALDESC:【スリーシェイク×NTTデータビジネスブレイン
 ズ共催】脱・属人化！改正電帳法対応をノーコードETL
 ツールで自動化し、業務負担を劇的に軽減する方法
X-WR-CALNAME:【スリーシェイク×NTTデータビジネスブレイン
 ズ共催】脱・属人化！改正電帳法対応をノーコードETL
 ツールで自動化し、業務負担を劇的に軽減する方法
X-WR-TIMEZONE:Asia/Tokyo
BEGIN:VTIMEZONE
TZID:Asia/Tokyo
BEGIN:STANDARD
DTSTART:19700101T000000
TZOFFSETFROM:+0900
TZOFFSETTO:+0900
TZNAME:JST
END:STANDARD
END:VTIMEZONE
BEGIN:VEVENT
UID:976536@techplay.jp
SUMMARY:【スリーシェイク×NTTデータビジネスブレインズ
 共催】脱・属人化！改正電帳法対応をノーコードETLツ
 ールで自動化し、業務負担を劇的に軽減する方法
DTSTART;TZID=Asia/Tokyo:20250513T120000
DTEND;TZID=Asia/Tokyo:20250513T130000
DTSTAMP:20260424T094437Z
CREATED:20250319T012212Z
DESCRIPTION:イベント詳細はこちら\nhttps://techplay.jp/event/97653
 6?utm_medium=referral&utm_source=ics&utm_campaign=ics\n\n【スリーシ
 ェイク×NTTデータビジネスブレインズ共催】脱・属人
 化！改正電帳法対応をノーコードETLツールで自動化し
 、業務負担を劇的に軽減する方法\nセミナー概要\n改正
 電子帳簿保存法への対応は完了したものの、本来期待
 していた業務効率化が進まないなど、以下のような課
 題を感じたことはありませんか？\n\n電帳法対応をスタ
 ートしたが、全社、全文書まで拡大できていない\n電
 帳法対応の運用ルールや社内教育を行ったが、徹底さ
 れず、正しく運用できているかどうかの検証も難しい\
 nデータの取り込みや加工、仕訳処理などに多くの手作
 業が残っていて面倒、かつヒューマンエラーの発生リ
 スクもあるい\n担当者しか業務内容を理解しておらず
 、属人化のリスクや残業続きで疲弊している\n他シス
 テムのデータも電帳法対応システムに集約したいが、
 情シス部門とうまく連携がとれない、システム同士の
 機能要件が合わない\n\n電帳法対応は業務効率化のスタ
 ート地点に過ぎません。\n本セミナーでは、プログラ
 ミング不要のノーコードデータ連携ツールを活用した
 、電帳法対応に伴う煩雑な業務を自動化し、手作業ゼ
 ロ・人的ミスゼロ・業務工数削減を目指す具体的な方
 法をご紹介します。\n電帳法への対応だけではなく、
 周辺業務の効率化も視野に入れることで、属人化の解
 消や、データガバナンスの強化、そしてコア業務に集
 中できる環境を構築できます。\n電帳法対応をゴール
 にせず、真の業務効率化を実現するきっかけとなれば
 幸いです。\nこんな方におすすめ\n\n電帳法対応システ
 ムを導入したものの、データの取り込みや加工、仕訳
 処理などに多くの手作業が残っていて手間\n各システ
 ムから電帳法対応システムへの登録が面倒\n手作業に
 よるミスやデータの不整合がリスクに繋がると感じて
 いる\n改正電帳法への対応状況を常に把握し、監査対
 応に備えたい\nこれから電帳法対応システムを導入検
 討のお客様、乗り換えを検討しているお客様\n\nスピー
 カー紹介\n山本恒夫／ 株式会社NTTデータビジネスブレ
 インズ　ビジネスソリューション事業部ソリューショ
 ングループ　課長\n2001年より営業職として活躍し、現
 在はClimberCloudをはじめとするソリューションサービス
 を提供するチームの責任者を務めています。電子帳簿
 保存法の専門家として、1998年より500社を超える企業様
 の法制度対応を支援。チームを率い、お客様に最適な
 ソリューションを提供することで、企業のデジタルト
 ランスフォーメーションを支援しています。\n関根 章
 雄 ／ 株式会社スリーシェイク　Incubation事業部　パー
 トナーセールス　マネージャー\n大手通信キャリアや
 独立系ソフトウェアベンダーでのBtoBセールス・セール
 ス企画に加え営業責任者を歴任。NW、監視、バックオ
 フィス、自動化ツールなど大手からスタートアップ企
 業まで規模を問わず営業実績を積む。新規サービスの
 企画・立上げも経験。スリーシェイクにJoin後は、クラ
 ウド型ETLツールReckonerのパートナーセールス責任者と
 して、販売パートナー、アライアンスパートナーなど
 あらゆるパートナーの構築と販売促進支援を行ってい
 る。\n注意事項\n\n本セミナーは法人のお客様限定とな
 ります。また、フリーランスの方や同業者様のお申込
 みはお断りさせていただく場合がございます。\n本セ
 ミナーは2025年2月13日（木）に実施した内容の録画配信
 となります。\n視聴URLは別途メールにてお送りいたし
 ます。\n
LOCATION:
URL:https://techplay.jp/event/976536?utm_medium=referral&utm_source=ics&utm
 _campaign=ics
END:VEVENT
END:VCALENDAR
