BEGIN:VCALENDAR
VERSION:2.0
PRODID:-//https://techplay.jp//JP
CALSCALE:GREGORIAN
METHOD:PUBLISH
X-WR-CALDESC:【無料ウェビナー】最新UI/UX分析 Z世代は本当
 に使いやすいの？-ホテル予約サイト2社比較-
X-WR-CALNAME:【無料ウェビナー】最新UI/UX分析 Z世代は本当
 に使いやすいの？-ホテル予約サイト2社比較-
X-WR-TIMEZONE:Asia/Tokyo
BEGIN:VTIMEZONE
TZID:Asia/Tokyo
BEGIN:STANDARD
DTSTART:19700101T000000
TZOFFSETFROM:+0900
TZOFFSETTO:+0900
TZNAME:JST
END:STANDARD
END:VTIMEZONE
BEGIN:VEVENT
UID:976550@techplay.jp
SUMMARY:【無料ウェビナー】最新UI/UX分析 Z世代は本当に使
 いやすいの？-ホテル予約サイト2社比較-
DTSTART;TZID=Asia/Tokyo:20250327T120000
DTEND;TZID=Asia/Tokyo:20250327T124500
DTSTAMP:20260420T024005Z
CREATED:20250319T044711Z
DESCRIPTION:イベント詳細はこちら\nhttps://techplay.jp/event/97655
 0?utm_medium=referral&utm_source=ics&utm_campaign=ics\n\n【無料ウェ
 ビナー】最新UI/UX分析 Z世代は本当に使いやすいの？-
 ホテル予約サイト2社比較-\n概要\n今回のウェビナーで
 は、ホテル予約サイト2社のUI分析の発表を弊社インタ
 ーンのZ世代2名に行ってもらいます！\n分析手法は、専
 門的視点で定性的なUI分析を行う「ヒューリスティッ
 ク分析」。通常であれば、経験豊富なUI/UXのプロが分
 析を行いますが、今回はその勉強を行っているインタ
 ーン生が、ホテル予約サイト2社のUI分析を行います！\
 nまだまだ勉強中の彼らですが、意外なレベルの高さに
 驚く！？かもしれません。WebサイトのUI改善や、Z世代
 のサイト利用のポイントが、分かる内容になっており
 ますので、ぜひご参加いただけますと幸いです。※イ
 ンターン生はアバターで登場します。\n特典\nウェビナ
 ー内アンケートにご回答いただいた皆様には、ウェビ
 ナー資料をプレゼントさせていただきます。\nさらに
 、【抽選で3名様限定】でZ世代による無料のヒューリ
 スティック分析サービスをご提供いたします。パンタ
 グラフのノウハウを学んだZ世代のハイクオリティな分
 析をぜひご体感ください！\n★特典内容★当選者様の
 ご指定の1ページをヒューリスティック分析させていた
 だきます。\n★抽選の参加条件★・同業他社および当
 社の競合企業にご所属でない方・学生、個人でない方\
 n★備考★ご当選された場合、お電話にてご連絡させて
 いただきます。\n開催日時\n2025年3月27日（木）12:00-12:45
 \n視聴方法\nウェビナーはZoomにて開催いたします。参
 加お申し込み後、URLを共有いたしますので、開催日時
 になりましたら、アクセスをお願いいたします。\n内
 容\n\nホテル予約サイト2社についてヒューリスティッ
 ク分析を発表\nパンタグラフのインターン生によるZ世
 代の意見が楽しめるコンテンツ\nヒューリスティック
 分析により洗い出された問題点に対して改善内容を提
 案\n\nこんな方におすすめ\n\nWebサイト、アプリのUI改善
 をしたいが、どこをどう改善すべきか悩まれている方\
 n同業他社のWebサイト、アプリのUIについて理解を深め
 たい方\nZ世代のユーザー目線によるUI分析を参考にし
 たい方\n\nタイムスケジュール\n\n\n\n時間\n内容\n\n\n\n\n1
 1:50〜\n開場\n\n\n12:00〜12:05\n今回の対象サービス・流れ
 紹介\n\n\n12:05〜12:10\n業界特徴、市場調査\n\n\n12:10〜12:30
 \nZ世代によるヒューリスティック分析発表\n\n\n12:30〜12
 :40\n分析まとめ、分析後のアクション\n\n\n12:40～12:45\n
 質疑応答\n\n\n12:45\n閉場\n\n\n\n※ 当日予告なく時間配分
 ・内容が変更になる可能性がございます。\n参加対象\n
 \nマーケター\nサイト管理者\nサイト運営に携わってい
 る方\n\n参加費\n無料\n注意事項\n\n当ウェビナーの撮影
 録音はお控えください。\n同業他社および当社の競合
 にあたる企業の方、学生、個人の方のご参加はご遠慮
 ください。\n
LOCATION:
URL:https://techplay.jp/event/976550?utm_medium=referral&utm_source=ics&utm
 _campaign=ics
END:VEVENT
END:VCALENDAR
