BEGIN:VCALENDAR
VERSION:2.0
PRODID:-//https://techplay.jp//JP
CALSCALE:GREGORIAN
METHOD:PUBLISH
X-WR-CALDESC:【オフライン】中央区(東京)でTableauもくもく
 会(京橋・宝町・銀座一丁目) 3/29(土) 9:00-12:00
X-WR-CALNAME:【オフライン】中央区(東京)でTableauもくもく
 会(京橋・宝町・銀座一丁目) 3/29(土) 9:00-12:00
X-WR-TIMEZONE:Asia/Tokyo
BEGIN:VTIMEZONE
TZID:Asia/Tokyo
BEGIN:STANDARD
DTSTART:19700101T000000
TZOFFSETFROM:+0900
TZOFFSETTO:+0900
TZNAME:JST
END:STANDARD
END:VTIMEZONE
BEGIN:VEVENT
UID:976618@techplay.jp
SUMMARY:【オフライン】中央区(東京)でTableauもくもく会(京
 橋・宝町・銀座一丁目) 3/29(土) 9:00-12:00
DTSTART;TZID=Asia/Tokyo:20250329T090000
DTEND;TZID=Asia/Tokyo:20250329T120000
DTSTAMP:20260423T091051Z
CREATED:20250319T090509Z
DESCRIPTION:イベント詳細はこちら\nhttps://techplay.jp/event/97661
 8?utm_medium=referral&utm_source=ics&utm_campaign=ics\n\n【オフライ
 ン】中央区でTableauもくもく会(京橋・銀座一丁目・宝
 町)\n概要\n中央区の会議室を借り、ゆるい感じでもく
 もく会をやります。各自やりたい作業をしたり、雑談
 したりします。\n途中参加・早退OKです！気軽にご参加
 ください！※途中参加の方は事前に連絡いただけると
 助かります。\n参加対象\n\nTableauに関係する方\n\n\nこん
 な人におススメ\n\n家だと作業しづらいので外で作業し
 たい方\n誰かに相談したい方\nTableauの話がしたい方\nオ
 フラインで誰かと繋がりたい方\n\n\n場所・参加費\n\n場
 所：京橋区民館 5号室洋室 \n\n費用：会議室代(800円)を
 人数割り\n\n\n主催者紹介\nSeiji_Suna https://x.com/Seiji_Suna\n2
 018年からTableauを利用。仕事ではTableauのダッシュボー
 ド構築・運用を行う。小売業や商業施設のデータが得
 意。\n趣味はテニス、東海道53次ウォーキング、ちいか
 わ。Tableauうまうま会幹事。\n\n注意事項\n\n開催前日の1
 8時までに2名以上集まらない場合は中止とします。\nリ
 クルーティング、勧誘など、採用目的でのイベント参
 加はお断りしております。\nキャンセル待ち・補欠・
 落選の方はご参加いただくことが出来ませんのでご了
 承ください。\n欠席される場合は、お手数ですが速や
 かにキャンセル処理をお願い致します。\n無断キャン
 セルや欠席が続く場合、次回以降の参加をお断りさせ
 ていただく場合がございます。\n
LOCATION:京橋区民館 東京都中央区京橋２丁目６−７
URL:https://techplay.jp/event/976618?utm_medium=referral&utm_source=ics&utm
 _campaign=ics
END:VEVENT
END:VCALENDAR
