BEGIN:VCALENDAR
VERSION:2.0
PRODID:-//https://techplay.jp//JP
CALSCALE:GREGORIAN
METHOD:PUBLISH
X-WR-CALDESC:「表計算」「データ集計・分析」「視覚化」 
 ３つに分けて体系を理解するExcelシリーズ 表計算編 Vol
 .1【表計算の基礎】
X-WR-CALNAME:「表計算」「データ集計・分析」「視覚化」 
 ３つに分けて体系を理解するExcelシリーズ 表計算編 Vol
 .1【表計算の基礎】
X-WR-TIMEZONE:Asia/Tokyo
BEGIN:VTIMEZONE
TZID:Asia/Tokyo
BEGIN:STANDARD
DTSTART:19700101T000000
TZOFFSETFROM:+0900
TZOFFSETTO:+0900
TZNAME:JST
END:STANDARD
END:VTIMEZONE
BEGIN:VEVENT
UID:976957@techplay.jp
SUMMARY:「表計算」「データ集計・分析」「視覚化」 ３つ
 に分けて体系を理解するExcelシリーズ 表計算編 Vol.1【
 表計算の基礎】
DTSTART;TZID=Asia/Tokyo:20250428T190000
DTEND;TZID=Asia/Tokyo:20250428T200000
DTSTAMP:20260422T031538Z
CREATED:20250324T003730Z
DESCRIPTION:イベント詳細はこちら\nhttps://techplay.jp/event/97695
 7?utm_medium=referral&utm_source=ics&utm_campaign=ics\n\n「表計算」
 「データ集計・分析」「視覚化」 ３つに分けて体系を
 理解するExcelシリーズ 表計算編 Vol.1【表計算の基礎】\
 nクリーク･アンド･リバー社（C&R社）は、2025年4月28
 日（月）から、Excelの機能を「表計算ソフト」から「
 データ集計ツール」として再認識し、より効果的に活
 用するための知識を身に着けていただける「３つに分
 けて体系を理解するExcelシリーズ」を開催します。\nこ
 のシリーズでは、**「表計算」「データ集計・分析」
 「視覚化」**に分けて、ゆっくりじっくりとしたペー
 スで、詳細な機能まで紹介していく予定です。\nまず
 、表計算セッションでは、基本的な表計算の操作方法
 から始まり、関数や数式の活用方法、そしてデータ入
 力と管理の効率化について学びます。次に、データ集
 計・分析セッションでは、データ集計の基本であるテ
 ーブル機能から、ピボットテーブルによる分析、パワ
 ークエリとパワーピボットでの集計をご紹介します。
 最後に、視覚化セッションでは、グラフやチャートの
 作成方法、データの視覚的表現方法、ピボットグラフ
 やスパークラインなどについて詳しく解説します。\n1
 回目の今回は、表計算の基礎について演習をしながら
 学びます。\n▼こんなことを学びます。\n\nデータ入力
 とセルの書式設定概要\n値とは？　数式とは？\n効率の
 良い入力とは？\nシンプルなセルの書式を設定する\n\n
 ▼こんな方にオススメ！\n\n基本的な操作を既に習得し
 ており、さらにスキルを向上させたい方\nExcelの機能を
 活用して、日常業務の効率化を図りたい方\n表計算ソ
 フトとしてだけでなく、データ集計ツールとしてのExce
 lの可能性を探りたい方\n\n▼３つに分けて体系を理解
 するExcelシリーズ 表計算編　カリキュラム\n※月1～2回
 くらいのペースで実施していきます。Vol.1 表計算の基
 礎Vol.2 表の見た目を整えるVol.3 簡単な関数を使うVol.4 
 一歩進んだ関数と参照方式Vol.5 少し発展した関数を使
 うVol.6 複数のシートを活用するVol.7 上手な印刷の仕方V
 ol.8 日付や時刻を扱うVol.9 条件に応じて見せ方を変え
 るVol.10 作表に便利なその他の機能\nデータ集計・分析
 編、視覚化編もそれぞれ10回程度に分けて実施予定で
 す。\nタイムスケジュール\n\n\n\n時間\n内容\nspeaker\n\n\n\
 n\n19：00～19：05\nオープニング\nC&R社\n\n\n19：05～19：50\n
 講演\n古澤登志美 氏\n\n\n19：50～20：00\n質疑応答\n\n\n\n
 20：00～\nクロージング\n\n\n\n\n※ 当日予告なく時間配
 分・内容が変更になる可能性がございます。\n登壇者\n
 古澤　登志美（ふるさわ・としみ）氏\n株式会社ワン
 ズ・ワン代表取締役中小企業診断士／ＩＴコーディネ
 ータ\n2001年、パソコン出張サポート業を起ち上げ、同
 時にＩＴ系セミナー講師としても活動を開始。Excelを
 始めとしたOfficeアプリの他、ホームページ作成や画像
 処理など、初心者にもわかりやすく伝えることを得意
 とする。現在はＩＴ活用支援を中心に、中小企業向の
 生産性向上に向けたコンサルティングを行っている。2
 017年、中小企業診断士登録。2021年ＩＴコーディネータ
 認定。\n「Excelパワークエリではじめるデータ集計の自
 動化」（インプレス刊）著者。\n「Excelパワーピボット
 で極める一歩先の集計・分析」（インプレス刊）著者
 。\n「できるDAX関数 Power BI＆Excelパワーピボット対応」
 （インプレス刊）著者。\n\n「Excelパワークエリではじ
 めるデータ集計の自動化」（インプレス刊）「Excelパ
 ワーピボットで極める一歩先の集計・分析」（インプ
 レス刊）「できるDAX関数 Power BI＆Excelパワーピボット
 対応」（インプレス刊）\n参加費\n無料\n当ウェビナー
 について\n\n\nこちらのサイトからもお申込みいただく
 ことができます。\n\n\n▼C&R社で実施しているオンライ
 ン講座・ウェビナー　一覧ページhttps://www.c-place.ne.jp/
LOCATION:
URL:https://techplay.jp/event/976957?utm_medium=referral&utm_source=ics&utm
 _campaign=ics
END:VEVENT
END:VCALENDAR
