BEGIN:VCALENDAR
VERSION:2.0
PRODID:-//https://techplay.jp//JP
CALSCALE:GREGORIAN
METHOD:PUBLISH
X-WR-CALDESC:Smartsheet ハンズオン セミナー入門編
X-WR-CALNAME:Smartsheet ハンズオン セミナー入門編
X-WR-TIMEZONE:Asia/Tokyo
BEGIN:VTIMEZONE
TZID:Asia/Tokyo
BEGIN:STANDARD
DTSTART:19700101T000000
TZOFFSETFROM:+0900
TZOFFSETTO:+0900
TZNAME:JST
END:STANDARD
END:VTIMEZONE
BEGIN:VEVENT
UID:977074@techplay.jp
SUMMARY:Smartsheet ハンズオン セミナー入門編
DTSTART;TZID=Asia/Tokyo:20250411T130000
DTEND;TZID=Asia/Tokyo:20250411T143000
DTSTAMP:20260422T123553Z
CREATED:20250324T201827Z
DESCRIPTION:イベント詳細はこちら\nhttps://techplay.jp/event/97707
 4?utm_medium=referral&utm_source=ics&utm_campaign=ics\n\nSmartsheet ハ
 ンズオン セミナー入門編 ～ 基本機能の使い方を学び
 、Smartsheet でプロジェクト管理を効率化しよう ～\n概
 要\nプロジェクト管理で課題を感じることはありませ
 んか。例えば、Excel で管理すると、ファイルのバージ
 ョンが増えて管理が煩雑になったり、タスクの依頼や
 リマインダーを手動で行う必要があったりします。さ
 らに、セル単位の変更履歴を残せないため修正の追跡
 が難しく、関係者ごとに必要な情報だけを共有するこ
 ともできません。こうした問題に直面していませんか
 。Smartsheet を利用すると、これらの課題を解決できる
 だけでなく、以下も実現します。\n\nDX 化を推進\nタス
 クの抜け漏れ防止\n情報を一元管理\n社内外との情報共
 有\n業務をラクラク自動化\n\n本セミナーでは、シート
 でのガントチャート表示や、自動化での通知機能、複
 数プロジェクトの情報を集約して 1 つにまとめて表示
 するレポート機能など、さまざまな基本機能を体験い
 ただけます。また、Smartsheet を活用すると、どのよう
 に効率良くプロジェクトを管理できるのかを学べます
 。\nこれから Smartsheet の評価、導入をご検討いただく
 お客様のスタートアップに最適です。プロジェクト、
 タスク、工程管理ツールにご興味がございましたら、
 お気軽にご参加ください。\nハンズオン形式での開催
 ですが、聴講のみの参加も可能です。\n参加対象者\n\n
 プロジェクト、タスク、工程管理ツールをお探しのお
 客様\nSmartsheet 製品を使い始めたお客様\n業務効率化に
 興味のある方\nDX 推進に興味のある方\n\n参加費\n無料\n
 参加要件\nハンズオンで参加される場合は、開催当日
 に有効な Smartsheet のアカウントを保有されている必要
 がございます (トライアル版でも可能です)。トライア
 ル版の登録はこちらから。\n参加方法\n本セミナーでは
  Zoom を利用して開催します。参加申請頂いた方には随
 時 Zoom への登録を行います。Zoom リンクはご登録いた
 だいたメールアドレスにご連絡させていただきます。
 直接 Zoom へご登録をご希望の方は、こちらから。\n注
 意事項\n\nリクルーティング、勧誘など、採用目的での
 イベント参加はお断りしております。\nキャンセル待
 ち・補欠・落選の方はご参加いただくことが出来ませ
 んのでご了承ください。\n欠席される場合は、お手数
 ですが速やかにキャンセル処理をお願い致します。\n
 無断キャンセルや欠席が続く場合、次回以降の参加を
 お断りさせていただく場合がございます。\n
LOCATION:
URL:https://techplay.jp/event/977074?utm_medium=referral&utm_source=ics&utm
 _campaign=ics
END:VEVENT
END:VCALENDAR
